BEGIN:VCALENDAR
VERSION:2.0
PRODID:-//Beer.be - ECPv6.15.20//NONSGML v1.0//EN
CALSCALE:GREGORIAN
METHOD:PUBLISH
X-ORIGINAL-URL:https://beer.be
X-WR-CALDESC:Évènements pour Beer.be
REFRESH-INTERVAL;VALUE=DURATION:PT1H
X-Robots-Tag:noindex
X-PUBLISHED-TTL:PT1H
BEGIN:VTIMEZONE
TZID:Europe/Brussels
BEGIN:DAYLIGHT
TZOFFSETFROM:+0100
TZOFFSETTO:+0200
TZNAME:CEST
DTSTART:20220327T010000
END:DAYLIGHT
BEGIN:STANDARD
TZOFFSETFROM:+0200
TZOFFSETTO:+0100
TZNAME:CET
DTSTART:20221030T010000
END:STANDARD
BEGIN:DAYLIGHT
TZOFFSETFROM:+0100
TZOFFSETTO:+0200
TZNAME:CEST
DTSTART:20230326T010000
END:DAYLIGHT
BEGIN:STANDARD
TZOFFSETFROM:+0200
TZOFFSETTO:+0100
TZNAME:CET
DTSTART:20231029T010000
END:STANDARD
BEGIN:DAYLIGHT
TZOFFSETFROM:+0100
TZOFFSETTO:+0200
TZNAME:CEST
DTSTART:20240331T010000
END:DAYLIGHT
BEGIN:STANDARD
TZOFFSETFROM:+0200
TZOFFSETTO:+0100
TZNAME:CET
DTSTART:20241027T010000
END:STANDARD
END:VTIMEZONE
BEGIN:VEVENT
DTSTART;VALUE=DATE:20230801
DTEND;VALUE=DATE:20230802
DTSTAMP:20260422T182559
CREATED:20230525T054829Z
LAST-MODIFIED:20230525T054829Z
UID:23345-1690848000-1690934399@beer.be
SUMMARY:MINAMI DEUTSCH (JP) + DIEZE (be)
DESCRIPTION:Second come back here at our brewpub with MINAMI DEUTSCH (BE) who totally blasted us last year! We can't wait to be spaced again! As opening act\, solo project of Diego (BRNS) who's the perfect melodic introduction for this evening!\nTICKETS:\nhttps://lasourcebeer.be/.../concert-minami-deutsch-jp...\n\nMINAMI DEUTSCH (JP)\nhttps://www.youtube.com/watch?v=9cVes1XcsrU&t=2110s\nhttps://minamideutsch.bandcamp.com/\nMinami Deutsch was formed by Kyotaro Miula (guitar\, vocals\, synthesizer) in Tokyo in 2014. The band members being self-professed “repetition freaks” who heavily listen to minimal techno.\nDIEZE (BE)\nhttps://dieze.bandcamp.com/\nDièze paints adventurous\, melodic and impressionist soundscapes\, experimenting the full potential of his guitar\, exploring the twists and turns of delicate arpeggios\, juggling with roguish poly-rhythmic tricks as well as the infinite possibilities of his effect pedals.
URL:https://beer.be/agenda/minami-deutsch-jp-dieze-be/
LOCATION:La Source Beer Co.\, 4 rue Dieudonné Lefèvre\, Bruxelles\, 1020\, Belgique
CATEGORIES:Concert
ATTACH;FMTTYPE=image/jpeg:https://beer.be/wp-content/uploads/2023/05/347813917_207084328847628_8086487008973640822_n.jpg
END:VEVENT
BEGIN:VEVENT
DTSTART;VALUE=DATE:20230810
DTEND;VALUE=DATE:20230811
DTSTAMP:20260422T182559
CREATED:20230622T065531Z
LAST-MODIFIED:20230622T065531Z
UID:23543-1691625600-1691711999@beer.be
SUMMARY:Enjoy Live: John Joris
DESCRIPTION:John is een groot talent met zijn gitaar\, maar ook mondharmonica en banjo behoren tot zijn instrumentaal arsenaal. Beïnvloed door Amerikaanse roots speelt hij een mix van Americana en blues.\nVerwacht je aan een verrassende avond dankzij de unieke\nspeelstijl van deze singer songwriter.\nINKOM: €10\, inclusief twee biertjes
URL:https://beer.be/agenda/enjoy-live-john-joris/
LOCATION:Brewmine TAP\, Raamstraat 9\, Hasselt\, Belgique
CATEGORIES:Concert
ATTACH;FMTTYPE=image/jpeg:https://beer.be/wp-content/uploads/2023/06/355428853_256942493595787_867533255455387788_n.jpg
END:VEVENT
END:VCALENDAR