BEGIN:VCALENDAR
VERSION:2.0
PRODID:-//Beer.be - ECPv6.15.20//NONSGML v1.0//EN
CALSCALE:GREGORIAN
METHOD:PUBLISH
X-WR-CALNAME:Beer.be
X-ORIGINAL-URL:https://beer.be
X-WR-CALDESC:Évènements pour Beer.be
REFRESH-INTERVAL;VALUE=DURATION:PT1H
X-Robots-Tag:noindex
X-PUBLISHED-TTL:PT1H
BEGIN:VTIMEZONE
TZID:Europe/Brussels
BEGIN:DAYLIGHT
TZOFFSETFROM:+0100
TZOFFSETTO:+0200
TZNAME:CEST
DTSTART:20220327T010000
END:DAYLIGHT
BEGIN:STANDARD
TZOFFSETFROM:+0200
TZOFFSETTO:+0100
TZNAME:CET
DTSTART:20221030T010000
END:STANDARD
BEGIN:DAYLIGHT
TZOFFSETFROM:+0100
TZOFFSETTO:+0200
TZNAME:CEST
DTSTART:20230326T010000
END:DAYLIGHT
BEGIN:STANDARD
TZOFFSETFROM:+0200
TZOFFSETTO:+0100
TZNAME:CET
DTSTART:20231029T010000
END:STANDARD
BEGIN:DAYLIGHT
TZOFFSETFROM:+0100
TZOFFSETTO:+0200
TZNAME:CEST
DTSTART:20240331T010000
END:DAYLIGHT
BEGIN:STANDARD
TZOFFSETFROM:+0200
TZOFFSETTO:+0100
TZNAME:CET
DTSTART:20241027T010000
END:STANDARD
END:VTIMEZONE
BEGIN:VEVENT
DTSTART;VALUE=DATE:20230928
DTEND;VALUE=DATE:20230929
DTSTAMP:20260422T165528
CREATED:20230414T134202Z
LAST-MODIFIED:20230414T134202Z
UID:23008-1695859200-1695945599@beer.be
SUMMARY:HEY COLOSSUS + TBA
DESCRIPTION:HEY COLOSSUS + TBA * 28.09\n*******************\nPresale : 12€\nDoors : 15€\nhttps://lasourcebeer.be/collections/ticketing\n*******************\nHEY COLOSSUS\nHey Colossus is an English rock band formed in London in 2003. Since its inception\, the band has undergone several lineup changes\, revolving around founding members Joe Thompson and Robert Davis.\nThe band is characterised by its ‘heavy’ sound\, DIY ethic\, prolific output\, and stylistic experimentation.\n\nhttps://heycolossus.bandcamp.com/album/dances-curses\n\nSUPPORT > tba
URL:https://beer.be/agenda/hey-colossus-tba/
LOCATION:La Source Beer Co.\, 4 rue Dieudonné Lefèvre\, Bruxelles\, 1020\, Belgique
CATEGORIES:Concert
ATTACH;FMTTYPE=image/jpeg:https://beer.be/wp-content/uploads/2023/04/340886265_180325847772884_2091624835941484396_n.jpg
END:VEVENT
END:VCALENDAR