BEGIN:VCALENDAR
VERSION:2.0
PRODID:-//Beer.be - ECPv6.15.20//NONSGML v1.0//EN
CALSCALE:GREGORIAN
METHOD:PUBLISH
X-WR-CALNAME:Beer.be
X-ORIGINAL-URL:https://beer.be
X-WR-CALDESC:Évènements pour Beer.be
REFRESH-INTERVAL;VALUE=DURATION:PT1H
X-Robots-Tag:noindex
X-PUBLISHED-TTL:PT1H
BEGIN:VTIMEZONE
TZID:Europe/Brussels
BEGIN:DAYLIGHT
TZOFFSETFROM:+0100
TZOFFSETTO:+0200
TZNAME:CEST
DTSTART:20240331T010000
END:DAYLIGHT
BEGIN:STANDARD
TZOFFSETFROM:+0200
TZOFFSETTO:+0100
TZNAME:CET
DTSTART:20241027T010000
END:STANDARD
BEGIN:DAYLIGHT
TZOFFSETFROM:+0100
TZOFFSETTO:+0200
TZNAME:CEST
DTSTART:20250330T010000
END:DAYLIGHT
BEGIN:STANDARD
TZOFFSETFROM:+0200
TZOFFSETTO:+0100
TZNAME:CET
DTSTART:20251026T010000
END:STANDARD
BEGIN:DAYLIGHT
TZOFFSETFROM:+0100
TZOFFSETTO:+0200
TZNAME:CEST
DTSTART:20260329T010000
END:DAYLIGHT
BEGIN:STANDARD
TZOFFSETFROM:+0200
TZOFFSETTO:+0100
TZNAME:CET
DTSTART:20261025T010000
END:STANDARD
END:VTIMEZONE
BEGIN:VEVENT
DTSTART;VALUE=DATE:20250612
DTEND;VALUE=DATE:20250613
DTSTAMP:20260421T182301
CREATED:20250521T055340Z
LAST-MODIFIED:20250521T055340Z
UID:27332-1749686400-1749772799@beer.be
SUMMARY:Quand l'histoire se déguste : Beer pairing à travers les siècles
DESCRIPTION:La bière accompagne l’humanité depuis des millénaires… Mais connaissez-vous vraiment son histoire ? De l’Antiquité à nos jours\, des déesses aux brasseuses médiévales\, cette boisson universelle a traversé les époques\, évoluant au gré des techniques\, des croyances et des sociétés. \n👉 Lors de cette conférence-dégustation originale\, vous découvrirez :\n✔️ Une plongée dans l'histoire de la bière\n✔️ L'évolution de la bière à travers les âges \nEt surtout....\n✔️ 4 bières soigneusement choisies pour illustrer la conférence\n✔️ Chaque bière illustre un chapitre clé\n✔️ Chaque dégustation est commentée pour mieux appréhender la bière \n➡️ Un moment convivial mêlant culture\, anecdotes savoureuses et plaisir des papilles : parfait pour les curieux·ses comme pour les amateur·trices averti·es. \n➡️ Un beer-pairing mythique où l’Histoire se marie à la dégustation \nPrix : 30 € TTC\nInclut : la conférence animée\, la dégustation de 4 galopins\, de quoi grignoter et la bonne humeur !
URL:https://beer.be/agenda/quand-lhistoire-se-deguste-beer-pairing-a-travers-les-siecles/
LOCATION:Le Trac\, 110 rue Albert Meunier\, Auderghem\, 1160\, Belgique
CATEGORIES:Cours
END:VEVENT
BEGIN:VEVENT
DTSTART;VALUE=DATE:20250621
DTEND;VALUE=DATE:20250622
DTSTAMP:20260421T182301
CREATED:20250526T074243Z
LAST-MODIFIED:20250526T074243Z
UID:27352-1750464000-1750550399@beer.be
SUMMARY:Lezing bier en foodpairing
DESCRIPTION:Hoe kiest u het passende bier bij een gerecht en vice versa?\nZaterdag 21 juni om 14u doe ik tijdens een lezing in de Antwerpse Handelbeurs haarfijn uit de doeken hoe en waarom bier- en foodpairing u linea recta in de zevende hemel kan doen belanden.\nAls u zich gedraagt\, kan u bovendien ter plekke zelf de proef op de som nemen.\nhttps://www.bierpassieweekend.be/
URL:https://beer.be/agenda/lezing-bier-en-foodpairing/
LOCATION:Handelsbeurs Antwerpen Events\, Borzestraat 36\, Antwerpen\, 2000\, Belgium
CATEGORIES:Cours
END:VEVENT
END:VCALENDAR