BEGIN:VCALENDAR
VERSION:2.0
PRODID:-//Beer.be - ECPv6.15.20//NONSGML v1.0//EN
CALSCALE:GREGORIAN
METHOD:PUBLISH
X-ORIGINAL-URL:https://beer.be
X-WR-CALDESC:Évènements pour Beer.be
REFRESH-INTERVAL;VALUE=DURATION:PT1H
X-Robots-Tag:noindex
X-PUBLISHED-TTL:PT1H
BEGIN:VTIMEZONE
TZID:Europe/Brussels
BEGIN:DAYLIGHT
TZOFFSETFROM:+0100
TZOFFSETTO:+0200
TZNAME:CEST
DTSTART:20180325T010000
END:DAYLIGHT
BEGIN:STANDARD
TZOFFSETFROM:+0200
TZOFFSETTO:+0100
TZNAME:CET
DTSTART:20181028T010000
END:STANDARD
BEGIN:DAYLIGHT
TZOFFSETFROM:+0100
TZOFFSETTO:+0200
TZNAME:CEST
DTSTART:20190331T010000
END:DAYLIGHT
BEGIN:STANDARD
TZOFFSETFROM:+0200
TZOFFSETTO:+0100
TZNAME:CET
DTSTART:20191027T010000
END:STANDARD
BEGIN:DAYLIGHT
TZOFFSETFROM:+0100
TZOFFSETTO:+0200
TZNAME:CEST
DTSTART:20200329T010000
END:DAYLIGHT
BEGIN:STANDARD
TZOFFSETFROM:+0200
TZOFFSETTO:+0100
TZNAME:CET
DTSTART:20201025T010000
END:STANDARD
END:VTIMEZONE
BEGIN:VEVENT
DTSTART;VALUE=DATE:20190118
DTEND;VALUE=DATE:20190119
DTSTAMP:20260423T183823
CREATED:20190112T162419Z
LAST-MODIFIED:20190112T162419Z
UID:13082-1547769600-1547855999@beer.be
SUMMARY:Soirée Beer Market #41 : "Bières Allemandes"
DESCRIPTION:Pour cette soirée spéciale "Bières allemandes"\, nous allons explorer la nouvelle scène des bières artisanales Allemandes. Parce que les brasseurs allemands proposent un panel de goûts très diversifiés et parfois surprenants\, c'est l'occasion de découvrir cela ensemble... \nConcept : 7 bières artisanales vous sont présentées et décrites. Et bien sûr vous les goûtez. Les thèmes de ces soirées récurrentes varient (exploration d’un pays en particulier\, d’un style\, etc…). Ces séances se déroulent généralement le mercredi\, le vendredi ou le samedi à 20h après la fermeture de la boutique.
URL:https://beer.be/agenda/soiree-beer-market-41-bieres-allemandes/
LOCATION:Beer Market\, 2 Rue Louis de Brouckère\, La Louvière\, 7100\, Belgique
CATEGORIES:Dégustation
ATTACH;FMTTYPE=image/jpeg:https://beer.be/wp-content/uploads/2019/01/49785961_830866693915620_3315292419787849728_o.jpg
END:VEVENT
BEGIN:VEVENT
DTSTART;VALUE=DATE:20190119
DTEND;VALUE=DATE:20190120
DTSTAMP:20260423T183823
CREATED:20181117T151208Z
LAST-MODIFIED:20181117T151208Z
UID:12831-1547856000-1547942399@beer.be
SUMMARY:Proeverij/degustation New Brussels Breweries
DESCRIPTION:Nouvelle année\, Nouvelles Brasseries! Avez-vous déjà goûté les bières des nouvelles brasseries bruxelloises créées ces derniers mois? Pour notre première dégustation de cette année\, nous vous avons rassemblé les brasseries Brasserie H2O\, Arever Belgian Craft Beer\, L'Annexe en Beer & You. Ils viendront eux-mêmes présenter chacun deux de leurs bières le samedi 19 janvier à 20h.
URL:https://beer.be/agenda/proeverij-degustation-new-brussels-breweries/
LOCATION:Elzenhof\, 12 Kroonlaan\, Bruxelles\, 1050\, Belgique
CATEGORIES:Dégustation
END:VEVENT
BEGIN:VEVENT
DTSTART;VALUE=DATE:20190119
DTEND;VALUE=DATE:20190120
DTSTAMP:20260423T183823
CREATED:20190104T113024Z
LAST-MODIFIED:20190104T113024Z
UID:13053-1547856000-1547942399@beer.be
SUMMARY:Proeverij/degustation New Brussels Breweries
DESCRIPTION:Nouvelle année\, Nouvelles Brasseries. Avez-vous déjà goûté les bières des nouvelles brasseries bruxelloises créées ces derniers mois? Pour notre première dégustation de cette année\, nous vous avons rassemblé les brasseries Brasserie H2O\, Arever Belgian Craft Beer\, L'Annexe en Beer & You. Ils viendront eux-mêmes présenter chacun deux de leurs bières le samedi 19 janvier à 20h.
URL:https://beer.be/agenda/proeverij-degustation-new-brussels-breweries-2/
LOCATION:Elzenhof\, 12 Kroonlaan\, Bruxelles\, 1050\, Belgique
CATEGORIES:Dégustation
ATTACH;FMTTYPE=image/jpeg:https://beer.be/wp-content/uploads/2019/01/46408102_2176596649025400_280166042477527040_o.jpg
END:VEVENT
BEGIN:VEVENT
DTSTART;VALUE=DATE:20190122
DTEND;VALUE=DATE:20190123
DTSTAMP:20260423T183823
CREATED:20181219T113229Z
LAST-MODIFIED:20181219T113229Z
UID:12996-1548115200-1548201599@beer.be
SUMMARY:Baos & Beers / Brussels Beer City x Baogo
DESCRIPTION:Burgers and beers – what better combination is there? Asian fusion bao burgers and craft beer. \nJoin Brussels Beer City and Baogo – central Brussels’ Asian fusion burger joint – on Tuesday January 22 for an evening of great food and great beers. Tickets are 25 euros per person (plus processing fee). \nWith the in-house bao experts at Baogo\, we are assembling a menu of experimental fusion bao burgers to go alongside excellent local and international beers – each chosen by award-winning writer and beer sommelier Eoghan Walsh. A three course tasting menu designed exclusively for this event will be served\, giving the opportunity to these experts of fusion food to explore new taste combinations. Alongside this and a welcome drink and snack\, we will eat\, drink\, and discover the art of pairing beer and food – how to pair\, what to drink\, and how to drink it. \nThe menu is still being finalized but think crisp pils paired with pulled pork\, or rich bulgogi beef served with a fruity pale ale. \nIncluded in the price of the ticket is:\n• Welcome snack + beer\n• 3 course Baogo tasting menu + accompanying beers\n• Guided tasting with Eoghan Walsh\, award-winning beer writer and qualified beer sommelier \nSo join is in the centre of Brussels for a fun night of great beer and food that will brighten up a dark January evening!
URL:https://beer.be/agenda/baos-beers-brussels-beer-city-x-baogo/
LOCATION:Baogo\, 48-50 rue Grétry\, Bruxelles\, 1000\, Belgique
CATEGORIES:Dégustation
END:VEVENT
BEGIN:VEVENT
DTSTART;VALUE=DATE:20190124
DTEND;VALUE=DATE:20190125
DTSTAMP:20260423T183823
CREATED:20190116T104815Z
LAST-MODIFIED:20190116T104815Z
UID:13092-1548288000-1548374399@beer.be
SUMMARY:Biertasting & barbecue in Villa Anamma
DESCRIPTION:A very friendly beer-takeover. De eerste kruisbestuiving tussen Villa Anamma en Gent Brouwt is een feit!\nWe kennen elkaar al wat jaren van tijdens Copacobana Festival (dat wijze festival met dito Gentse bierbar). Maar één keer per jaar samen zijn\, dat voelde toch meer als een gemis dan als liefde... Vandaar dat we ook doorheen het jaar de handen in elkaar slaan\, gewoon omdat het kan. Gezellig! \n*** \nDonderdag 24 januari 2019 neemt Gent Brouwt deels de bar van Villa Anamma over om er een biertasting te houden. Hoe? Wel\, die avond schenken wij uitsluitend bier afkomstig van brouwerijen van Gent Brouwt. Denk mobiele taps\, bieren die je misschien niet kent en brouwers die uitleg geven waarom er niets boven Gentse bieren gaat. De brouwerijen die aanwezig zullen zijn\, zijn de volgende: L'Arogante\, Pils 13\, Gruut\, Dok Brewing Company\, Crabbelaer\, De Mederie\, De Laatste Drinker\, Humboldt&Gauss en Brouwbar. \n*** \nHoe de avond er in grote lijnen zal uit zien:\n- Eerst en vooral: lekker iets eten met\, uiteraard\, een biertje er bij\n- De geserveerde bieren zijn die avond uitsluitend door Gent Brouwt geselecteerd.\n- De DJs van dienst zijn Jorre van brouwerij De Mederie en Jerome van de Laatste Drinker. 60s/70s/80s\, classics en wat nog? Zolang het maar op vinyl is geperst\, komt het door de boxen. Tussen de nummers door kanje hun naar hun bieren vragen 😉\n- DJ's? Jawel! Als je zin hebt om je benen los te gooien\, ga je gang. Wij maken de dansvloer alvast vrij. Blijf je liever zitten? Ook goed! \n*** \nReserveren is niet nodig\, maar ben je toch liever zeker van een tafeltje? Dan kan je reserveren via info@villa-anamma.be of 0460 94 71 72. Hou het event in de gaten voor verdere info!
URL:https://beer.be/agenda/biertasting-barbecue-in-villa-anamma/
LOCATION:Villa Anamma\, Gustaaf Carelshof 35\, Gand\, 9040\, Belgique
CATEGORIES:Dégustation
ATTACH;FMTTYPE=image/png:https://beer.be/wp-content/uploads/2019/01/49810368_281436612544852_2499678044378103808_n.png
END:VEVENT
BEGIN:VEVENT
DTSTART;VALUE=DATE:20190126
DTEND;VALUE=DATE:20190127
DTSTAMP:20260423T183823
CREATED:20190125T105412Z
LAST-MODIFIED:20190125T105412Z
UID:13119-1548460800-1548547199@beer.be
SUMMARY:Soirée Dégustation #2 : BRASSERIE ATRIUM
DESCRIPTION:Venez découvrir avec nous les créations de cette nouvelle brasserie qui n'a pas fini de faire parler d'elle. Les inscriptions sont ouvertes !
URL:https://beer.be/agenda/soiree-degustation-2-brasserie-atrium/
LOCATION:Beer Market Namur\, 30 Chaussée de Waterloo\, Namur\, 5002\, Belgique
CATEGORIES:Dégustation
ATTACH;FMTTYPE=image/jpeg:https://beer.be/wp-content/uploads/2019/01/49293648_2171014916560702_3058128598650060800_o.jpg
END:VEVENT
END:VCALENDAR