BEGIN:VCALENDAR
VERSION:2.0
PRODID:-//Beer.be - ECPv6.15.20//NONSGML v1.0//EN
CALSCALE:GREGORIAN
METHOD:PUBLISH
X-WR-CALNAME:Beer.be
X-ORIGINAL-URL:https://beer.be
X-WR-CALDESC:Évènements pour Beer.be
REFRESH-INTERVAL;VALUE=DURATION:PT1H
X-Robots-Tag:noindex
X-PUBLISHED-TTL:PT1H
BEGIN:VTIMEZONE
TZID:Europe/Brussels
BEGIN:DAYLIGHT
TZOFFSETFROM:+0100
TZOFFSETTO:+0200
TZNAME:CEST
DTSTART:20180325T010000
END:DAYLIGHT
BEGIN:STANDARD
TZOFFSETFROM:+0200
TZOFFSETTO:+0100
TZNAME:CET
DTSTART:20181028T010000
END:STANDARD
BEGIN:DAYLIGHT
TZOFFSETFROM:+0100
TZOFFSETTO:+0200
TZNAME:CEST
DTSTART:20190331T010000
END:DAYLIGHT
BEGIN:STANDARD
TZOFFSETFROM:+0200
TZOFFSETTO:+0100
TZNAME:CET
DTSTART:20191027T010000
END:STANDARD
BEGIN:DAYLIGHT
TZOFFSETFROM:+0100
TZOFFSETTO:+0200
TZNAME:CEST
DTSTART:20200329T010000
END:DAYLIGHT
BEGIN:STANDARD
TZOFFSETFROM:+0200
TZOFFSETTO:+0100
TZNAME:CET
DTSTART:20201025T010000
END:STANDARD
END:VTIMEZONE
BEGIN:VEVENT
DTSTART;VALUE=DATE:20190201
DTEND;VALUE=DATE:20190202
DTSTAMP:20260423T171434
CREATED:20190116T105454Z
LAST-MODIFIED:20190116T105454Z
UID:13103-1548979200-1549065599@beer.be
SUMMARY:Latticini & Stout ! (Produits Laitiers)
DESCRIPTION:Une soirée dédiée aux produits laitiers et aux bières noires du monde entier. En collaboration avec notre magasin "La Tana 2.0". Vous goûterez certaines des meilleures bières noires américaines\, italiennes\, anglaises et belges\, aux côtés des meilleurs produits laitiers italiens.
URL:https://beer.be/agenda/latticini-stout-produits-laitiers/
LOCATION:La Tana\, 10 rue de l'Enseignement\, Bruxelles\, 1000\, Belgique
CATEGORIES:Dégustation
ATTACH;FMTTYPE=image/jpeg:https://beer.be/wp-content/uploads/2019/01/50264374_1012925115567739_6426226112333873152_n.jpg
END:VEVENT
BEGIN:VEVENT
DTSTART;VALUE=DATE:20190201
DTEND;VALUE=DATE:20190202
DTSTAMP:20260423T171434
CREATED:20190126T153937Z
LAST-MODIFIED:20190126T153937Z
UID:13126-1548979200-1549065599@beer.be
SUMMARY:Soirée Beer Market #42 : " Tour des Flandres "
DESCRIPTION:Pour découvrir de nouvelles et bonnes bières\, il n'est point toujours nécessaire de franchir des frontières. Parfois le bonheur est a deux pas. En l'occurrence ici\, nous irons explorer le nord du pays\, où les nouvelles brasseries qualitatives foisonnent. \nConcept : 7 bières artisanales vous sont présentées et décrites. Et bien sûr vous les goûtez. Les thèmes de ces soirées récurrentes varient (exploration d’un pays en particulier\, d’un style\, etc…). Ces séances se déroulent généralement le mercredi\, le vendredi ou le samedi à 19h30 après la fermeture de la boutique.
URL:https://beer.be/agenda/soiree-beer-market-42-tour-des-flandres/
LOCATION:Beer Market\, 2 Rue Louis de Brouckère\, La Louvière\, 7100\, Belgique
CATEGORIES:Dégustation
ATTACH;FMTTYPE=image/jpeg:https://beer.be/wp-content/uploads/2019/01/49997604_840311232971166_8724781270715858944_o.jpg
END:VEVENT
BEGIN:VEVENT
DTSTART;VALUE=DATE:20190210
DTEND;VALUE=DATE:20190211
DTSTAMP:20260423T171434
CREATED:20190127T095954Z
LAST-MODIFIED:20190127T095954Z
UID:13140-1549756800-1549843199@beer.be
SUMMARY:Black & Blue
DESCRIPTION:Met al dat zwarte geweld op tap van de Black Friday / Stout TTO verzorgen Vitas Van de Cauter en Melanie Epp een zwart bier -en blauwe kaastasting. Kostprijs voor deze foodpairing bedraagt €40. Omwille van de beperkte aantal plaatsen vragen we u om op voorhand in te schrijven door een mailtje te sturen naar Anthony@dbc.gent en het bedrag te storten op het door hem doorgestuurde rekeningnummer.
URL:https://beer.be/agenda/black-blue/
LOCATION:DOK Brewing Company\, 4B Dok Noord\, Gent\, 9000\, Belgique
CATEGORIES:Dégustation
ATTACH;FMTTYPE=image/jpeg:https://beer.be/wp-content/uploads/2019/01/50612223_371327603659031_6774401364215726080_o.jpg
END:VEVENT
BEGIN:VEVENT
DTSTART;VALUE=DATE:20190215
DTEND;VALUE=DATE:20190216
DTSTAMP:20260423T171434
CREATED:20190206T153242Z
LAST-MODIFIED:20190206T153242Z
UID:13323-1550188800-1550275199@beer.be
SUMMARY:Soirée Beer Market #43 : "Amager"
DESCRIPTION:La dégustation du jour concernera Amager. Célèbre micro-brasserie Danoise hautement recommandable. Attention: davantage encore que d'habitude vous sera proposé du lourd\, du costaud\, du barriqué. Aussi\, exceptionnellement\, la P.A.F se montera à 19€. Mais ça devrait en valoir la peine. \nConcept : 7 bières artisanales vous sont présentées et décrites. Et bien sûr vous les goûtez. Les thèmes de ces soirées récurrentes varient (exploration d’un pays en particulier\, d’un style\, etc…). Ces séances se déroulent généralement le mercredi\, le vendredi ou le samedi à 19h30 après la fermeture de la boutique.
URL:https://beer.be/agenda/soiree-beer-market-43-amager/
LOCATION:Beer Market\, 2 Rue Louis de Brouckère\, La Louvière\, 7100\, Belgique
CATEGORIES:Dégustation
ATTACH;FMTTYPE=image/jpeg:https://beer.be/wp-content/uploads/2019/02/51329003_847696578899298_1771122024698085376_o.jpg
END:VEVENT
BEGIN:VEVENT
DTSTART;VALUE=DATE:20190216
DTEND;VALUE=DATE:20190217
DTSTAMP:20260423T171434
CREATED:20190220T084735Z
LAST-MODIFIED:20190220T084735Z
UID:13390-1550275200-1550361599@beer.be
SUMMARY:Beercafé “Yes we Can” at TasTToe
DESCRIPTION:Laten we U kennis maken met bier in blik… Jawel blik! Steeds vaker wordt bier verkocht in blik en dat heeft zijn voordelen! Vb. Het bier komt niet in aanraking met uv straling waardoor de smaak beter behouden blijft en hierdoor langer houdbaar is. Vele craft bier brouwerijen over de hele wereld brengen verschillende stijlen bieren uit én dit meestal met zeer kleurrijke labels. Belangrijker is –natuurlijk- de inhoud… vandaar dat we U enkele expressies willen laten proeven van een top craft brouwerij uit Barcelona\, namelijk Garage Beer Co.
URL:https://beer.be/agenda/beercafe-yes-we-can-at-tasttoe/
LOCATION:TasTToe\, 193 chaussée de Louvain\, Boortmeerbeek\, 3190\, Belgium
CATEGORIES:Dégustation
ATTACH;FMTTYPE=image/jpeg:https://beer.be/wp-content/uploads/2019/02/52348573_2161740463875480_3991330554329956352_n.jpg
END:VEVENT
BEGIN:VEVENT
DTSTART;VALUE=DATE:20190217
DTEND;VALUE=DATE:20190218
DTSTAMP:20260423T171434
CREATED:20190125T104415Z
LAST-MODIFIED:20190125T104415Z
UID:13113-1550361600-1550447999@beer.be
SUMMARY:Bierproeverij/degustation 'Gist is the gist of the beer'
DESCRIPTION:À travers la dégustation de six bières\, nous allons découvrir comment la levure peut influencer la personnalité d'une brasserie ou d'un style.
URL:https://beer.be/agenda/bierproeverij-degustation-gist-is-the-gist-of-the-beer/
CATEGORIES:Dégustation
ATTACH;FMTTYPE=image/jpeg:https://beer.be/wp-content/uploads/2019/01/50906970_2275422875809443_6719797658275282944_o.jpg
END:VEVENT
BEGIN:VEVENT
DTSTART;VALUE=DATE:20190221
DTEND;VALUE=DATE:20190222
DTSTAMP:20260423T171434
CREATED:20190206T152438Z
LAST-MODIFIED:20190206T152438Z
UID:13311-1550707200-1550793599@beer.be
SUMMARY:BBP // Du Pinard et des Huîtres
DESCRIPTION:Plus besoin de vous présenter le Noordzee - Mer du Nord\, l'incontournable de la place St Catherine ! Ils débarquent à la brasserie le jeudi 21 février\, avec dans leur fillets des bourriches d'huîtres ! Pour l'occasion\, on ouvre les derniers fûts de notre Pinard de Bxl! Du Pinard et des huîtres ? Orgasme culinaire garanti\, on vous dit!
URL:https://beer.be/agenda/bbp-du-pinard-et-des-huitres/
LOCATION:Brussels Beer Project Dansaert\, 188 rue Antoine Dansaert\, Bruxelles\, 1000\, Belgique
CATEGORIES:Dégustation
ATTACH;FMTTYPE=image/jpeg:https://beer.be/wp-content/uploads/2019/02/51246596_594208554354094_6011897854308646912_o.jpg
END:VEVENT
BEGIN:VEVENT
DTSTART;VALUE=DATE:20190221
DTEND;VALUE=DATE:20190222
DTSTAMP:20260423T171434
CREATED:20190216T120747Z
LAST-MODIFIED:20190216T120747Z
UID:13382-1550707200-1550793599@beer.be
SUMMARY:Beer & Cheese Paix Dieu
DESCRIPTION:Venez découvrir l'association bières et fromages ! Dégustation des bières de la brasserie Caulier en accord avec les fromages tout droit venus de chez Jacquy Cange \, Maître Affineur. Nombre limité à 30 personnes & cadeau d'une valeur de 10 euros offert à chaque participant.
URL:https://beer.be/agenda/beer-cheese-paix-dieu/
LOCATION:Drink Factory\, Chaussée du Roeulx 95\, Mons\, 7000\, Belgium
CATEGORIES:Dégustation
ATTACH;FMTTYPE=image/jpeg:https://beer.be/wp-content/uploads/2019/02/51922882_570666100072642_2061915508483031040_o.jpg
END:VEVENT
BEGIN:VEVENT
DTSTART;VALUE=DATE:20190222
DTEND;VALUE=DATE:20190223
DTSTAMP:20260423T171434
CREATED:20190112T162711Z
LAST-MODIFIED:20190112T162711Z
UID:13085-1550793600-1550879999@beer.be
SUMMARY:Brussels Bottleshare #4 - New year\, new location!
DESCRIPTION:It's a new year\, and a new location for the Brussels Bottleshare - with Fermenthings homeless until their new venue opens later this year\, we've teamed up with beer.be and Valeriotto at La Tana 2.0 for the first edition of 2019. \nThe venue has changed\, but the concept remains the same: bring one large (50/70cl) or two small (33cl\, etc.) bottles of beer you’re happy to share with the group. It can be anything – so long as it’s good. If you don’t have a beer don’t worry – you can buy what you need at La Tana! In fact\, after the bottleshare\, we’d encourage you to take a bottle or two with you on your way out the door. \nThe only rule is – you have to bring enough beer to share.
URL:https://beer.be/agenda/brussels-bottleshare-4-new-year-new-location/
LOCATION:La Tana 2.0\, 22 rue de l'Enseignement\, Bruxelles\, 1000\, Belgique
CATEGORIES:Dégustation
ATTACH;FMTTYPE=image/jpeg:https://beer.be/wp-content/uploads/2019/01/49637451_1330090817146932_792852397360676864_o.jpg
END:VEVENT
END:VCALENDAR