BEGIN:VCALENDAR
VERSION:2.0
PRODID:-//Beer.be - ECPv6.15.20//NONSGML v1.0//EN
CALSCALE:GREGORIAN
METHOD:PUBLISH
X-WR-CALNAME:Beer.be
X-ORIGINAL-URL:https://beer.be
X-WR-CALDESC:Évènements pour Beer.be
REFRESH-INTERVAL;VALUE=DURATION:PT1H
X-Robots-Tag:noindex
X-PUBLISHED-TTL:PT1H
BEGIN:VTIMEZONE
TZID:Europe/Brussels
BEGIN:DAYLIGHT
TZOFFSETFROM:+0100
TZOFFSETTO:+0200
TZNAME:CEST
DTSTART:20180325T010000
END:DAYLIGHT
BEGIN:STANDARD
TZOFFSETFROM:+0200
TZOFFSETTO:+0100
TZNAME:CET
DTSTART:20181028T010000
END:STANDARD
BEGIN:DAYLIGHT
TZOFFSETFROM:+0100
TZOFFSETTO:+0200
TZNAME:CEST
DTSTART:20190331T010000
END:DAYLIGHT
BEGIN:STANDARD
TZOFFSETFROM:+0200
TZOFFSETTO:+0100
TZNAME:CET
DTSTART:20191027T010000
END:STANDARD
BEGIN:DAYLIGHT
TZOFFSETFROM:+0100
TZOFFSETTO:+0200
TZNAME:CEST
DTSTART:20200329T010000
END:DAYLIGHT
BEGIN:STANDARD
TZOFFSETFROM:+0200
TZOFFSETTO:+0100
TZNAME:CET
DTSTART:20201025T010000
END:STANDARD
END:VTIMEZONE
BEGIN:VEVENT
DTSTART;VALUE=DATE:20190721
DTEND;VALUE=DATE:20190722
DTSTAMP:20260423T095126
CREATED:20190711T133230Z
LAST-MODIFIED:20190711T133230Z
UID:14084-1563667200-1563753599@beer.be
SUMMARY:Belgian National Day - beertasting
DESCRIPTION:Our yearly "Belgian tri-color celebration"\nCome celebrate with a "Belgian Beer Tasting Experience"\nDelicious Belgian beers and typical Belgian food pairing
URL:https://beer.be/agenda/belgian-national-day-beertasting/
LOCATION:Family Brews\, Haringstraat 2\, Brussel\, 1000\, Belgique
CATEGORIES:Dégustation
ATTACH;FMTTYPE=image/jpeg:https://beer.be/wp-content/uploads/2019/07/66432078_630973754054096_427714438431244288_o.jpg
END:VEVENT
BEGIN:VEVENT
DTSTART;VALUE=DATE:20190727
DTEND;VALUE=DATE:20190728
DTSTAMP:20260423T095126
CREATED:20190716T135413Z
LAST-MODIFIED:20190716T135413Z
UID:14100-1564185600-1564271999@beer.be
SUMMARY:The opening of the Chimay 2007 (6L)
DESCRIPTION:*Once in a lifetime opportunity!* \nincl.\n- Exclusive/private event\n- 'one time' opportunity\n- 12 year aged CHIMAY Grand Reserva 'special edtition'\n- 0\,5L per person + food pairing\n(limited to 12 places)
URL:https://beer.be/agenda/the-opening-of-the-chimay-2007-6l/
LOCATION:Family Brews\, Haringstraat 2\, Brussel\, 1000\, Belgique
CATEGORIES:Dégustation
ATTACH;FMTTYPE=image/jpeg:https://beer.be/wp-content/uploads/2019/07/66613618_633562467128558_6789706291196461056_o.jpg
END:VEVENT
END:VCALENDAR