BEGIN:VCALENDAR
VERSION:2.0
PRODID:-//Beer.be - ECPv6.15.20//NONSGML v1.0//EN
CALSCALE:GREGORIAN
METHOD:PUBLISH
X-WR-CALNAME:Beer.be
X-ORIGINAL-URL:https://beer.be
X-WR-CALDESC:Évènements pour Beer.be
REFRESH-INTERVAL;VALUE=DURATION:PT1H
X-Robots-Tag:noindex
X-PUBLISHED-TTL:PT1H
BEGIN:VTIMEZONE
TZID:Europe/Brussels
BEGIN:DAYLIGHT
TZOFFSETFROM:+0100
TZOFFSETTO:+0200
TZNAME:CEST
DTSTART:20180325T010000
END:DAYLIGHT
BEGIN:STANDARD
TZOFFSETFROM:+0200
TZOFFSETTO:+0100
TZNAME:CET
DTSTART:20181028T010000
END:STANDARD
BEGIN:DAYLIGHT
TZOFFSETFROM:+0100
TZOFFSETTO:+0200
TZNAME:CEST
DTSTART:20190331T010000
END:DAYLIGHT
BEGIN:STANDARD
TZOFFSETFROM:+0200
TZOFFSETTO:+0100
TZNAME:CET
DTSTART:20191027T010000
END:STANDARD
BEGIN:DAYLIGHT
TZOFFSETFROM:+0100
TZOFFSETTO:+0200
TZNAME:CEST
DTSTART:20200329T010000
END:DAYLIGHT
BEGIN:STANDARD
TZOFFSETFROM:+0200
TZOFFSETTO:+0100
TZNAME:CET
DTSTART:20201025T010000
END:STANDARD
END:VTIMEZONE
BEGIN:VEVENT
DTSTART;VALUE=DATE:20190804
DTEND;VALUE=DATE:20190805
DTSTAMP:20260423T081903
CREATED:20190713T094340Z
LAST-MODIFIED:20190713T094340Z
UID:14091-1564876800-1564963199@beer.be
SUMMARY:Antidoot tasting
DESCRIPTION:Op 4 augustus hebben we een bijzondere (en wilde) tasting voorzien voor jullie! Antidoot - Wilde Fermenten komt bij ons langs en laat je vier bieren proeven (in combinatie met kaas en paté). Het aantal plaatsen is beperkt tot 25. Je kan max. per twee personen inschrijven onder het principe “first come\, first served”. Inschrijven kan door een mailtje te sturen naar daniella@dbc.gent \nJe inschrijving is definitief na betaling van 30 euro per persoon op rekeningnummer BE86 0689 0981 3850
URL:https://beer.be/agenda/antidoot-tasting/
LOCATION:DOK Brewing Company\, 4B Dok Noord\, Gent\, 9000\, Belgique
CATEGORIES:Dégustation
ATTACH;FMTTYPE=image/jpeg:https://beer.be/wp-content/uploads/2019/07/66355430_465110934280697_6322787412762165248_o.jpg
END:VEVENT
BEGIN:VEVENT
DTSTART;VALUE=DATE:20190809
DTEND;VALUE=DATE:20190810
DTSTAMP:20260423T081903
CREATED:20190808T073113Z
LAST-MODIFIED:20190808T073113Z
UID:14139-1565308800-1565395199@beer.be
SUMMARY:Hoppy Fridays - Free beer degustations
DESCRIPTION:10 FREE Beer degustations per hour! (max. one per person)\nJoin the Finest Belgian Beer Tasting Experience!\nIn a unique historical UNESCO protected shop.
URL:https://beer.be/agenda/hoppy-fridays-free-beer-degustations/
LOCATION:Family Brews\, Haringstraat 2\, Brussel\, 1000\, Belgique
CATEGORIES:Dégustation
ATTACH;FMTTYPE=image/jpeg:https://beer.be/wp-content/uploads/2019/08/67501228_643579612793510_441477274584219648_n.jpg
END:VEVENT
BEGIN:VEVENT
DTSTART;VALUE=DATE:20190811
DTEND;VALUE=DATE:20190812
DTSTAMP:20260423T081903
CREATED:20190808T073213Z
LAST-MODIFIED:20190808T073213Z
UID:14142-1565481600-1565567999@beer.be
SUMMARY:Brewdog Brussels Homebrew Club First Meeting
DESCRIPTION:Come and meet our hombrewing staff! Bring your latest creations with you to share (if you want to) or just join for the company and spend a sunday evening talking about beer with fellow homebrewers!
URL:https://beer.be/agenda/brewdog-brussels-homebrew-club-first-meeting/
LOCATION:Brewdog\, Putterij 20\, Brussels\, 1000\, Belgique
CATEGORIES:Dégustation
ATTACH;FMTTYPE=image/jpeg:https://beer.be/wp-content/uploads/2019/08/67486619_1609345545862199_4869180612176510976_o.jpg
END:VEVENT
BEGIN:VEVENT
DTSTART;VALUE=DATE:20190831
DTEND;VALUE=DATE:20190901
DTSTAMP:20260423T081903
CREATED:20190815T124739Z
LAST-MODIFIED:20190815T124739Z
UID:14163-1567209600-1567295999@beer.be
SUMMARY:The Mystery of 3Fonteinen
DESCRIPTION:Monthly 3Fonteinen beer tasting event with only rare and exclusive blends and one #MysteryBottle. Discover it with us.
URL:https://beer.be/agenda/the-mystery-of-3fonteinen/
LOCATION:Family Brews\, Haringstraat 2\, Brussel\, 1000\, Belgique
CATEGORIES:Dégustation
ATTACH;FMTTYPE=image/jpeg:https://beer.be/wp-content/uploads/2019/08/68643501_650987668719371_5617959773132554240_n.jpg
END:VEVENT
END:VCALENDAR