BEGIN:VCALENDAR
VERSION:2.0
PRODID:-//Beer.be - ECPv6.15.20//NONSGML v1.0//EN
CALSCALE:GREGORIAN
METHOD:PUBLISH
X-ORIGINAL-URL:https://beer.be
X-WR-CALDESC:Évènements pour Beer.be
REFRESH-INTERVAL;VALUE=DURATION:PT1H
X-Robots-Tag:noindex
X-PUBLISHED-TTL:PT1H
BEGIN:VTIMEZONE
TZID:Europe/Brussels
BEGIN:DAYLIGHT
TZOFFSETFROM:+0100
TZOFFSETTO:+0200
TZNAME:CEST
DTSTART:20190331T010000
END:DAYLIGHT
BEGIN:STANDARD
TZOFFSETFROM:+0200
TZOFFSETTO:+0100
TZNAME:CET
DTSTART:20191027T010000
END:STANDARD
BEGIN:DAYLIGHT
TZOFFSETFROM:+0100
TZOFFSETTO:+0200
TZNAME:CEST
DTSTART:20200329T010000
END:DAYLIGHT
BEGIN:STANDARD
TZOFFSETFROM:+0200
TZOFFSETTO:+0100
TZNAME:CET
DTSTART:20201025T010000
END:STANDARD
BEGIN:DAYLIGHT
TZOFFSETFROM:+0100
TZOFFSETTO:+0200
TZNAME:CEST
DTSTART:20210328T010000
END:DAYLIGHT
BEGIN:STANDARD
TZOFFSETFROM:+0200
TZOFFSETTO:+0100
TZNAME:CET
DTSTART:20211031T010000
END:STANDARD
END:VTIMEZONE
BEGIN:VEVENT
DTSTART;VALUE=DATE:20200118
DTEND;VALUE=DATE:20200119
DTSTAMP:20260423T002604
CREATED:20200107T170813Z
LAST-MODIFIED:20200107T170813Z
UID:14839-1579305600-1579391999@beer.be
SUMMARY:Soirée Beer Market: "Harry Porter"
DESCRIPTION:Laissez-vous envahir par le côté obscure... ah non attendez\, je me trompe de film! On recommence: Laissez vous envahir par les ténèbres lors de cette soirée spéciale bière noire. Et pour assumer le jeu de mots douteux servant de titre à cette soirée\, on vous proposera en bonus de "l'authentique" bière au beurre faite maison. Mais celle-là ne sera pas pour les enfants...
URL:https://beer.be/agenda/soiree-beer-market-harry-porter/
LOCATION:Beer Market\, 2 Rue Louis de Brouckère\, La Louvière\, 7100\, Belgique
CATEGORIES:Dégustation
ATTACH;FMTTYPE=image/jpeg:https://beer.be/wp-content/uploads/2020/01/81167890_1092952201040400_1990995900389916672_n.jpg
END:VEVENT
BEGIN:VEVENT
DTSTART;VALUE=DATE:20200122
DTEND;VALUE=DATE:20200123
DTSTAMP:20260423T002604
CREATED:20191230T195247Z
LAST-MODIFIED:20191230T195247Z
UID:14809-1579651200-1579737599@beer.be
SUMMARY:La cuisine de Gambrinus
DESCRIPTION:Le cycle « Une recette\, un repas\, une histoire » se poursuit avec la passionnante histoire de la cuisine à la bière qui mettra en lumière l’antagonisme entre les cultures de la bière et du vin en Europe. Comment les premières recettes à la bière se sont-elles immiscées dans la cuisine classique française zythophobe du 18e siècle ? Quels furent les premiers recueils de recettes entièrement dédiés à la bière dans le monde anglo-saxon ? Qui fut le précurseur de la cuisine à la bière en Belgique ? Toutes les réponses le mercredi 22 janvier à l’Archéobistrot du Préhistomuseum de Flémalle à 19h00…\nMenu:\nLes hors-d’œuvre: La soupe à la bière – Kolodnik polonais.\nPlat: Cailles à la kriek.\nDessert: Le petit sucré à la bière. \nRéservation : 04 275 49 75.
URL:https://beer.be/agenda/la-cuisine-de-gambrinus/
LOCATION:Archéobistrot\, 128 rue de la Grotte\, Flémalle-Haute\, 4400\, Belgique
CATEGORIES:Dégustation
ATTACH;FMTTYPE=image/jpeg:https://beer.be/wp-content/uploads/2019/12/80029829_1810018542468356_2654590204710486016_o.jpg
END:VEVENT
BEGIN:VEVENT
DTSTART;VALUE=DATE:20200126
DTEND;VALUE=DATE:20200127
DTSTAMP:20260423T002604
CREATED:20200121T185125Z
LAST-MODIFIED:20200121T185125Z
UID:14933-1579996800-1580083199@beer.be
SUMMARY:Brasserie La Source
DESCRIPTION:Our first event of 2020 is a visit to the new brewpub La Source in Brussels. Discover the brewery and the beers with us!
URL:https://beer.be/agenda/brasserie-la-source/
LOCATION:La Source Beer Co.\, 4 rue Dieudonné Lefèvre\, Bruxelles\, 1020\, Belgique
CATEGORIES:Dégustation
ATTACH;FMTTYPE=image/jpeg:https://beer.be/wp-content/uploads/2020/01/83356522_2965657956785928_5854231915564892160_o.jpg
END:VEVENT
END:VCALENDAR