BEGIN:VCALENDAR
VERSION:2.0
PRODID:-//Beer.be - ECPv6.15.20//NONSGML v1.0//EN
CALSCALE:GREGORIAN
METHOD:PUBLISH
X-WR-CALNAME:Beer.be
X-ORIGINAL-URL:https://beer.be
X-WR-CALDESC:Évènements pour Beer.be
REFRESH-INTERVAL;VALUE=DURATION:PT1H
X-Robots-Tag:noindex
X-PUBLISHED-TTL:PT1H
BEGIN:VTIMEZONE
TZID:Europe/Brussels
BEGIN:DAYLIGHT
TZOFFSETFROM:+0100
TZOFFSETTO:+0200
TZNAME:CEST
DTSTART:20190331T010000
END:DAYLIGHT
BEGIN:STANDARD
TZOFFSETFROM:+0200
TZOFFSETTO:+0100
TZNAME:CET
DTSTART:20191027T010000
END:STANDARD
BEGIN:DAYLIGHT
TZOFFSETFROM:+0100
TZOFFSETTO:+0200
TZNAME:CEST
DTSTART:20200329T010000
END:DAYLIGHT
BEGIN:STANDARD
TZOFFSETFROM:+0200
TZOFFSETTO:+0100
TZNAME:CET
DTSTART:20201025T010000
END:STANDARD
BEGIN:DAYLIGHT
TZOFFSETFROM:+0100
TZOFFSETTO:+0200
TZNAME:CEST
DTSTART:20210328T010000
END:DAYLIGHT
BEGIN:STANDARD
TZOFFSETFROM:+0200
TZOFFSETTO:+0100
TZNAME:CET
DTSTART:20211031T010000
END:STANDARD
END:VTIMEZONE
BEGIN:VEVENT
DTSTART;VALUE=DATE:20200201
DTEND;VALUE=DATE:20200202
DTSTAMP:20260422T223313
CREATED:20200124T192004Z
LAST-MODIFIED:20200124T192004Z
UID:14972-1580515200-1580601599@beer.be
SUMMARY:Soirée Beer Market: "100% De Molen"
DESCRIPTION:Qui a encore besoin qu'on lui présente cette légendaire brasserie néerlandaise? De Molen\, sans conteste l'une des meilleures brasseries dans ce pays depuis des années. Et vous savez quoi? Il y a des tonnes de nouveautés chez eux\, ces derniers temps. L'occasion de les découvrir. BONUS: Tous les participant(e)s à cette soirée dégustation joueront automatiquement à une tombola gratuite pour gagner une superbe plaque murale en métal de la brasserie De Molen. \nConcept : 7 bières artisanales vous sont présentées et décrites. Et bien sûr vous les goûtez. Les thèmes de ces soirées récurrentes varient (exploration d’un pays en particulier\, d’un style\, etc…). Ces séances se déroulent généralement le mercredi\, le vendredi ou le samedi à 19h30 après la fermeture de la boutique.
URL:https://beer.be/agenda/soiree-beer-market-100-de-molen/
LOCATION:Beer Market\, 2 Rue Louis de Brouckère\, La Louvière\, 7100\, Belgique
CATEGORIES:Dégustation
ATTACH;FMTTYPE=image/jpeg:https://beer.be/wp-content/uploads/2020/01/83636114_1109909892677964_4091638866987974656_n.jpg
END:VEVENT
BEGIN:VEVENT
DTSTART;VALUE=DATE:20200206
DTEND;VALUE=DATE:20200207
DTSTAMP:20260422T223313
CREATED:20200107T171426Z
LAST-MODIFIED:20200107T171426Z
UID:14853-1580947200-1581033599@beer.be
SUMMARY:Beer for Wine Lovers - a Belgian beer tasting
DESCRIPTION:An evening celebrating the best Belgian beers that are equal to\, or better than\, any Chardonnay or Merlot. "I don't really like beer\, but I drink wine." Over the course of an evening award-winning writer and beer sommelier Eoghan Walsh of Brussels Beer City will talk you through a tasting of 4 of Belgium's best beers that any wine-lover will be unable to resist.
URL:https://beer.be/agenda/beer-for-wine-lovers-a-belgian-beer-tasting/
LOCATION:Bon Jour\, 57 rue du Sceptre\, Bruxelles\, 1050\, Belgique
CATEGORIES:Dégustation
ATTACH;FMTTYPE=image/jpeg:https://beer.be/wp-content/uploads/2020/01/81594008_2465849390331512_7197878482402017280_o.jpg
END:VEVENT
BEGIN:VEVENT
DTSTART;VALUE=DATE:20200209
DTEND;VALUE=DATE:20200210
DTSTAMP:20260422T223313
CREATED:20200124T191456Z
LAST-MODIFIED:20200124T191456Z
UID:14960-1581206400-1581292799@beer.be
SUMMARY:Présentation de la Nomad 74160
DESCRIPTION:La nouvelle Nomad est arrivée\, venez la découvrir avec son accord chocolaté\, en présence du brasseur et d'un invité surprise\nRESERVATION INDISPENSABLE VIA LE DOODLE CI-DESSOUS\nhttps://doodle.com/poll/nhe7ppd4asdaci8m \nEnvie de prolonger? un menu spécialement créé par Amaury en 3 services bières comprises sera proposé à 45eur\nréservation uniquement via tel au 063/242767)
URL:https://beer.be/agenda/presentation-de-la-nomad-74160/
LOCATION:Miorge Mihoublon\, 43 zone artisanale de Weyler\, Arlon\, 6700\, Belgique
CATEGORIES:Dégustation
ATTACH;FMTTYPE=image/jpeg:https://beer.be/wp-content/uploads/2020/01/82772106_3230404686987042_3712739240136671232_o.jpg
END:VEVENT
BEGIN:VEVENT
DTSTART;TZID=Europe/Brussels:20200214T080000
DTEND;TZID=Europe/Brussels:20200214T170000
DTSTAMP:20260422T223313
CREATED:20200206T105725Z
LAST-MODIFIED:20200206T105725Z
UID:15023-1581667200-1581699600@beer.be
SUMMARY:Soirée Beer Market : "Dry & Bitter - 100% Blondes"
DESCRIPTION:L'une des meilleures brasseries du Danemark\, qui nous régalera avec une belle sélection de nouveautés\, principalement des IPA et autres bières houblonnées. Du houblon en quantité industrielle!\n!!! SOIRÉE 100% BLONDE !!! Bonus: Tous les participant(e)s à cette soirée dégustation seront automatiquement en lice pour une tombola gratuite où une jolie surprise sera à remporter. \nConcept : 7 bières artisanales vous sont présentées et décrites. Et bien sûr vous les goûtez. Les thèmes de ces soirées récurrentes varient (exploration d’un pays en particulier\, d’un style\, etc…). Ces séances se déroulent généralement le mercredi\, le vendredi ou le samedi à 19h30 après la fermeture de la boutique.
URL:https://beer.be/agenda/soiree-beer-market-dry-bitter-100-blondes/
LOCATION:Beer Market\, 2 Rue Louis de Brouckère\, La Louvière\, 7100\, Belgique
CATEGORIES:Dégustation
ATTACH;FMTTYPE=image/jpeg:https://beer.be/wp-content/uploads/2020/02/84740713_1119230268412593_6590644993797390336_o.jpg
END:VEVENT
BEGIN:VEVENT
DTSTART;VALUE=DATE:20200216
DTEND;VALUE=DATE:20200217
DTSTAMP:20260422T223313
CREATED:20200130T185651Z
LAST-MODIFIED:20200130T185651Z
UID:14991-1581811200-1581897599@beer.be
SUMMARY:Estaminets/Staminees & Cafes
DESCRIPTION:À partir de l'exposition "Estaminets / Staminees & cafés" dans les Halles Saint-Géry\, nous entamerons une promenade dans le centre de Bruxelles. Nous vous montrerons où les Bruxellois vivaient\, travaillaient... et se retrouvaient dans leurs estaminets et cafés préférés. Nous parlerons de l'histoire des gens ordinaires du Moyen Âge à nos jours. Nous déambulerons de café en café en passant par le Greenwich\, l'Archiduc\, le Coq\, le Metteko\, le Falstaff\, le Cirio\, de même que par la rue des Bouchers\, la Grand-Place avec le Cygne et les galeries Saint-Hubert. Nous terminerons par une dégustation! (comprise)
URL:https://beer.be/agenda/estaminets-staminees-cafes/
LOCATION:Sint-Gorikshallen\, Sint-Goriksplein 1\, Bruxelles\, 1000\, Belgique
CATEGORIES:Dégustation
ATTACH;FMTTYPE=image/jpeg:https://beer.be/wp-content/uploads/2020/01/82964587_2980547598630297_8604724359128416256_o.jpg
END:VEVENT
BEGIN:VEVENT
DTSTART;VALUE=DATE:20200221
DTEND;VALUE=DATE:20200222
DTSTAMP:20260422T223313
CREATED:20200218T170547Z
LAST-MODIFIED:20200218T170547Z
UID:15143-1582243200-1582329599@beer.be
SUMMARY:Loverbeer Food Pairing And TTO
DESCRIPTION:Valter Loverier coming for a little visit to Brussels. What a beautiful occasion for organising a tap take over and a little food pairing with the new beers arrived on December!? New Releases a decouvrir and Piemontese menù available for dinner only with reservation. (19h-21h)
URL:https://beer.be/agenda/loverbeer-food-pairing-and-tto-2/
LOCATION:La Tana 2.0\, 22 rue de l'Enseignement\, Bruxelles\, 1000\, Belgique
CATEGORIES:Dégustation
ATTACH;FMTTYPE=image/jpeg:https://beer.be/wp-content/uploads/2020/02/86807008_1315571701969744_727850790344982528_n.jpg
END:VEVENT
END:VCALENDAR