BEGIN:VCALENDAR
VERSION:2.0
PRODID:-//Beer.be - ECPv6.15.20//NONSGML v1.0//EN
CALSCALE:GREGORIAN
METHOD:PUBLISH
X-ORIGINAL-URL:https://beer.be
X-WR-CALDESC:Évènements pour Beer.be
REFRESH-INTERVAL;VALUE=DURATION:PT1H
X-Robots-Tag:noindex
X-PUBLISHED-TTL:PT1H
BEGIN:VTIMEZONE
TZID:Europe/Brussels
BEGIN:DAYLIGHT
TZOFFSETFROM:+0100
TZOFFSETTO:+0200
TZNAME:CEST
DTSTART:20190331T010000
END:DAYLIGHT
BEGIN:STANDARD
TZOFFSETFROM:+0200
TZOFFSETTO:+0100
TZNAME:CET
DTSTART:20191027T010000
END:STANDARD
BEGIN:DAYLIGHT
TZOFFSETFROM:+0100
TZOFFSETTO:+0200
TZNAME:CEST
DTSTART:20200329T010000
END:DAYLIGHT
BEGIN:STANDARD
TZOFFSETFROM:+0200
TZOFFSETTO:+0100
TZNAME:CET
DTSTART:20201025T010000
END:STANDARD
BEGIN:DAYLIGHT
TZOFFSETFROM:+0100
TZOFFSETTO:+0200
TZNAME:CEST
DTSTART:20210328T010000
END:DAYLIGHT
BEGIN:STANDARD
TZOFFSETFROM:+0200
TZOFFSETTO:+0100
TZNAME:CET
DTSTART:20211031T010000
END:STANDARD
END:VTIMEZONE
BEGIN:VEVENT
DTSTART;VALUE=DATE:20200824
DTEND;VALUE=DATE:20200825
DTSTAMP:20260422T132109
CREATED:20200820T102903Z
LAST-MODIFIED:20200820T102903Z
UID:15565-1598227200-1598313599@beer.be
SUMMARY:Levure\, yeast\, levadura\, lievito!
DESCRIPTION:...we speak about yeast...in the beer\, in the bread\, in pizza...etc... 4 beers for taste 4 type of differents fermentations.
URL:https://beer.be/agenda/levure-yeast-levadura-lievito/
LOCATION:La Tana\, 10 rue de l'Enseignement\, Bruxelles\, 1000\, Belgique
CATEGORIES:Dégustation
END:VEVENT
BEGIN:VEVENT
DTSTART;VALUE=DATE:20200824
DTEND;VALUE=DATE:20200825
DTSTAMP:20260422T132109
CREATED:20200820T165526Z
LAST-MODIFIED:20200820T165526Z
UID:15625-1598227200-1598313599@beer.be
SUMMARY:Beer tasting
DESCRIPTION:Come and try our delicious beers. Every visitor can try 5 beer of their choice out of our beer menu.
URL:https://beer.be/agenda/beer-tasting/
LOCATION:Cafe Papa Jos\, Blindestraat 39\, Anvers\, 2000\, Belgique
CATEGORIES:Dégustation
ATTACH;FMTTYPE=image/png:https://beer.be/wp-content/uploads/2020/08/BBW-no-foto-gray.png
END:VEVENT
BEGIN:VEVENT
DTSTART;VALUE=DATE:20200825
DTEND;VALUE=DATE:20200826
DTSTAMP:20260422T132109
CREATED:20200814T091434Z
LAST-MODIFIED:20200814T091434Z
UID:15541-1598313600-1598399999@beer.be
SUMMARY:Belgian Food and Italian Craft Beers
DESCRIPTION:This evening we work with our friend from Den Tallurelekker. Is a very good belgian restaurant with very good food. Is grandma's kitchen with traditional belge food. This time\, me at la Tana\, I'm looking for some good beer from Italy for you. The reservation is obliged and the places limited. Last day for reservation Saturday 22th!
URL:https://beer.be/agenda/belgian-food-and-italian-craft-beers/
LOCATION:La Tana\, 10 rue de l'Enseignement\, Bruxelles\, 1000\, Belgique
CATEGORIES:Dégustation
ATTACH;FMTTYPE=image/jpeg:https://beer.be/wp-content/uploads/2020/08/117547396_1456145481245698_4853334780286256737_o.jpg
END:VEVENT
BEGIN:VEVENT
DTSTART;VALUE=DATE:20200826
DTEND;VALUE=DATE:20200827
DTSTAMP:20260422T132109
CREATED:20200820T171636Z
LAST-MODIFIED:20200820T171636Z
UID:15651-1598400000-1598486399@beer.be
SUMMARY:Aperó with Tom (Antidoot) – La Tana & Agalmalt
DESCRIPTION:Tom coming for a drink sometime with us. 4 new beers to taste and some Italian food to eat… La Tana style!
URL:https://beer.be/agenda/apero-with-tom-antidoot-la-tana-agalmalt/
LOCATION:La Tana\, 10 rue de l'Enseignement\, Bruxelles\, 1000\, Belgique
CATEGORIES:Dégustation
ATTACH;FMTTYPE=image/png:https://beer.be/wp-content/uploads/2020/08/BBW-no-foto-gray.png
END:VEVENT
BEGIN:VEVENT
DTSTART;VALUE=DATE:20200826
DTEND;VALUE=DATE:20200901
DTSTAMP:20260422T132109
CREATED:20200820T103745Z
LAST-MODIFIED:20200820T103745Z
UID:15570-1598400000-1598918399@beer.be
SUMMARY:Barrel aged goodies from “The Brewers Cave”
DESCRIPTION:Sven Dekleermaeker\, Head brewer at De Koninck has his own cave at the brewery where he experiments with barrel-aged goodies. Together with Sven we tasted and selected 2 nice beers which will go on draft at the bar during Belgium Beer week.
URL:https://beer.be/agenda/barrel-aged-goodies-from-the-brewers-cave/
LOCATION:Dr. Beer\, Adriaan Brouwerstraat 31\, Anvers\, 2000\, Belgique
CATEGORIES:Dégustation
ATTACH;FMTTYPE=image/jpeg:https://beer.be/wp-content/uploads/2020/08/barrel-1130x650-1.jpg
END:VEVENT
BEGIN:VEVENT
DTSTART;VALUE=DATE:20200827
DTEND;VALUE=DATE:20200828
DTSTAMP:20260422T132109
CREATED:20200820T104619Z
LAST-MODIFIED:20200820T104630Z
UID:15586-1598486400-1598572799@beer.be
SUMMARY:Belgium Beer Week / The Ale Apothecary w/ MatCarbo
DESCRIPTION:The Ale Apothecary is an American brewery. The brewery creates totally natural barrel-aged beers\, using ingredients off their land or sourced nearby from Oregon farms. MatCarbo is bringing 10 bottles of their finest products. Beware\, the sittings are limited to 12 persons. Booking at the bar or by email.
URL:https://beer.be/agenda/belgium-beer-week-the-ale-apothecary-w-matcarbo/
CATEGORIES:Dégustation
ATTACH;FMTTYPE=image/jpeg:https://beer.be/wp-content/uploads/2020/08/118120365_977100896064147_5945146260264141162_n.jpg
END:VEVENT
BEGIN:VEVENT
DTSTART;VALUE=DATE:20200827
DTEND;VALUE=DATE:20200828
DTSTAMP:20260422T132109
CREATED:20200820T163834Z
LAST-MODIFIED:20200820T163834Z
UID:15606-1598486400-1598572799@beer.be
SUMMARY:Belgium Beer Week : BAPAS (Beer X Tapas) - Pairing Fermenthings
DESCRIPTION:Venez déguster de délicieux et surprenants tapas concoctés par notre ami Yannick de Fermenthings. Tout ça en accord avec nos bières!
URL:https://beer.be/agenda/belgium-beer-week-bapas-beer-x-tapas-pairing-fermenthings/
LOCATION:La Source Beer Co.\, 4 rue Dieudonné Lefèvre\, Bruxelles\, 1020\, Belgique
CATEGORIES:Dégustation
ATTACH;FMTTYPE=image/jpeg:https://beer.be/wp-content/uploads/2020/08/117803579_709623969595974_4751301716550478277_o.jpg
END:VEVENT
BEGIN:VEVENT
DTSTART;VALUE=DATE:20200827
DTEND;VALUE=DATE:20200828
DTSTAMP:20260422T132109
CREATED:20200820T172007Z
LAST-MODIFIED:20200820T172007Z
UID:15656-1598486400-1598572799@beer.be
SUMMARY:The Struise & chocolate after-dinner!
DESCRIPTION:Thursday and Friday after your dinner or another event in Brussels and\, you want some chocolate and beer\, no problem\, news beers from De Struise Brouerey are ready for you. A little taster of 4 beers and some chocolate or little pastry dessert homemade. The evening will be black!
URL:https://beer.be/agenda/the-struise-chocolate-after-dinner/
LOCATION:La Tana\, 10 rue de l'Enseignement\, Bruxelles\, 1000\, Belgique
CATEGORIES:Dégustation
ATTACH;FMTTYPE=image/jpeg:https://beer.be/wp-content/uploads/2020/08/The-Struise.jpg
END:VEVENT
BEGIN:VEVENT
DTSTART;VALUE=DATE:20200827
DTEND;VALUE=DATE:20200828
DTSTAMP:20260422T132109
CREATED:20200820T172126Z
LAST-MODIFIED:20200820T172126Z
UID:15659-1598486400-1598572799@beer.be
SUMMARY:Antwerp Tap Takeover day 1
DESCRIPTION:Thursday the 27th we’ll be inviting 4 Antwerp breweries to host our Beerweek event. As we want to support our locals in these hard times\, we found it a great opportunity to showcase Antwerp craftbeer. The following breweries will participate : \nVleesmeester brewery (Edegem): They will bring a fresh keg of one of their ‘classics’ on draft + bottles.\nTall poppy (Edegem): He has made a collab beer with alvinne witch will be on draft + bottles.\nMalcroys – hoppy cat (Kontich) A unique batch of the ‘All together’ neipa brewed especially for this evening + bottles.
URL:https://beer.be/agenda/antwerp-tap-takeover-day-1/
LOCATION:Spéciale Belge\, 161 Lamorinierestraat\, Anvers\, 2018\, Belgique
CATEGORIES:Dégustation
ATTACH;FMTTYPE=image/jpeg:https://beer.be/wp-content/uploads/2020/08/beer-1513436_1280-1130x650-1.jpg
END:VEVENT
BEGIN:VEVENT
DTSTART;VALUE=DATE:20200828
DTEND;VALUE=DATE:20200829
DTSTAMP:20260422T132109
CREATED:20200820T172436Z
LAST-MODIFIED:20200820T172436Z
UID:15662-1598572800-1598659199@beer.be
SUMMARY:Belgian Beers pairing Belgian Chocolates
DESCRIPTION:Guided by Antwerp Beer Tours and Choco Experiencia in Antwerp\, we choose local beers and chocolates that we found interesting when tasting in your mouth. Will the perfect match for Antwerp Handjes be an Antwerp Beer? This event can be booked but the organization keeps the last decision to cancel in case that local rules don’t allow to take place this event.
URL:https://beer.be/agenda/belgian-beers-pairing-belgian-chocolates/
CATEGORIES:Dégustation
ATTACH;FMTTYPE=image/jpeg:https://beer.be/wp-content/uploads/2020/08/BBW-Beerchocolate-pairing.jpg
END:VEVENT
BEGIN:VEVENT
DTSTART;VALUE=DATE:20200828
DTEND;VALUE=DATE:20200831
DTSTAMP:20260422T132109
CREATED:20200820T164920Z
LAST-MODIFIED:20200820T164920Z
UID:15618-1598572800-1598831999@beer.be
SUMMARY:Brekeriet Vild Series Bottle Opening
DESCRIPTION:Fellow sour lovers\, here's a tasting that will interest you... We'll be opening 9 bottles from Brekeriet's Vild series. This range is exclusively barrel aged!🍺🍻🍺🍻🍺🍻 \nHere's the weekend program :\n- Vild Aurora (Wild ale with cherries and blackcurrants\, barrel aged in Rioja wine barrels)\n- Vild Blondette ( Barrel aged sour ale)\n- Vild Cassis (Wild ale oak fermented with blackcurrants)\n- Vild Chêne (Sour ale aged in apple brandy barrels for 10 months)\n- Vild Coulis (Wild ale aged in Rioja wine barrels for 13 months\, blended with hand picked sloe berries and sour cherries)\n- Vild Roken (Sour ale brewed with peat smoked malt\, aged in Bourbon barrels for 13 months)\n- Vild Sourbon (Amber sour ale spontaneously fermented and blended from several different bourbon barrels)\n- Vild Tilda (Sour ale aged in red wine barrels for 18 months\, blended with sea buckthorn and Citra hops)\n- Vild Viola (Sour ale aged in Bourbon barrels for 14 months with cherries and blackcurrants)
URL:https://beer.be/agenda/brekeriet-vild-series-bottle-opening/
LOCATION:Beergium Bar\, 1227 Chaussée de Waterloo\, Bruxelles\, 1180\, Belgique
CATEGORIES:Dégustation
ATTACH;FMTTYPE=image/jpeg:https://beer.be/wp-content/uploads/2020/08/118044197_2745658755671231_5541207100196242633_o.jpg
END:VEVENT
BEGIN:VEVENT
DTSTART;VALUE=DATE:20200829
DTEND;VALUE=DATE:20200830
DTSTAMP:20260422T132109
CREATED:20200814T090827Z
LAST-MODIFIED:20200814T090827Z
UID:15531-1598659200-1598745599@beer.be
SUMMARY:Tap take over "Kemker" and dinner
DESCRIPTION:This day is dedicated to Jan Kemker. The last visit was very interesting. We decided to organise a dinner wit him. On the afternoon you can taste some beers on tap and\, a 19h if you reserved your place\, you can stay for dinner. 4 dishes and 4 beers for pairing and Cedric of Agalmalt can explain oir work on pairing and our visit in Germany. I hope Jan can coming with us... last minute info!\nReservation obligated! 6 max tables!
URL:https://beer.be/agenda/tap-take-over-kemker-and-dinner/
LOCATION:La Tana\, 10 rue de l'Enseignement\, Bruxelles\, 1000\, Belgique
CATEGORIES:Dégustation
ATTACH;FMTTYPE=image/jpeg:https://beer.be/wp-content/uploads/2020/08/117607194_1456145097912403_2805834833092849589_o.jpg
END:VEVENT
BEGIN:VEVENT
DTSTART;VALUE=DATE:20200829
DTEND;VALUE=DATE:20200830
DTSTAMP:20260422T132109
CREATED:20200820T173309Z
LAST-MODIFIED:20200820T173309Z
UID:15674-1598659200-1598745599@beer.be
SUMMARY:Cheese & Beer – Pairing w/ St Octave
DESCRIPTION:CHEESE + BEER = ♥ Come and discover new incredible pairings in collaboration with our friends from Saint Octave. Same concept as the last time: we offer you a series of pairings\, you taste what you want\, when you want and as much as you want! 🙂
URL:https://beer.be/agenda/cheese-beer-pairing-w-st-octave/
LOCATION:La Source Beer Co.\, 4 rue Dieudonné Lefèvre\, Bruxelles\, 1020\, Belgique
CATEGORIES:Dégustation
ATTACH;FMTTYPE=image/jpeg:https://beer.be/wp-content/uploads/2020/08/chees-307f8ec7e33300816fb1f180556e3df9.jpg
END:VEVENT
BEGIN:VEVENT
DTSTART;VALUE=DATE:20200829
DTEND;VALUE=DATE:20200830
DTSTAMP:20260422T132109
CREATED:20200820T173410Z
LAST-MODIFIED:20200820T173410Z
UID:15677-1598659200-1598745599@beer.be
SUMMARY:Beer in unexpected places
DESCRIPTION:We now you all love beer\, and we do to! So much even\, that we enjoy other beverages that use beer unexpectedly. How about a whiskey aged in beer barrels? Or a cider with lambic ? During this event\, we will serve you 4 tasters of beverages\, that you normally wouldn’t link to beer\, but were made with beer!
URL:https://beer.be/agenda/beer-in-unexpected-places/
LOCATION:Siris\, Stack B.04 \, Rijnkaai\, Anvers\, 2000\, Belgique
CATEGORIES:Dégustation
ATTACH;FMTTYPE=image/png:https://beer.be/wp-content/uploads/2020/08/BBW-no-foto-gray.png
END:VEVENT
BEGIN:VEVENT
DTSTART;VALUE=DATE:20200830
DTEND;VALUE=DATE:20200831
DTSTAMP:20260422T132109
CREATED:20200814T091305Z
LAST-MODIFIED:20200814T091305Z
UID:15538-1598745600-1598831999@beer.be
SUMMARY:Cyclic Brunch @La-tana + Agalmalt
DESCRIPTION:Together with Cedric we decided to give this Beer Week a blasting end with a brunch with some of the finest brews of Cyclic Beer Farm. Several courses for a fancy Sunday beer & food gathering.\nA collaboration between Italy\, Spain and Belgium: life’s good and tasty! Reservation obligated! 14 places max 6 max for table.
URL:https://beer.be/agenda/cyclic-brunch-la-tana-agalmalt/
LOCATION:La Tana\, 10 rue de l'Enseignement\, Bruxelles\, 1000\, Belgique
CATEGORIES:Dégustation
ATTACH;FMTTYPE=image/jpeg:https://beer.be/wp-content/uploads/2020/08/117888452_1456932411167005_8234559646710609482_o.jpg
END:VEVENT
BEGIN:VEVENT
DTSTART;VALUE=DATE:20200830
DTEND;VALUE=DATE:20200831
DTSTAMP:20260422T132109
CREATED:20200820T102338Z
LAST-MODIFIED:20200820T102338Z
UID:15558-1598745600-1598831999@beer.be
SUMMARY:Ultimate Tasting: an evening with Cedric & Pizza (and beer)
DESCRIPTION:We’ll spend the last hours of this amazing first edition of the #BelgiumBeerWeek2020 in good company. In one of the youngest yet promising beer places of Brussels\, we’ll have a taste of their exclusive selection of l’Ermitage\, beers\, and some of their fresh homemade and craft fingerfood and pizzas. \nCan also be translated in French. To secure your seat\, send an email: hello@agalmalt (mandatory).
URL:https://beer.be/agenda/ultimate-tasting-an-evening-with-cedric-pizza-and-beer/
CATEGORIES:Dégustation
ATTACH;FMTTYPE=image/jpeg:https://beer.be/wp-content/uploads/2020/08/118101484_175575610678215_1860300690727000881_o.jpg
END:VEVENT
END:VCALENDAR