BEGIN:VCALENDAR
VERSION:2.0
PRODID:-//Beer.be - ECPv6.15.20//NONSGML v1.0//EN
CALSCALE:GREGORIAN
METHOD:PUBLISH
X-ORIGINAL-URL:https://beer.be
X-WR-CALDESC:Évènements pour Beer.be
REFRESH-INTERVAL;VALUE=DURATION:PT1H
X-Robots-Tag:noindex
X-PUBLISHED-TTL:PT1H
BEGIN:VTIMEZONE
TZID:Europe/Brussels
BEGIN:DAYLIGHT
TZOFFSETFROM:+0100
TZOFFSETTO:+0200
TZNAME:CEST
DTSTART:20190331T010000
END:DAYLIGHT
BEGIN:STANDARD
TZOFFSETFROM:+0200
TZOFFSETTO:+0100
TZNAME:CET
DTSTART:20191027T010000
END:STANDARD
BEGIN:DAYLIGHT
TZOFFSETFROM:+0100
TZOFFSETTO:+0200
TZNAME:CEST
DTSTART:20200329T010000
END:DAYLIGHT
BEGIN:STANDARD
TZOFFSETFROM:+0200
TZOFFSETTO:+0100
TZNAME:CET
DTSTART:20201025T010000
END:STANDARD
BEGIN:DAYLIGHT
TZOFFSETFROM:+0100
TZOFFSETTO:+0200
TZNAME:CEST
DTSTART:20210328T010000
END:DAYLIGHT
BEGIN:STANDARD
TZOFFSETFROM:+0200
TZOFFSETTO:+0100
TZNAME:CET
DTSTART:20211031T010000
END:STANDARD
END:VTIMEZONE
BEGIN:VEVENT
DTSTART;VALUE=DATE:20201001
DTEND;VALUE=DATE:20201002
DTSTAMP:20260422T100328
CREATED:20200918T055312Z
LAST-MODIFIED:20200918T055312Z
UID:15826-1601510400-1601596799@beer.be
SUMMARY:Dégustation de bières bruxelloises au Palais du Coudenberg
DESCRIPTION:Au cœur des vestiges du prestigieux Palais de Charles Quint\, la spécialiste et zythologue Magali De Vinck propose une véritable initiation aux bières bruxelloises. Lambic\, Gueuze ou Faro ? Découvrez leur mode de fabrication et leur histoire ;  apprenez à les distinguer et bien sûr\, à les déguster comme il faut !
URL:https://beer.be/agenda/degustation-de-bieres-bruxelloises-au-palais-du-coudenberg/
LOCATION:Palais du Coudenberg\, 10 Place Royale\, Bruxelles\, 1000\, Belgique
CATEGORIES:Dégustation
ATTACH;FMTTYPE=image/jpeg:https://beer.be/wp-content/uploads/2020/09/Coudenberg-Andrea-Anoni-Brussels-Museum-Campaign-I-Selection-4-1200x600-1.jpg
END:VEVENT
BEGIN:VEVENT
DTSTART;VALUE=DATE:20201003
DTEND;VALUE=DATE:20201004
DTSTAMP:20260422T100328
CREATED:20200918T055402Z
LAST-MODIFIED:20200918T055402Z
UID:15830-1601683200-1601769599@beer.be
SUMMARY:Dégustation de bières bruxelloises au Palais du Coudenberg
DESCRIPTION:Au cœur des vestiges du prestigieux Palais de Charles Quint\, la spécialiste et zythologue Magali De Vinck propose une véritable initiation aux bières bruxelloises. Lambic\, Gueuze ou Faro ? Découvrez leur mode de fabrication et leur histoire ;  apprenez à les distinguer et bien sûr\, à les déguster comme il faut !
URL:https://beer.be/agenda/degustation-de-bieres-bruxelloises-au-palais-du-coudenberg-2/
LOCATION:Palais du Coudenberg\, 10 Place Royale\, Bruxelles\, 1000\, Belgique
CATEGORIES:Dégustation
ATTACH;FMTTYPE=image/jpeg:https://beer.be/wp-content/uploads/2020/09/Coudenberg-Andrea-Anoni-Brussels-Museum-Campaign-I-Selection-4-1200x600-1.jpg
END:VEVENT
BEGIN:VEVENT
DTSTART;VALUE=DATE:20201003
DTEND;VALUE=DATE:20201004
DTSTAMP:20260422T100328
CREATED:20200918T055520Z
LAST-MODIFIED:20200918T055520Z
UID:15832-1601683200-1601769599@beer.be
SUMMARY:Sofie’s World – Dégustation de Bières
DESCRIPTION:Profitez du cadre exceptionnel de la salle du Conseil du Musée des Brasseurs de la Grand-Place pour tout apprendre sur le caractère si particulier des bières belges. Dans cet atelier de dégustation\, prenez un moment pour savourer quelques pintes mais surtout partager la passion et l’enthousiasme inépuisable de l’équipe de Sofie’s World à propos des brasseries\, histoires et traditions qui font de la bière belge notre fierté nationale.
URL:https://beer.be/agenda/sofies-world-degustation-de-bieres/
LOCATION:Musée des brasseurs belges\, Grand Place 10\, Bruxelles\, 1000\, Belgique
CATEGORIES:Dégustation
ATTACH;FMTTYPE=image/jpeg:https://beer.be/wp-content/uploads/2020/09/DSC07087SIZED-563x600-1.jpg
END:VEVENT
BEGIN:VEVENT
DTSTART;VALUE=DATE:20201007
DTEND;VALUE=DATE:20201008
DTSTAMP:20260422T100328
CREATED:20200927T110352Z
LAST-MODIFIED:20200927T110352Z
UID:15855-1602028800-1602115199@beer.be
SUMMARY:Table d'hôtes - Le Phare de la Source (food & beer pairing)
DESCRIPTION:Notre prochaine table d’hôtes « Le Phare de la Source » (food and beer pairing) aura lieu le mercredi 7 octobre en partenariat avec nos voisins de la brasserie La Source située à pas moins de 2\,2km du Phare!   Pendant cette délicieuse soirée notre Chef Simon vous proposera un menu 100% local et de saison  en accord avec différentes bières de La Source que l’on vous invitera à découvrir ou ré-découvrir  Etant donné la situation actuelle\, les places sont limitées alors FONCEZ et RÉSERVEZ par mail ou message.\nOn a hâte et on espère que vous aussi! \nINFOS PRATIQUES\n Menu fixe avec option végétarienne: apéritif\, entrée\, plat\, dessert\n Mercredi 7 octobre à 19h30\n 50€ par personne: menu 3 services\, apéritif et cocktail\, accord mets et bières (3 bières de 17cl)\, eau\n Covid19 proof? Toutes les mesures sanitaires seront bien évidemment respectées.\n hola@lepharedukanaal.com
URL:https://beer.be/agenda/table-dhotes-le-phare-de-la-source-food-beer-pairing/
LOCATION:Le phare du Kanaal\, 40 quai des Charbonnages\, Bruxelles\, 1000\, Belgique
CATEGORIES:Dégustation
ATTACH;FMTTYPE=image/jpeg:https://beer.be/wp-content/uploads/2020/09/120098937_1300130313662460_3838454021866191271_o.jpg
END:VEVENT
BEGIN:VEVENT
DTSTART;VALUE=DATE:20201011
DTEND;VALUE=DATE:20201013
DTSTAMP:20260422T100328
CREATED:20200918T055828Z
LAST-MODIFIED:20200918T055828Z
UID:15836-1602374400-1602547199@beer.be
SUMMARY:La Basilique « op z’n Brussels » – Dégustation de bières
DESCRIPTION:Découvrez la Basilique de Koekelberg en mode Bruxelles ! Une visite guidée de l’édifice suivie d’une dégustation de bières par Zythomania de l’Échappée Bière … Le tout totalement en Brusseleer !
URL:https://beer.be/agenda/la-basilique-op-zn-brussels-degustation-de-bieres/
LOCATION:Basilique de Koekelberg\, Parvis de la Basilique 1\, Bruxelles\, 1081\, Belgique
CATEGORIES:Dégustation
ATTACH;FMTTYPE=image/jpeg:https://beer.be/wp-content/uploads/2020/09/Zythomania-Basilique-1024x683-1.jpg
END:VEVENT
BEGIN:VEVENT
DTSTART;VALUE=DATE:20201016
DTEND;VALUE=DATE:20201018
DTSTAMP:20260422T100328
CREATED:20201013T061835Z
LAST-MODIFIED:20201013T061835Z
UID:15927-1602806400-1602979199@beer.be
SUMMARY:Dutch & Polish Beer Weekend
DESCRIPTION:2 countries\, 3 awesome breweries. That's right. During this Dutch & Polish Beer Weekend\, we are releasing more than 15 new craft beers from 3 breweries we enjoy showcasing in our shop.\nBrouwerij Frontaal (NL)\nPinta Browar (PL)\nFunky Fluid Browar (PL)
URL:https://beer.be/agenda/dutch-polish-beer-weekend/
CATEGORIES:Dégustation
ATTACH;FMTTYPE=image/jpeg:https://beer.be/wp-content/uploads/2020/10/121339418_183254966728171_2632548030947802384_o.jpg
END:VEVENT
END:VCALENDAR