BEGIN:VCALENDAR
VERSION:2.0
PRODID:-//Beer.be - ECPv6.15.20//NONSGML v1.0//EN
CALSCALE:GREGORIAN
METHOD:PUBLISH
X-ORIGINAL-URL:https://beer.be
X-WR-CALDESC:Évènements pour Beer.be
REFRESH-INTERVAL;VALUE=DURATION:PT1H
X-Robots-Tag:noindex
X-PUBLISHED-TTL:PT1H
BEGIN:VTIMEZONE
TZID:Europe/Brussels
BEGIN:DAYLIGHT
TZOFFSETFROM:+0100
TZOFFSETTO:+0200
TZNAME:CEST
DTSTART:20200329T010000
END:DAYLIGHT
BEGIN:STANDARD
TZOFFSETFROM:+0200
TZOFFSETTO:+0100
TZNAME:CET
DTSTART:20201025T010000
END:STANDARD
BEGIN:DAYLIGHT
TZOFFSETFROM:+0100
TZOFFSETTO:+0200
TZNAME:CEST
DTSTART:20210328T010000
END:DAYLIGHT
BEGIN:STANDARD
TZOFFSETFROM:+0200
TZOFFSETTO:+0100
TZNAME:CET
DTSTART:20211031T010000
END:STANDARD
BEGIN:DAYLIGHT
TZOFFSETFROM:+0100
TZOFFSETTO:+0200
TZNAME:CEST
DTSTART:20220327T010000
END:DAYLIGHT
BEGIN:STANDARD
TZOFFSETFROM:+0200
TZOFFSETTO:+0100
TZNAME:CET
DTSTART:20221030T010000
END:STANDARD
END:VTIMEZONE
BEGIN:VEVENT
DTSTART;VALUE=DATE:20210306
DTEND;VALUE=DATE:20210307
DTSTAMP:20260422T003917
CREATED:20210215T145241Z
LAST-MODIFIED:20210215T145241Z
UID:16247-1614988800-1615075199@beer.be
SUMMARY:NOLA 2021 COVID-Proof
DESCRIPTION:In 2019 (Hoppy Weizen) en 2020 (American Porter) brouwde ik samen met mijn dierbare NOLA-vriendinnen een fantastisch bier bij Siphon Brewing. Mijn NOLA-brouwteam voor dit jaar was er helemaal klaar voor\, maar COVID-19 gooit ook hier roet in het eten! Toch willen we je ook dit jaar een tof programma aanbieden: online\, volledig corona-proof.\nWat kun je verwachten?\nkennismaking met de brouwerijen van verschillende NOLA-dames\n voorstelling van één van hun eigen bieren\n interviews van en door NOLA-dames\n interactieve deelname aan de hand van een tastingbox met de voorgestelde bieren\n en meer
URL:https://beer.be/agenda/nola-2021-covid-proof/
CATEGORIES:Dégustation
ATTACH;FMTTYPE=image/jpeg:https://beer.be/wp-content/uploads/2021/02/147946194_1171388063295398_6305232457731609898_o.jpg
END:VEVENT
END:VCALENDAR