BEGIN:VCALENDAR
VERSION:2.0
PRODID:-//Beer.be - ECPv6.15.20//NONSGML v1.0//EN
CALSCALE:GREGORIAN
METHOD:PUBLISH
X-WR-CALNAME:Beer.be
X-ORIGINAL-URL:https://beer.be
X-WR-CALDESC:Évènements pour Beer.be
REFRESH-INTERVAL;VALUE=DURATION:PT1H
X-Robots-Tag:noindex
X-PUBLISHED-TTL:PT1H
BEGIN:VTIMEZONE
TZID:Europe/Brussels
BEGIN:DAYLIGHT
TZOFFSETFROM:+0100
TZOFFSETTO:+0200
TZNAME:CEST
DTSTART:20200329T010000
END:DAYLIGHT
BEGIN:STANDARD
TZOFFSETFROM:+0200
TZOFFSETTO:+0100
TZNAME:CET
DTSTART:20201025T010000
END:STANDARD
BEGIN:DAYLIGHT
TZOFFSETFROM:+0100
TZOFFSETTO:+0200
TZNAME:CEST
DTSTART:20210328T010000
END:DAYLIGHT
BEGIN:STANDARD
TZOFFSETFROM:+0200
TZOFFSETTO:+0100
TZNAME:CET
DTSTART:20211031T010000
END:STANDARD
BEGIN:DAYLIGHT
TZOFFSETFROM:+0100
TZOFFSETTO:+0200
TZNAME:CEST
DTSTART:20220327T010000
END:DAYLIGHT
BEGIN:STANDARD
TZOFFSETFROM:+0200
TZOFFSETTO:+0100
TZNAME:CET
DTSTART:20221030T010000
END:STANDARD
END:VTIMEZONE
BEGIN:VEVENT
DTSTART;VALUE=DATE:20210703
DTEND;VALUE=DATE:20210704
DTSTAMP:20260421T185049
CREATED:20210702T045555Z
LAST-MODIFIED:20210702T045555Z
UID:16920-1625270400-1625356799@beer.be
SUMMARY:Alvinne Fellowship & Other Half NYC Tasting
DESCRIPTION:We zijn al jaren fan van Brouwerij Alvinne. Glenn en zijn team\, klein maar fijn\, doen wonderlijke dingen met vaten en fruit.\nSinds enkele jaren hebben ze ook hun Fellowship\, een jaarlijkse membership waarbij je 6 speciallekes kan aanschaffen.\nEn die 6 bieren van de Alvinne Fellowship gaan we samen proeven!\n++ Laurelin 2019\n++ Barrel Rider\n++ Smaug\n++ Miruvor\n++ Goldberry\n++ Palantir\nTussendoor nemen we er enkele exclusieve IPAs bij van Other Half Brewing uit NYC. Vers van de pers\, perfect als afwisseling voor de BA bieren van Alvinne.\nOH Bagels Schmear\nOH Dense HDHC\nOH Down to the socks DDH\nOH Triple citra daydream\nOH DDH Vapor Ringz\nOH Triple Liquid Gems\nStuur ons een bericht of e-mail om in te schrijven. Plaatsen zijn beperkt!
URL:https://beer.be/agenda/alvinne-fellowship-other-half-nyc-tasting/
CATEGORIES:Dégustation
ATTACH;FMTTYPE=image/jpeg:https://beer.be/wp-content/uploads/2021/07/211425187_340139941039672_4583315505373362603_n.jpg
END:VEVENT
BEGIN:VEVENT
DTSTART;VALUE=DATE:20210717
DTEND;VALUE=DATE:20210718
DTSTAMP:20260421T185049
CREATED:20210715T042406Z
LAST-MODIFIED:20210715T042406Z
UID:16998-1626480000-1626566399@beer.be
SUMMARY:Peruvian Night\, El Cholingo Kitchen Takeover Pt2 + Cascade's Pêche Fumé
DESCRIPTION:Difficult to travel nowadays right? We'll help you with El Cholingo's food that will transport you right to Peru the whole evening \nThis evening will also be the great return of the beloved Pêche Fumé from Cascade!!! \nGreat pairing in process... 
URL:https://beer.be/agenda/peruvian-night-el-cholingo-kitchen-takeover-pt2-cascades-peche-fume/
LOCATION:Beergium Bar\, 1227 Chaussée de Waterloo\, Bruxelles\, 1180\, Belgique
CATEGORIES:Dégustation
ATTACH;FMTTYPE=image/jpeg:https://beer.be/wp-content/uploads/2021/07/212387097_3007429489494155_9070278596810217194_n.jpg
END:VEVENT
BEGIN:VEVENT
DTSTART;VALUE=DATE:20210724
DTEND;VALUE=DATE:20210725
DTSTAMP:20260421T185049
CREATED:20210722T061037Z
LAST-MODIFIED:20210722T061037Z
UID:17048-1627084800-1627171199@beer.be
SUMMARY:Atelier dégustation Gansbeek Brewing
DESCRIPTION:Rejoignez-nous ce samedi 24 juillet à un atelier « dégustation »\, vous apprendrez les différentes étapes du processus de brassage : les concepts de concassage\, d’empâtage\, de rinçage\, de fermentation... n’auront plus aucun secret pour vous.\n2 sessions : 17h00 à 18h00 & 18h00 à 19h00\nInscription sur : info@gansbeek.be\nAvenue Broustin (en face de la Basilique)\nLes places sont limitées. Si le nombre d’inscrit dépasse la limite des places disponibles\, la sélection du groupe se fera par tirage au sort.
URL:https://beer.be/agenda/atelier-degustation-gansbeek-brewing/
LOCATION:Gansbeek Brewing\, Avenue Broustin\, Bruxelles\, 1090\, Belgique
CATEGORIES:Dégustation
ATTACH;FMTTYPE=image/jpeg:https://beer.be/wp-content/uploads/2021/07/217968341_4639356339426829_3422043851074474309_n.jpg
END:VEVENT
BEGIN:VEVENT
DTSTART;VALUE=DATE:20210725
DTEND;VALUE=DATE:20210726
DTSTAMP:20260421T185049
CREATED:20210712T045811Z
LAST-MODIFIED:20210712T045811Z
UID:16975-1627171200-1627257599@beer.be
SUMMARY:Beergium Bar VS La Tana Food Pairing
DESCRIPTION:We challenge our good friend Valerio from La Tana!!!  Here's the concept : Valerio (who 's knowledge in beer and Italian cuisine skills are not to prove) will come with the ingredients he'd like to work with and will submit to him 4 beers that he will discover on the spot  He'll improvise a pairing for each beer from there!!!  We will of course try to make it not too simple for him !!! You will be the judge  The challenge will take place between 15h00 and 21h00  Come hungry and thirsty !
URL:https://beer.be/agenda/beergium-bar-vs-la-tana-food-pairing/
LOCATION:Beergium Bar\, 1227 Chaussée de Waterloo\, Bruxelles\, 1180\, Belgique
CATEGORIES:Dégustation
ATTACH;FMTTYPE=image/jpeg:https://beer.be/wp-content/uploads/2021/07/216426530_3007969226106848_5003383272665817220_n.jpg
END:VEVENT
BEGIN:VEVENT
DTSTART;VALUE=DATE:20210726
DTEND;VALUE=DATE:20210727
DTSTAMP:20260421T185049
CREATED:20210624T045333Z
LAST-MODIFIED:20210624T045333Z
UID:16872-1627257600-1627343999@beer.be
SUMMARY:Spontané
DESCRIPTION:Spontané\, c’est une rencontre qui s’est imposée à nous comme une évidence. Un amour partagé des gueuzes et lambics. Mais aussi d’une cuisine intuitive qui ne ment pas\, d’un service proche et humain. L’envie de vous recevoir avec simplicité\, sans simplisme.\n\n\nUne fusion des idées plutôt qu’une addition. Spontané sera un menu unique\, dédié à notre amour des Gueuzes\, Lambics et autres bières sauvages. Une occasion unique et sans filtre de passer un moment hors des standards.\nSpontané\, c’est notre invitation à une soirée délicieuse et surprenante\, de l’accueil à l’assiette.\n\n\nSophie\, Nicolas et Jehan\n\n\n-----------------------------\n\n\nOù? : Sophie et Nicolas\nQuand? : 26 juillet 19h00\nCombien ? 100€tout compris (et il y aura de la bière rare\, je vous le dis !)\nComment réserver? Par téléphone au 043847292 ou via messenger
URL:https://beer.be/agenda/spontane/
CATEGORIES:Dégustation
ATTACH;FMTTYPE=image/jpeg:https://beer.be/wp-content/uploads/2021/06/202721891_5670891246319559_4442820744936841863_n.jpg
END:VEVENT
BEGIN:VEVENT
DTSTART;VALUE=DATE:20210730
DTEND;VALUE=DATE:20210731
DTSTAMP:20260421T185049
CREATED:20210729T083533Z
LAST-MODIFIED:20210729T083533Z
UID:17092-1627603200-1627689599@beer.be
SUMMARY:Fremont Stout Tasting Night
DESCRIPTION:Fremont Brewing uit Seattle staat al jaren gekend als een topbrouwerij voor Imperial Stouts.\nTijd om een avondje lekkere Bourbon BA heavy hitters te delen.\nWe proeven samen 5 flessen van Fremont Brewing. Tussendoor openen we ook enkele Wild Ales of IPAs van Antidoot\, Tommie Sjef en anderen.\nWe proeven samen met maximaal 8 personen op ons terras.\nWil je graag meedoen? Stuur een e-mail naar info@hopsnmore.com\nDe Fremont bieren:\n++ Bourbon Barrel Aged Dark Star Coffee Edition 2019 (BBADS)\n++ Bourbon Barrel-Aged Dark Star 2019 (BBADS)\n++ B-Bomb 2019 Bourbon BA\n++ Coconut Edition B-Bomb 2019 Bourbon BA\n++ The Rusty Nail 2020 Bourbon BA
URL:https://beer.be/agenda/fremont-stout-tasting-night/
CATEGORIES:Dégustation
ATTACH;FMTTYPE=image/jpeg:https://beer.be/wp-content/uploads/2021/07/225159919_357636662623333_1437718488363891892_n.jpg
END:VEVENT
END:VCALENDAR