BEGIN:VCALENDAR
VERSION:2.0
PRODID:-//Beer.be - ECPv6.15.20//NONSGML v1.0//EN
CALSCALE:GREGORIAN
METHOD:PUBLISH
X-ORIGINAL-URL:https://beer.be
X-WR-CALDESC:Évènements pour Beer.be
REFRESH-INTERVAL;VALUE=DURATION:PT1H
X-Robots-Tag:noindex
X-PUBLISHED-TTL:PT1H
BEGIN:VTIMEZONE
TZID:Europe/Brussels
BEGIN:DAYLIGHT
TZOFFSETFROM:+0100
TZOFFSETTO:+0200
TZNAME:CEST
DTSTART:20200329T010000
END:DAYLIGHT
BEGIN:STANDARD
TZOFFSETFROM:+0200
TZOFFSETTO:+0100
TZNAME:CET
DTSTART:20201025T010000
END:STANDARD
BEGIN:DAYLIGHT
TZOFFSETFROM:+0100
TZOFFSETTO:+0200
TZNAME:CEST
DTSTART:20210328T010000
END:DAYLIGHT
BEGIN:STANDARD
TZOFFSETFROM:+0200
TZOFFSETTO:+0100
TZNAME:CET
DTSTART:20211031T010000
END:STANDARD
BEGIN:DAYLIGHT
TZOFFSETFROM:+0100
TZOFFSETTO:+0200
TZNAME:CEST
DTSTART:20220327T010000
END:DAYLIGHT
BEGIN:STANDARD
TZOFFSETFROM:+0200
TZOFFSETTO:+0100
TZNAME:CET
DTSTART:20221030T010000
END:STANDARD
END:VTIMEZONE
BEGIN:VEVENT
DTSTART;VALUE=DATE:20211203
DTEND;VALUE=DATE:20211204
DTSTAMP:20260421T105401
CREATED:20211124T064020Z
LAST-MODIFIED:20211124T064020Z
UID:18308-1638489600-1638575999@beer.be
SUMMARY:Proeverij stout
DESCRIPTION:Net voor de Sint komt\, doen we nog eens iets (met) stout... We proeven uit onze proefglaasjes 10 stoutbieren waarvan sommige verassend uit de hoek zullen komen! Oesterstout\, Russian Imperial Stout\, ‘Cacao’\, ‘Cinnamon’ of ‘Coconut’… het passeert allemaal de revue. Afspraak op vrijdag 3 december 2021 om 19u45 in de bovenzaal van het Streekproducten Centrum\, Poststraat 3A te 1500 Halle.\n\nDe deelnameprijs voor deze proeverij bedraagt 15 euro (voor Lambikstoempers leden)\, 17 euro (voor Zythosleden) en 20 euro (voor anderen).\nStuur vóór maandag 29 december 2021 een e-mail naar proeverij@lambikstoempers.be met:\n- je naam\n- het aantal deelnemende personen\n- de vermelding ‘Stout’\nJe zal dan via e-mail verdere richtlijnen krijgen betreffende je inschrijving.\n\nLET OP: het aantal plaatsen is strikt beperkt. De activiteit is bovendien gebonden aan de van kracht zijnde COVID-19 maatregelen:\n- Blijf thuis als je ziek bent.\n- Volg de instructies van de organisatie.\n- Hou 1\,5 meter afstand.\n- Mondmasker is verplicht\, tenzij wanneer je aan tafel zit.\n- Gebruik de voorziene handgel om je handen te ontsmetten.
URL:https://beer.be/agenda/proeverij-stout/
LOCATION:Streekproducten Centrum\, 3A poststraat\, Hal\, 1500\, Belgique
CATEGORIES:Dégustation
ATTACH;FMTTYPE=image/jpeg:https://beer.be/wp-content/uploads/2021/11/259855141_4573934725979266_6314523069651842175_n.jpg
END:VEVENT
BEGIN:VEVENT
DTSTART;VALUE=DATE:20211211
DTEND;VALUE=DATE:20211212
DTSTAMP:20260421T105401
CREATED:20211118T075409Z
LAST-MODIFIED:20211118T075409Z
UID:18261-1639180800-1639267199@beer.be
SUMMARY:East Side Brewing coming in Brussels
DESCRIPTION:Super food pairing avec le staff de la brasserie présent ! Quelque assiette typique de Rome et de la campagne romaine serait servi avec les bières de la brasserie. Quelqu'un sera la pour expliquer le travail derrière. Une bière rare sera présenté a la fin du dîner.
URL:https://beer.be/agenda/east-side-brewing-coming-in-brussels/
LOCATION:La Tana\, 10 rue de l'Enseignement\, Bruxelles\, 1000\, Belgique
CATEGORIES:Dégustation
ATTACH;FMTTYPE=image/jpeg:https://beer.be/wp-content/uploads/2021/11/258174947_300522722076800_4963465410003941696_n.jpg
END:VEVENT
BEGIN:VEVENT
DTSTART;TZID=Europe/Brussels:20211216T190000
DTEND;TZID=Europe/Brussels:20211216T200000
DTSTAMP:20260421T105401
CREATED:20211215T071620Z
LAST-MODIFIED:20211215T072011Z
UID:18605-1639681200-1639684800@beer.be
SUMMARY:Dégustation de la Saison Colmant "1980" avec Eric Boschman
DESCRIPTION:Ce jeudi 16 décembre à 19h00\, retrouvez Eric Boschman et Hélène Colmant en direct pour la dégustation en avant-première de la Saison Colmant 1980 - Cuvée Héritage 🍻 \nPour suivre le live 👇 \n📌 https://www.facebook.com/EricBoschman/ \n📌 https://www.facebook.com/LaPetiteFilleColmant/ \nHISTOIRE DE BIÈRES \n🔸 1980. Symbolique d'une époque\, année décisive dans l'histoire d'une famille.\n🔸 40 ans après la fin des activités de la Brasserie Colmant\, située anciennement à Baudour\, la petite-fille du dernier brasseur Colmant réalise un hommage à la mémoire de sa famille et de son passé brassicole.\n🔸 Vous retrouverez une Saison Colmant brassée avec la levure d'origine\, extraite par le laboratoire de Gembloux d'une bouteille de "vieille saison" retrouvée dans la cave familiale.... Toute une histoire ! 😉 \nRejoignez-nous lors de cette dégustation exclusive ! On en parle ensemble 🤓
URL:https://beer.be/agenda/degustation-de-la-saison-colmant-1980-avec-eric-boschman/
CATEGORIES:Dégustation
ATTACH;FMTTYPE=image/jpeg:https://beer.be/wp-content/uploads/2021/12/18605_image_267404381_794158128169932_1049728402495122403_n.jpg
END:VEVENT
BEGIN:VEVENT
DTSTART;VALUE=DATE:20211218
DTEND;VALUE=DATE:20211219
DTSTAMP:20260421T105401
CREATED:20211020T064703Z
LAST-MODIFIED:20211020T064703Z
UID:18049-1639785600-1639871999@beer.be
SUMMARY:Degustatie Schaarbeekse Kriek meets Druif
DESCRIPTION:Dans cette dégustation\, le sommelier Raf Van Pottelbergh (Brouwerij Drie Fonteinen) nous guide vers une destination finale avec des combinaisons réussies de bière lambic avec autres bières ou vins. Avant d'y arriver\, nous faisons un arrêt au Schaerbeekse Kriek. Samedi 18 decembre 2021 à partir de 20h chez GC De Kriekelaar. Places limitées. Les frais sont de 11 € à l'accueil de De Kriekelaar (2 € avec Paspartoe) et de 11\,25 € en ligne (2\,25 € avec Paspartoe).
URL:https://beer.be/agenda/degustatie-schaarbeekse-kriek-meets-druif/
LOCATION:De Kriekelaar GC\, 86 Gallaitstraat\, Bruxelles\, 1030\, Belgique
CATEGORIES:Dégustation
ATTACH;FMTTYPE=image/jpeg:https://beer.be/wp-content/uploads/2021/10/246667310_4305713699537787_6788890099476335207_n.jpg
END:VEVENT
BEGIN:VEVENT
DTSTART;VALUE=DATE:20211231
DTEND;VALUE=DATE:20220101
DTSTAMP:20260421T105401
CREATED:20211213T053553Z
LAST-MODIFIED:20211213T053553Z
UID:18578-1640908800-1640995199@beer.be
SUMMARY:Cenone di capodanno
DESCRIPTION:Vous avez envie de manger le traditionnel dîner de fin d'année comme en Italie ?\nJe vous propose de recréer des plats typiques du nord\, du centre et du sud de l'Italie.\nNous ne passerons malheureusement pas toute la soirée ensemble car à 11h nous devrons nous en aller vers nos pénates respectives\, certes repus\, et peut-être avoir la chance de rencontrer un feu d’artifices sur le chemin.\nChez nous\, vous pouvez passer une soirée magique et conviviale remplie de plaisanteries et à boire tous ensemble.\nLe menu sera composé d’un apéritif\, d’une petite soupe\, d’un plat de pâtes (primo)\, d’un plat de viande aux légumes (secondo) et de panettone pour le dessert\, le tout en quantité raisonnable (et non italienne )\, on vous rassure \nPour l'occasion\, j'irai chercher de belles bouteilles à la cave et nous porterons de nombreux toasts !\nLe menu et le prix seront publiés très prochainement.\nLes réservations sont obligatoires et absolument nécessaires\, nous vous en remercions d’avance
URL:https://beer.be/agenda/cenone-di-capodanno/
LOCATION:La Tana\, 10 rue de l'Enseignement\, Bruxelles\, 1000\, Belgique
CATEGORIES:Dégustation
ATTACH;FMTTYPE=image/jpeg:https://beer.be/wp-content/uploads/2021/12/266001611_316635477132191_3684430710278170259_n.jpg
END:VEVENT
END:VCALENDAR