BEGIN:VCALENDAR
VERSION:2.0
PRODID:-//Beer.be - ECPv6.15.20//NONSGML v1.0//EN
CALSCALE:GREGORIAN
METHOD:PUBLISH
X-WR-CALNAME:Beer.be
X-ORIGINAL-URL:https://beer.be
X-WR-CALDESC:Évènements pour Beer.be
REFRESH-INTERVAL;VALUE=DURATION:PT1H
X-Robots-Tag:noindex
X-PUBLISHED-TTL:PT1H
BEGIN:VTIMEZONE
TZID:Europe/Brussels
BEGIN:DAYLIGHT
TZOFFSETFROM:+0100
TZOFFSETTO:+0200
TZNAME:CEST
DTSTART:20210328T010000
END:DAYLIGHT
BEGIN:STANDARD
TZOFFSETFROM:+0200
TZOFFSETTO:+0100
TZNAME:CET
DTSTART:20211031T010000
END:STANDARD
BEGIN:DAYLIGHT
TZOFFSETFROM:+0100
TZOFFSETTO:+0200
TZNAME:CEST
DTSTART:20220327T010000
END:DAYLIGHT
BEGIN:STANDARD
TZOFFSETFROM:+0200
TZOFFSETTO:+0100
TZNAME:CET
DTSTART:20221030T010000
END:STANDARD
BEGIN:DAYLIGHT
TZOFFSETFROM:+0100
TZOFFSETTO:+0200
TZNAME:CEST
DTSTART:20230326T010000
END:DAYLIGHT
BEGIN:STANDARD
TZOFFSETFROM:+0200
TZOFFSETTO:+0100
TZNAME:CET
DTSTART:20231029T010000
END:STANDARD
END:VTIMEZONE
BEGIN:VEVENT
DTSTART;VALUE=DATE:20220106
DTEND;VALUE=DATE:20220107
DTSTAMP:20260421T085724
CREATED:20220105T063627Z
LAST-MODIFIED:20220105T063627Z
UID:18835-1641427200-1641513599@beer.be
SUMMARY:Beers & Poke Bowls
DESCRIPTION:
URL:https://beer.be/agenda/beers-poke-bowls/
LOCATION:Brussels Beer Project Dansaert\, 188 rue Antoine Dansaert\, Bruxelles\, 1000\, Belgique
CATEGORIES:Dégustation
ATTACH;FMTTYPE=image/jpeg:https://beer.be/wp-content/uploads/2022/01/271277410_1299210930520516_7254821727124656728_n.jpg
END:VEVENT
BEGIN:VEVENT
DTSTART;TZID=Europe/Brussels:20220128T193000
DTEND;TZID=Europe/Brussels:20220128T193000
DTSTAMP:20260421T085724
CREATED:20220121T065214Z
LAST-MODIFIED:20220121T065214Z
UID:18925-1643398200-1643398200@beer.be
SUMMARY:Goûte Job #3 - Brouwerij 3 Fonteinen
DESCRIPTION://Goûte Job #3 @lacavestjob x Brouwerij 3 Fonteinen \n📣 Attention c'est du très très lourd qui arrive pour ce prochain #goûtejob ! \nCette fois-ci on s'associe à la Brasserie 3 Fonteinen pour vous proposer un dîner en 7 temps et autant de gueuzes et de lambics d'exception !  \nLa semaine dernière on était à 3 Fonteinen avec Raf\, ambassadeur de la brasserie\, on a exploré les étagères et les vieux foudres et on vous a sélectionné des jus de folie\, avec des exclusivités 🤯 tout spécialement pour vous.  \nAutant vous dire que Jules Lavergne\, notre chef résident\, ne tenait plus en place à l'idée des accords qui s'ouvraient à lui.  \nOn se retrouve vendredi 28 janvier dans notre cuisine ouverte sur salle secrète. On a très très hâte 🤩 !  \nOn commencera par un verre de bienvenue à la cave à 19h30. \n7 assiettes / 7 lambics & gueuzes : 100 euros\n19 couverts / réservation impérative via lacavestjob@gmail.com ou dm 💬 \nIllustration par la talentueuse @saradopera\nMerci à @mullerlaurent pour la jolie typo Acturus
URL:https://beer.be/agenda/goute-job-3-brouwerij-3-fonteinen/
LOCATION:La Cave Saint-Job\, Sint-Jobsesteenweg 771B\, Ukkel\, 1180\, BE
CATEGORIES:Dégustation
ATTACH;FMTTYPE=image/jpeg:https://beer.be/wp-content/uploads/2022/01/18925_image_271990795_1054541238442761_4815683770497363085_n.jpg
END:VEVENT
BEGIN:VEVENT
DTSTART;TZID=Europe/Brussels:20220129T103000
DTEND;TZID=Europe/Brussels:20220129T160000
DTSTAMP:20260421T085724
CREATED:20220127T200211Z
LAST-MODIFIED:20220127T200211Z
UID:18986-1643452200-1643472000@beer.be
SUMMARY:Brasserie Héritage chez Mi-Orge Mi-Houblon
DESCRIPTION:Bonjour à tous\,\nPour fêter l'arrivée de nos bières sur les étagères du temple brassicole Arlonnais qu'est MOMH\, on s'est dit que ca serait chouette de vous proposer une dégustation de nos produits au shop le samedi 29 de 10h30 à 16h00.\nA bientôt!
URL:https://beer.be/agenda/brasserie-heritage-chez-mi-orge-mi-houblon/
LOCATION:Miorge Mihoublon\, 43 zone artisanale de Weyler\, Arlon\, 6700\, Belgique
CATEGORIES:Dégustation
ATTACH;FMTTYPE=image/jpeg:https://beer.be/wp-content/uploads/2022/01/272299492_354694946568147_274480003766824978_n.jpg
END:VEVENT
END:VCALENDAR