BEGIN:VCALENDAR
VERSION:2.0
PRODID:-//Beer.be - ECPv6.15.20//NONSGML v1.0//EN
CALSCALE:GREGORIAN
METHOD:PUBLISH
X-WR-CALNAME:Beer.be
X-ORIGINAL-URL:https://beer.be
X-WR-CALDESC:Évènements pour Beer.be
REFRESH-INTERVAL;VALUE=DURATION:PT1H
X-Robots-Tag:noindex
X-PUBLISHED-TTL:PT1H
BEGIN:VTIMEZONE
TZID:Europe/Brussels
BEGIN:DAYLIGHT
TZOFFSETFROM:+0100
TZOFFSETTO:+0200
TZNAME:CEST
DTSTART:20210328T010000
END:DAYLIGHT
BEGIN:STANDARD
TZOFFSETFROM:+0200
TZOFFSETTO:+0100
TZNAME:CET
DTSTART:20211031T010000
END:STANDARD
BEGIN:DAYLIGHT
TZOFFSETFROM:+0100
TZOFFSETTO:+0200
TZNAME:CEST
DTSTART:20220327T010000
END:DAYLIGHT
BEGIN:STANDARD
TZOFFSETFROM:+0200
TZOFFSETTO:+0100
TZNAME:CET
DTSTART:20221030T010000
END:STANDARD
BEGIN:DAYLIGHT
TZOFFSETFROM:+0100
TZOFFSETTO:+0200
TZNAME:CEST
DTSTART:20230326T010000
END:DAYLIGHT
BEGIN:STANDARD
TZOFFSETFROM:+0200
TZOFFSETTO:+0100
TZNAME:CET
DTSTART:20231029T010000
END:STANDARD
END:VTIMEZONE
BEGIN:VEVENT
DTSTART;TZID=Europe/Brussels:20220210T170000
DTEND;TZID=Europe/Brussels:20220210T233000
DTSTAMP:20260421T071431
CREATED:20220206T101422Z
LAST-MODIFIED:20220206T101422Z
UID:19076-1644512400-1644535800@beer.be
SUMMARY:L'Amoureux 2022 Release Party + Pizza du mois
DESCRIPTION:Brussels is for Lovers \nL'Amoureux revient dans sa version triptyque de single hop IPA.\nCette année nous avons mis en avant les houblons Idaho7\, Galaxy et Sabro.\nNos amis de la Fruitière seront également présents pour vous proposer une pizza du moment aux 3 fromages du Jura (Bleu de Gex aux chicons\, crème de morbier\, Mont d'Or et tomates de San Marzano)\, qui s'accordera avec chacune des trois bières.
URL:https://beer.be/agenda/lamoureux-2022-release-party-pizza-du-mois/
CATEGORIES:Dégustation
ATTACH;FMTTYPE=image/jpeg:https://beer.be/wp-content/uploads/2022/02/273280094_653169709462490_5978538584574497088_n.jpg
END:VEVENT
BEGIN:VEVENT
DTSTART;VALUE=DATE:20220211
DTEND;VALUE=DATE:20220212
DTSTAMP:20260421T071431
CREATED:20220126T071335Z
LAST-MODIFIED:20220126T071335Z
UID:18960-1644537600-1644623999@beer.be
SUMMARY:LA FRUITIERE's Hot Dog
DESCRIPTION:La Fruitière est un lieu polymorphe bruxellois dédié aux fromages : Une fromagerie couplée à un bar à fromage.\nA La Source\, nous produisons des bières polymorphes que nous servons à la pompe\, dans notre bar.\nLa brasserie invite donc la merveilleuse fromagerie qui nous régalera de ses HOT DOGS au MORBIER !
URL:https://beer.be/agenda/la-fruitieres-hot-dog/
LOCATION:La Source Beer Co.\, 4 rue Dieudonné Lefèvre\, Bruxelles\, 1020\, Belgique
CATEGORIES:Dégustation
ATTACH;FMTTYPE=image/jpeg:https://beer.be/wp-content/uploads/2022/01/272670076_1027894087768959_5684213726817464452_n.jpg
END:VEVENT
BEGIN:VEVENT
DTSTART;TZID=Europe/Brussels:20220211T170000
DTEND;TZID=Europe/Brussels:20220211T170000
DTSTAMP:20260421T071431
CREATED:20220207T130554Z
LAST-MODIFIED:20220207T130554Z
UID:19087-1644598800-1644598800@beer.be
SUMMARY:Saison Lambic fruits de bois "Release Party"
DESCRIPTION:Depuis la création de la brasserie\, nous avons eu la chance de collaborer avec de magnifiques brasseries de renom à travers le monde. Nous avons également voyagé pour aller à la rencontre de brasseurs qui partagent les mêmes valeurs que nous.  \nParfois\, les producteurs tout proche de nous sont aussi de magnifiques sources de collaboration\, et nous sommes très heureux et fiers de vous présenter notre collaboration avec la Gueuzerie Tilquin. Pierre est un ami et un soutien sincère à la brasserie de l'Ermitage depuis les tout premiers balbutiements du projet\, ce qui rend cette collaboration hautement symbolique pour nous. A la fois encourageant par rapport à notre potentiel\, et jamais avare de critiques honnêtes et transparentes\, Pierre connait très bien notre parcours et c'est un honneur de partager la création de cette bière avec lui qui fait si peu de collaborations. \nL'idée de la "Saison Lambic fruits des bois" est née à Rome en 2018\, lors d'un festival bien animé... Après avoir laissé murir l'idée et raté l'une ou l'autre occasion de se lancer\, le covid a quelque peu accéléré les choses et nous a permis de nous attarder sur ce projet. Il s'agit d'un assemblage de différents brassins de notre brasserie fermentés par méthode solera dans un foudre de 30hl durant environ un an et demi. En décembre 2020\, Pierre a de son côté fait fermenter un mélange de 5 fruits des bois (cassis\, framboise\, groseilles rouges\, mûres et myrtilles sauvages) sur un assemblage de lambics de 1\, 2 et 3 ans d'âge\, pour une concentration de fruits de 170g par litre. Enfin\, après son soutirage\, la bière a refermenté 9 mois en bouteilles. \nPierre et nous mêmes sommes très contents du résultat et nous vous proposons de venir la goûter au fut ce vendredi à la taproom de la brasserie ou à L'Ermitage Saint-Gilles. Pour l'occasion nous percerons quelques futs un peu "spéciaux" issus de la production de la Gueuzerie Tilquin. \nLes bouteilles seront mise en vente dès le lendemain dans notre magasin Les caves de l'Ermitage et partout ailleurs...\nMerci à Pierre pour sa confiance\, et au plaisir de vous voir nombreux ce vendredi à Anderlecht ou à Saint-Gilles
URL:https://beer.be/agenda/saison-lambic-fruits-de-bois-release-party/
CATEGORIES:Dégustation
ATTACH;FMTTYPE=image/jpeg:https://beer.be/wp-content/uploads/2022/02/19087_image_273524909_619315625716619_45534082090677352_n.jpg
END:VEVENT
BEGIN:VEVENT
DTSTART;TZID=Europe/Brussels:20220217T183000
DTEND;TZID=Europe/Brussels:20220217T183000
DTSTAMP:20260421T071431
CREATED:20220203T064148Z
LAST-MODIFIED:20220203T064148Z
UID:19038-1645122600-1645122600@beer.be
SUMMARY:La  table d'hôtes de l'Ermite x Café des minimes
DESCRIPTION:Nous sommes heureux de vous proposer une soirée un peu particulière à la brasserie. Le temps d'un soir\, la taproom se transformera en restaurant. Pour cette première édition nous avons invité nos amis du Café des Minimes. \nLe chef Régis Biellmann proposera un menu unique de 5 services. Le pairing sera assuré par Mélissa Luczak\, sommelière de notre magasin "Les caves de l'Ermitage".  \nAu programme\, cuisine gourmande\, vins naturels de nos importations directes\, et quelque bières rares de notre cellier.  \nLe prix du menu est de 50€ (+30€ avec le pairing de 6 verres\, ou +15€ avec le pairing de 6 demi verres). \nLe menu précis et les accords vous seront annoncés très prochainement. \nLa soirée se déroulera uniquement sur réservation. Pour réserver vous pouvez simplement nous écrire un petit email à l'adresse  : lescaves@ermitagenanobrasserie.be\nEn précisant bien votre nom\, le nombre de personnes et les éventuelles allergies ou intolérances alimentaires.  \nOn se réjouit de partager cette soirée avec vous.
URL:https://beer.be/agenda/la-table-dhotes-de-lermite-x-cafe-des-minimes/
CATEGORIES:Dégustation
ATTACH;FMTTYPE=image/jpeg:https://beer.be/wp-content/uploads/2022/02/19038_image_273008018_615625462752302_7630227652344747552_n.jpg
END:VEVENT
BEGIN:VEVENT
DTSTART;VALUE=DATE:20220219
DTEND;VALUE=DATE:20220220
DTSTAMP:20260421T071431
CREATED:20220209T093100Z
LAST-MODIFIED:20220209T093100Z
UID:19123-1645228800-1645315199@beer.be
SUMMARY:Soirée dégustation European Beer Tour
DESCRIPTION:Pour cette première édition de 2022\, nous dégusterons 7 bières de différents pays d'Europe spécialement dénichées pour l'occasion !\nLes inscriptions sont ouvertes et les places sont limitées --> Réservez dès maintenant en nous envoyant un message ou par téléphone au 0477539923\nAu plaisir de se revoir! Cheers
URL:https://beer.be/agenda/soiree-degustation-european-beer-tour/
LOCATION:Beer Market Namur\, 30 Chaussée de Waterloo\, Namur\, 5002\, Belgique
CATEGORIES:Dégustation
ATTACH;FMTTYPE=image/jpeg:https://beer.be/wp-content/uploads/2022/02/273360508_3034229716905880_1772951401145893933_n.jpg
END:VEVENT
BEGIN:VEVENT
DTSTART;VALUE=DATE:20220226
DTEND;VALUE=DATE:20220227
DTSTAMP:20260421T071431
CREATED:20220218T061705Z
LAST-MODIFIED:20220218T061705Z
UID:19258-1645833600-1645919999@beer.be
SUMMARY:A la découverte des IPA
DESCRIPTION:On enchaîne avec la 2éme édition de 2022;\nEn format "atelier zythologie" cette fois-ci\, nous dégusterons et analyserons 7 différents styles d'IPA's ! "NEIPA\, West Coast\, TIPA\, etc."\nC'est la parfaite occasion d'en apprendre un peu plus sur ce style très en vogue depuis quelques années...\nLes inscriptions sont ouvertes et les places sont limitées --> Réservez dès maintenant en nous envoyant un message ou sur place.\nAu plaisir de se revoir! Cheers
URL:https://beer.be/agenda/a-la-decouverte-des-ipa/
LOCATION:Beer Market Namur\, 30 Chaussée de Waterloo\, Namur\, 5002\, Belgique
CATEGORIES:Dégustation
ATTACH;FMTTYPE=image/jpeg:https://beer.be/wp-content/uploads/2022/02/274063459_3042065626122289_4412493589667281026_n.jpg
END:VEVENT
BEGIN:VEVENT
DTSTART;VALUE=DATE:20220226
DTEND;VALUE=DATE:20220227
DTSTAMP:20260421T071431
CREATED:20220218T062148Z
LAST-MODIFIED:20220218T062148Z
UID:19269-1645833600-1645919999@beer.be
SUMMARY:Soûl X 3 Fonteinen - Food & Pairing
DESCRIPTION:Ce samedi 26/02 à 19h30 au Wild Lab\, on boit\, mais aussi\, on mange !\nSoirée spéciale Food & Beer Pairing 100% 3 Fonteinen avec le chef Jules Lavergne (Soûl) aux commandes de la cuisine qui vous proposera un menu 5 services !\nChaque service sera accompagné d'un beer pairing sélectionné par nos soins.\nExclusivité et petites pépites seront au rendez-vous (oui oui !)\nRESERVATIONS OBLIGATOIRES pour le jeudi 24/02 au plus tard\, via message privé sur la page ou directement au bar.\nPrix : 66€ pour le menu 5 services et son beer pairing inclus.\nAttention : nombre de places limité.
URL:https://beer.be/agenda/soul-x-3-fonteinen-food-pairing/
LOCATION:Wild Lab Liège\, 14 rue Hors Château\, Liège\, 4000\, Belgique
CATEGORIES:Dégustation
ATTACH;FMTTYPE=image/jpeg:https://beer.be/wp-content/uploads/2022/02/274317795_490450149367036_5901929575657519983_n.jpg
END:VEVENT
BEGIN:VEVENT
DTSTART;VALUE=DATE:20220226
DTEND;VALUE=DATE:20220227
DTSTAMP:20260421T071431
CREATED:20220302T061316Z
LAST-MODIFIED:20220302T061316Z
UID:19339-1645833600-1645919999@beer.be
SUMMARY:Dégustation Rob Beer X En Stoemelings / Ontdek Rob Beer X En Stoemelings
DESCRIPTION:! 𝑺𝑨𝑽𝑬 𝑻𝑯𝑬 𝑫𝑨𝑻𝑬 ! Quand l’épicerie fine Rob The Gourmets’ Market rencontre la brasserie bruxelloise En Stoemelings\, ça donne…\n𝐋𝐀 𝐑𝐎𝐁 𝐁𝐄𝐄𝐑  une pale-ale brusseleir\, hommage au savoir-faire zythologique belge ainsi qu’à l’expertise gustative septantenaire de Rob !\nAlexis Boisseau (brasseur chez En Stoemelings) et notre zythologue expert David François vous donnent rendez-vous ce samedi 𝟐𝟔 𝐟𝐞́𝐯𝐫𝐢𝐞𝐫 𝟐𝟎𝟐𝟐 afin de vous faire découvrir les secrets de la 𝐑𝐨𝐛 𝐁𝐞𝐞𝐫 dans une ambiance seventies.\n Le 26 février 2022\n De 11h à 18h\n À l'entrée de Rob The Gourmets' Market\nENTRÉE LIBRE – PAS DE RÉSERVATION.
URL:https://beer.be/agenda/degustation-rob-beer-x-en-stoemelings-ontdek-rob-beer-x-en-stoemelings/
LOCATION:Rob Market\, 28 Boulevard de la Woluwe\, Bruxelles\, Belgique
CATEGORIES:Dégustation
ATTACH;FMTTYPE=image/jpeg:https://beer.be/wp-content/uploads/2022/03/274523891_2169453123215366_5887823528589277594_n.jpg
END:VEVENT
END:VCALENDAR