BEGIN:VCALENDAR
VERSION:2.0
PRODID:-//Beer.be - ECPv6.15.20//NONSGML v1.0//EN
CALSCALE:GREGORIAN
METHOD:PUBLISH
X-WR-CALNAME:Beer.be
X-ORIGINAL-URL:https://beer.be
X-WR-CALDESC:Évènements pour Beer.be
REFRESH-INTERVAL;VALUE=DURATION:PT1H
X-Robots-Tag:noindex
X-PUBLISHED-TTL:PT1H
BEGIN:VTIMEZONE
TZID:Europe/Brussels
BEGIN:DAYLIGHT
TZOFFSETFROM:+0100
TZOFFSETTO:+0200
TZNAME:CEST
DTSTART:20210328T010000
END:DAYLIGHT
BEGIN:STANDARD
TZOFFSETFROM:+0200
TZOFFSETTO:+0100
TZNAME:CET
DTSTART:20211031T010000
END:STANDARD
BEGIN:DAYLIGHT
TZOFFSETFROM:+0100
TZOFFSETTO:+0200
TZNAME:CEST
DTSTART:20220327T010000
END:DAYLIGHT
BEGIN:STANDARD
TZOFFSETFROM:+0200
TZOFFSETTO:+0100
TZNAME:CET
DTSTART:20221030T010000
END:STANDARD
BEGIN:DAYLIGHT
TZOFFSETFROM:+0100
TZOFFSETTO:+0200
TZNAME:CEST
DTSTART:20230326T010000
END:DAYLIGHT
BEGIN:STANDARD
TZOFFSETFROM:+0200
TZOFFSETTO:+0100
TZNAME:CET
DTSTART:20231029T010000
END:STANDARD
END:VTIMEZONE
BEGIN:VEVENT
DTSTART;VALUE=DATE:20220303
DTEND;VALUE=DATE:20220304
DTSTAMP:20260421T052154
CREATED:20220221T054900Z
LAST-MODIFIED:20220221T054900Z
UID:19288-1646265600-1646351999@beer.be
SUMMARY:Apéro Badjawe à l'Ange Vin avec des Editions Spéciales au fût
DESCRIPTION:Pour bien recommencer\, nous vous avons garder deux fûts très spéciaux !\nUn fût de #Cimer\, une sour fruitée et gourmande à souhait\, et un fût de #Récolte\, au houblon fraichement cueilli et joliment houblonnée !\nNe rater pas cette ultime occasion de gouter ces deux éditions limitées et réservées à nos coopérateurs... il n'y en aura pas pour tour le monde 
URL:https://beer.be/agenda/apero-badjawe-a-lange-vin-avec-des-editions-speciales-au-fut/
LOCATION:L'ange vin\, Place du Marché 43\, Liège\, 4000\, Belgique
CATEGORIES:Dégustation
ATTACH;FMTTYPE=image/jpeg:https://beer.be/wp-content/uploads/2022/02/274032891_3156821581252524_1308007079103270816_n.jpg
END:VEVENT
BEGIN:VEVENT
DTSTART;TZID=Europe/Brussels:20220304T170000
DTEND;TZID=Europe/Brussels:20220306T200000
DTSTAMP:20260421T052154
CREATED:20220218T061313Z
LAST-MODIFIED:20220218T061313Z
UID:19249-1646413200-1646596800@beer.be
SUMMARY:EAST VS WEST
DESCRIPTION:We'll be pouring 4 beers of AF Brew 'against' 4 American beers (from Jackie O's\, Evil Twin\, Bearded Iris & the Brewing Projekt).
URL:https://beer.be/agenda/east-vs-west/
LOCATION:Malz\, Brusselsestraat 51\, Leuven\, 3000\, Belgique
CATEGORIES:Dégustation
ATTACH;FMTTYPE=image/jpeg:https://beer.be/wp-content/uploads/2022/02/273010741_1244583982737515_1805823399864794215_n-scaled.jpg
END:VEVENT
BEGIN:VEVENT
DTSTART;VALUE=DATE:20220310
DTEND;VALUE=DATE:20220311
DTSTAMP:20260421T052154
CREATED:20220308T135327Z
LAST-MODIFIED:20220308T135327Z
UID:19429-1646870400-1646956799@beer.be
SUMMARY:Beers & Poke Bowls
DESCRIPTION:𝗕𝗲𝗲𝗿𝘀 & 𝗣𝗼𝗸𝗲 𝗕𝗼𝘄𝗹𝘀?! Yes\, that's a great idea!\nWe want to bring back this winning combo because we couldn't stop thinking about it since last time. \nJoin us this Thursday\, when we'll unveil our Beer of the Month and give you the chance to taste it along with its perfect pairing - specially designed and prepared by our neighbors from 𝗞𝗼𝗺𝗼 𝗕𝗼𝘄𝗹.
URL:https://beer.be/agenda/beers-poke-bowls-2/
LOCATION:Brussels Beer Project Dansaert\, 188 rue Antoine Dansaert\, Bruxelles\, 1000\, Belgique
CATEGORIES:Dégustation
ATTACH;FMTTYPE=image/jpeg:https://beer.be/wp-content/uploads/2022/03/275150577_1334916200283322_1713420200953149341_n.jpg
END:VEVENT
BEGIN:VEVENT
DTSTART;VALUE=DATE:20220311
DTEND;VALUE=DATE:20220312
DTSTAMP:20260421T052154
CREATED:20220311T062136Z
LAST-MODIFIED:20220311T062136Z
UID:19453-1646956800-1647043199@beer.be
SUMMARY:Jour de Liesse
DESCRIPTION:En ce premier vendredi de retour (ou presque) au monde d'avant\, nous avons le plaisir d'inviter tout le beau monde se cachant au sein de "Liesse".\nTout d'abord\, notre ami Jules Lavergne aka Soûl Food\, dernier résidant en date chez Liesse\, nous a façonné notre nouvelle Pizza du moment : la "Smoking Hot". Au menu : Base de betterave pimentée\, saucisse fumée maison\, morbier\, oignons et ail des ours.\nEnsuite\, Pierre Millour\, qui sévit également du côté de Chez Ta Mère à Ixelles\, nous a fait parvenir un fût de son cocktail "Froggy Breeze". Petite bombe à base de vodka\, de pommes vertes et de verveine.\nEt pour finir\, Typhaine et Baptiste de chez Pépins\, eux aussi connectés à Liesse\, nous ont constitué une petite carte de vins naturels de leur répertoire que vous pourrez déguster au verre ou à la (grande) bouteille. Un beau voyage de la Loire au Pic Saint-Loup.\nCe vendredi\, c'est jour de Liesse...
URL:https://beer.be/agenda/jour-de-liesse/
CATEGORIES:Dégustation
ATTACH;FMTTYPE=image/jpeg:https://beer.be/wp-content/uploads/2022/03/275549935_672926687486792_1389696775354480535_n.jpg
END:VEVENT
BEGIN:VEVENT
DTSTART;VALUE=DATE:20220311
DTEND;VALUE=DATE:20220312
DTSTAMP:20260421T052154
CREATED:20220311T062627Z
LAST-MODIFIED:20220311T062627Z
UID:19465-1646956800-1647043199@beer.be
SUMMARY:Le Chaff et la brasserie de la Jungle font la fête!
DESCRIPTION:Cette semaine\, on cuisine avec la bière de table de la brasserie de la Jungle\, parce qu'on est persuadé que quand on dit "manger c'est tricher" et ben c'est pas vrai! Surtout si on mange et qu'on boit dans la même assiette!\nAu menu\,\n- Jambonneau des Ardennes désossé\, mijoté a la bière de table de la brasserie de la Jungle\, moutarde\, Topinambour et Vitelotte\, Salade verte\n- Boulettes de lentilles au parmesan\, sauce citron\, sauge et bière de table de la brasserie de la Jungle\, topinambour et Vitelotte\, Salade verte\nEt puis Vendredi 11\, on fait la fête avec nos amis de la jungle\, en plus de manger\, on pourra boire leur Porter au fut\, et on quelques surprises en bouteilles!
URL:https://beer.be/agenda/le-chaff-et-la-brasserie-de-la-jungle-font-la-fete/
LOCATION:Chaff\, Vossenplein 21\, Bruxelles\, 1000\, Belgique
CATEGORIES:Dégustation
ATTACH;FMTTYPE=image/jpeg:https://beer.be/wp-content/uploads/2022/03/275228198_4440403546060148_7229442345186529184_n.jpg
END:VEVENT
BEGIN:VEVENT
DTSTART;VALUE=DATE:20220312
DTEND;VALUE=DATE:20220313
DTSTAMP:20260421T052154
CREATED:20220302T062056Z
LAST-MODIFIED:20220302T062056Z
UID:19349-1647043200-1647129599@beer.be
SUMMARY:Easy tasting night with Antidoot\, P. Lardot and Nagy & Sons
DESCRIPTION:For our first tasting evening\, we are very thrilled to host :\n··Tom Jacobs from Antidoot - Wilde Fermenten\, brewing and blending some of the best wild beers and ciders with herbs\, fruits and grapes in Kortenaken\n··Philip Lardot\, incredible wild wine young talent and very discreet winemaker from the Mosel valley in Germany\n··Simon and Wini Belgian winemakers\, making wild wines from the original grape varieties in Hungary\, including a lot of work with amphorae\nAnd of course\, some thought on combining all this liquid magic with our crazy inhouse food.\nIt's going to be a blast\, come prepared and easy!
URL:https://beer.be/agenda/easy-tasting-night-with-antidoot-p-lardot-and-nagy-sons/
LOCATION:Achille\, Place Colignon\, Bruxelles\, 1030\, Belgique
CATEGORIES:Dégustation
ATTACH;FMTTYPE=image/jpeg:https://beer.be/wp-content/uploads/2022/03/274824101_464302148756195_987867211727309414_n.jpg
END:VEVENT
BEGIN:VEVENT
DTSTART;VALUE=DATE:20220319
DTEND;VALUE=DATE:20220320
DTSTAMP:20260421T052154
CREATED:20220308T134909Z
LAST-MODIFIED:20220308T134909Z
UID:19415-1647648000-1647734399@beer.be
SUMMARY:Meet and drink : La Calavera
DESCRIPTION:Session exclusive de dégustation en présence du brasseur. Maximum 15 personnes. Réservation en ligne obligatoire sur www.miorgemihoublon.be\nAttention la dégustation se tiendra en anglais.
URL:https://beer.be/agenda/meet-and-drink-la-calavera/
LOCATION:Miorge Mihoublon\, 43 zone artisanale de Weyler\, Arlon\, 6700\, Belgique
CATEGORIES:Dégustation
ATTACH;FMTTYPE=image/jpeg:https://beer.be/wp-content/uploads/2022/03/275050671_5572119849482169_2916480318794132744_n.jpg
END:VEVENT
BEGIN:VEVENT
DTSTART;TZID=Europe/Brussels:20220319T100000
DTEND;TZID=Europe/Brussels:20220319T170000
DTSTAMP:20260421T052154
CREATED:20220302T063355Z
LAST-MODIFIED:20220302T063355Z
UID:19371-1647684000-1647709200@beer.be
SUMMARY:Picole et Papote
DESCRIPTION:"Message à caractère informatif\, destiné à un public ciblé. Nous nous efforcerons donc d’être brefs et précis afin de ne pas vous perdre dans les méandres d’une orthographe trop pompeuse. La lecture des termes entre parenthèses est conseillée\, mais pas indispensable… "\n- Samedi 19 mars à la Pêcherie : des bières.\n(1er event un peu sérieux dans les nouveaux locaux de la Pêcherie BC)\n- 10hs : on brasse une bière.\n( brassin public dans nos nouvelles installations)\n- 11h : apéro.\n( notre équipe a réalisé 3 bières uniques pour l’occasion\, dont une Kölsch… bien obligé )\n- 12h à 14h : bière\, bière\, Burger\, bières.\n(présence d’un food truck\, réunion du jury pour le concours de la meilleure Kölsch\, discussions thématiques)\n- 16h : proclamation de Mister Kölsch 2022\nTout les copains sont bienvenus\, avec une petite préférence pour les barbus bedonnants…il a été constaté que ces derniers ont un meilleur rendement.\nJeudi on vous parle du jury et on lance un concours meet and greet avec séance d’autographes en back stage.\nBisous Bisous
URL:https://beer.be/agenda/picole-et-papote/
LOCATION:La Pêcherie Brew Club\, 29 rue de Waremme\, Villers-le-Bouillet\, Belgique
CATEGORIES:Dégustation
ATTACH;FMTTYPE=image/jpeg:https://beer.be/wp-content/uploads/2022/03/274351624_252415123748062_423403946926813918_n.jpg
END:VEVENT
BEGIN:VEVENT
DTSTART;TZID=Europe/Brussels:20220323T183000
DTEND;TZID=Europe/Brussels:20220323T233000
DTSTAMP:20260421T052154
CREATED:20220316T143030Z
LAST-MODIFIED:20220316T143030Z
UID:19533-1648060200-1648078200@beer.be
SUMMARY:CZECH BEER TASTING NIGHT | METAPHORE & ZICHOVEC
DESCRIPTION:At the foundation of our Hops N More project lies the exploration of new breweries\, new beers and to share them together.\nWe are excited our 2022 Tasting Night season has officially started! After our successful Tommie Sjef and Fox Farm night\, we'll introduce an outstanding brewery from Czech Republic.\nMetaphore Brewing is the small scale project of Jiri. He focuses on Barrel Aged Wild Ales\, with or without fruit maceration. But also easy drinking Grisettes\, Pilsners\,...\nJust a cosy night sharing some nice bottles and exploring the wonders of Metaphore\nWe will also add some BA Imperial Stouts from Zichovec and some Czech surprises.\nParticipants: 8-10 people.\nCost: beer cost shared by participants\nWe'll share some small bites too\, a little bit of everything \nRegister via info@hopsnmore.com\nFull list:\nInfo soon! We promise!
URL:https://beer.be/agenda/czech-beer-tasting-night-metaphore-zichovec/
LOCATION:Hops 'N More\, Parijsstraat 27\, Leuven\, 3000\, BE
CATEGORIES:Dégustation
ATTACH;FMTTYPE=image/jpeg:https://beer.be/wp-content/uploads/2022/03/275919489_504805251239806_5126911301276068204_n.jpg
END:VEVENT
BEGIN:VEVENT
DTSTART;VALUE=DATE:20220324
DTEND;VALUE=DATE:20220325
DTSTAMP:20260421T052154
CREATED:20220324T060128Z
LAST-MODIFIED:20220324T060128Z
UID:19617-1648080000-1648166399@beer.be
SUMMARY:La mule\, le cochon et Janine
DESCRIPTION:Ce jeudi 24 Mars\, Le Dillens s'associe à la brasserie de la Mule et à la Boulangerie Janine afin de vous concocter une soirée d'anthologie.\nAu programme\, pompe à bière extérieure hosted par la brasserie de La Mule\, pains pita de chez Janine de pulled pork à la Berliner Weisse\, et bonne humeur assurée par votre café de quartier !
URL:https://beer.be/agenda/la-mule-le-cochon-et-janine/
LOCATION:Le Dillens\, 11 place Julien Dillens\, Bruxelles\, 1060\, Belgique
CATEGORIES:Dégustation
ATTACH;FMTTYPE=image/jpeg:https://beer.be/wp-content/uploads/2022/03/276285224_3181529838748191_6055079379262820275_n.jpg
END:VEVENT
BEGIN:VEVENT
DTSTART;VALUE=DATE:20220325
DTEND;VALUE=DATE:20220326
DTSTAMP:20260421T052154
CREATED:20220311T061800Z
LAST-MODIFIED:20220311T061800Z
UID:19446-1648166400-1648252799@beer.be
SUMMARY:Proeverij "To Brett or not to Brett"
DESCRIPTION:Voor deze proeverij laten we de lambiekbieren even aan kant en concentreren we ons op de zogenaamde ‘wilde’ bieren\, die de laatste jaren een enorme opmars kennen binnen het bieraanbod. Zijn deze bieren geslaagd en lekker\, of net niet?\nWe ontdekken het samen tijdens het proeven van tien ‘wilde’ bieren.\nMeer info @ https://www.lambikstoempers.be/.../25-03-2022-proeverij.../\nDe deelnameprijs voor deze proeverij bedraagt 15 euro (voor Lambikstoempers)\, 17 euro (voor Zythosleden) en 20 euro (voor anderen).\nInschrijven doe je door een e-mail te sturen vóór dinsdag 22 maart 2022 naar proeverij@lambikstoempers.be met:\n- je naam\n- het aantal deelnemende personen\n- de vermelding ‘No Brett?’\nJe zal dan via e-mail verdere richtlijnen ontvangen betreffende je inschrijving.
URL:https://beer.be/agenda/proeverij-to-brett-or-not-to-brett/
LOCATION:Feestzaal Kamphuis Zennedal\, 130 Chaussée d'Alsemberg\, Hal\, Belgique
CATEGORIES:Dégustation
ATTACH;FMTTYPE=image/jpeg:https://beer.be/wp-content/uploads/2022/03/275360523_4942332289139506_3761081260494608228_n.jpg
END:VEVENT
BEGIN:VEVENT
DTSTART;TZID=Europe/Brussels:20220326T150000
DTEND;TZID=Europe/Brussels:20220326T180000
DTSTAMP:20260421T052154
CREATED:20220316T143144Z
LAST-MODIFIED:20220316T143144Z
UID:19537-1648306800-1648317600@beer.be
SUMMARY:Dégustation de vins x Drap Wijn
DESCRIPTION:Dégustation de vins de Drap Wijn en présence de la vigneronne Emelie Mayens.\nEmelie évolue dans le monde la bière\, du vin et de l’horeca depuis des années\, elle décide de se lancer dans le vin et sort ces premières cuvées en 2021. Ne possédant pas encore de vignoble\, elle achète des raisins à des copains en Allemagne et en Belgique et vinifie à Oostkamp\, à côté de Bruges.\nVigneronne rock’n’roll elle ne s’interdit rien et propose des hybrides aussi déroutants que délicieux. Nous vous proposons de goûter trois de ces cuvées et une grape ale que nous avons fait avec ces marcs en septembre dernier.\n~ Witte Blend x Rabarber\n90% de muscat petits grains\, 10% de jus de rhubarbe\n~ Witte Wijn x Cider\n40% Sylvaner et Muller Thurgau\, 60% cidre (variétés de pommes anciennes)\n~ Rode Wijn x Cider\n40% Merlot\, Cabernet\, Pinot gris\, 60% cidre (variétés de pommes locales)\n~ Grapest Hits\nSaison de foudre macérée 15 jours sur marc de pinot noir allemand\nLa Grapest Hits sera disponible à la vente le jour même aux caves et en dégustation à L’Ermitage Saint Gilles.
URL:https://beer.be/agenda/degustation-de-vins-x-drap-wijn/
LOCATION:Les caves de l'ermitage\, 53 rue Gheude\, Bruxelles\, Belgique
CATEGORIES:Dégustation
ATTACH;FMTTYPE=image/jpeg:https://beer.be/wp-content/uploads/2022/03/275929322_286643406877072_696690073975514662_n.jpg
END:VEVENT
BEGIN:VEVENT
DTSTART;VALUE=DATE:20220331
DTEND;VALUE=DATE:20220401
DTSTAMP:20260421T052154
CREATED:20220324T055716Z
LAST-MODIFIED:20220324T055716Z
UID:19611-1648684800-1648771199@beer.be
SUMMARY:Antidote / La Jungle Mash-Up Gourmande
DESCRIPTION:Ce jeudi 31 mars\, on vous concocte un menu sur mesure pour le plus grands plaisirs de vos papilles. Fins gourmets et amateurs de bonnes bières ne louper pas cette fusion de saveur à l'Antidote.\nPour l'occasion nous vous proposons un petit menu découverte\, chaque plat sera accompagné d'une bière en dégustation de chez nos copains et nos voisins de la Brasserie La Jungle.\nRéservation de table vivement conseillé.\n𝕞𝕖𝕟𝕦 𝕕𝕖𝕔𝕠𝕦𝕧𝕖𝕣𝕥𝕖 & 𝕓𝕚𝕖𝕣𝕖𝕤\n✿✿✿✿✿✿✿✿\nBetteraves confites\, ricotta de brebis & kumkwat  Saison de la Jungle\n✿✿✿✿✿✿✿✿\nTruite saumonée\, mousseline à l'ail des ours\, fenouils rôtis et beurre blanc à la bière de table  Grisette Sauvage Mon rêve\n✿✿✿✿✿✿✿✿\nChips de feuille de riz\, blanc mangé\, grenade  Bière de table Myrtilles\n\nBières - Brasserie La Jungle\nTruite - Bigh\, Brussels Aquaponic Farm
URL:https://beer.be/agenda/antidote-la-jungle-mash-up-gourmande/
LOCATION:Antidote\, 1A rue de la petite île\, Bruxelles\, 1080\, Belgique
CATEGORIES:Dégustation
ATTACH;FMTTYPE=image/jpeg:https://beer.be/wp-content/uploads/2022/03/277226131_1146457276113157_9040770344541924782_n-scaled.jpg
END:VEVENT
BEGIN:VEVENT
DTSTART;TZID=Europe/Brussels:20220331T190000
DTEND;TZID=Europe/Brussels:20220331T210000
DTSTAMP:20260421T052154
CREATED:20220322T060625Z
LAST-MODIFIED:20220322T060625Z
UID:19574-1648753200-1648760400@beer.be
SUMMARY:LATE NIGHT SHOPPING & BRUSSELS BEER PROJECT TASTING
DESCRIPTION:Late night shopping at Cameleon Woluwe with a tasting from Brussels Beer Project!\nYou'll have the chance to taste the Delta IPA\, the Picobello (non-alcoholic)\, the Jungle Joy\, the Grosse Bertha\, the Wunder lager and the beer of the month!\nNocturne chez Cameleon Woluwe avec une dégustation de Brussels Beer Project!\nVous aurez la chance de goûter la Delta IPA\, la Picobello (sans alcool)\, la Jungle Joy\, la Grosse Bertha\, la Wunder lager et la bière du mois !\nLate night shopping bij Cameleon Woluwe met een degustatie van Brussels Beer Project!\nJe krijgt de kans om de Delta IPA\, de Picobello (alcoholvrij)\, de Jungle Joy\, de Grosse Bertha\, de Wunder pils en het bier van de maand te proeven!
URL:https://beer.be/agenda/late-night-shopping-brussels-beer-project-tasting/
LOCATION:Caméléon\, 15 Avenue Ariane\, Bruxelles\, 1200\, Belgique
CATEGORIES:Dégustation
ATTACH;FMTTYPE=image/jpeg:https://beer.be/wp-content/uploads/2022/03/275955352_5677580592258851_7631776041166350653_n.jpg
END:VEVENT
END:VCALENDAR