BEGIN:VCALENDAR
VERSION:2.0
PRODID:-//Beer.be - ECPv6.15.20//NONSGML v1.0//EN
CALSCALE:GREGORIAN
METHOD:PUBLISH
X-WR-CALNAME:Beer.be
X-ORIGINAL-URL:https://beer.be
X-WR-CALDESC:Évènements pour Beer.be
REFRESH-INTERVAL;VALUE=DURATION:PT1H
X-Robots-Tag:noindex
X-PUBLISHED-TTL:PT1H
BEGIN:VTIMEZONE
TZID:Europe/Brussels
BEGIN:DAYLIGHT
TZOFFSETFROM:+0100
TZOFFSETTO:+0200
TZNAME:CEST
DTSTART:20220327T010000
END:DAYLIGHT
BEGIN:STANDARD
TZOFFSETFROM:+0200
TZOFFSETTO:+0100
TZNAME:CET
DTSTART:20221030T010000
END:STANDARD
BEGIN:DAYLIGHT
TZOFFSETFROM:+0100
TZOFFSETTO:+0200
TZNAME:CEST
DTSTART:20230326T010000
END:DAYLIGHT
BEGIN:STANDARD
TZOFFSETFROM:+0200
TZOFFSETTO:+0100
TZNAME:CET
DTSTART:20231029T010000
END:STANDARD
BEGIN:DAYLIGHT
TZOFFSETFROM:+0100
TZOFFSETTO:+0200
TZNAME:CEST
DTSTART:20240331T010000
END:DAYLIGHT
BEGIN:STANDARD
TZOFFSETFROM:+0200
TZOFFSETTO:+0100
TZNAME:CET
DTSTART:20241027T010000
END:STANDARD
END:VTIMEZONE
BEGIN:VEVENT
DTSTART;VALUE=DATE:20230806
DTEND;VALUE=DATE:20230807
DTSTAMP:20260419T221129
CREATED:20230717T063826Z
LAST-MODIFIED:20230717T063826Z
UID:23736-1691280000-1691366399@beer.be
SUMMARY:LEUVEN LAMBIC LAND 2.0
DESCRIPTION:Big day in Leuven. We are at HAPJE TAPJE X HOPS N MORE X ALFALFA\, and we are of course also open in the Parijsstraat with plenty tasty beers to try. And... we will also host the second edition of our Leuven Lambic Land! Prepare for several fun tastings with our beautiful Lambic style\n\nVERY VINTAGE TASTING\nOur buddy Dennis got some hidden gems from his cellar. He'll be popping these 6 vintage lambics.\n- Hanssens Oude Geuze 1998\n- Hanssens Oude Geuze 2010\n- Eylenbosch Geuze 1973\n- Cantillon Fou’foune 2000\n- Cantillon Framboise 1984\n- 3 Fonteinen Malvasia Rosso 2003\n\nCANTILLON TASTING\nA mix of some exclusive Cantillon bottles and some lovely vintages.\n- Brews for New Avenues Blend - Cuvee de L'Esperance\n- Blabaer 2021\n- Zwanze 2019\n- Gueuze Loerik 2019\n- Brabantiae 2018\n- Reine des Pres 2017\n- Grand Cru Bruocsella Magnum 2017
URL:https://beer.be/agenda/leuven-lambic-land-2-0/
LOCATION:Hops 'N More\, Parijsstraat 27\, Leuven\, 3000\, BE
CATEGORIES:Dégustation
ATTACH;FMTTYPE=image/jpeg:https://beer.be/wp-content/uploads/2023/07/361613692_795619065360443_6237603056394418169_n.jpg
END:VEVENT
BEGIN:VEVENT
DTSTART;VALUE=DATE:20230811
DTEND;VALUE=DATE:20230812
DTSTAMP:20260419T221129
CREATED:20230817T062021Z
LAST-MODIFIED:20230817T062021Z
UID:23848-1691712000-1691798399@beer.be
SUMMARY:RARE BOTTLE FEST 2.0
DESCRIPTION:
URL:https://beer.be/agenda/rare-bottle-fest-2-0/
LOCATION:Hops 'N More\, Parijsstraat 27\, Leuven\, 3000\, BE
CATEGORIES:Dégustation
END:VEVENT
BEGIN:VEVENT
DTSTART;VALUE=DATE:20230823
DTEND;VALUE=DATE:20230826
DTSTAMP:20260419T221129
CREATED:20230821T062721Z
LAST-MODIFIED:20230821T062949Z
UID:23907-1692748800-1693007999@beer.be
SUMMARY:Flight of fancy
DESCRIPTION:Discovering beer styles was never more fun. Join beer professional Jo (Tall Poppy brewing) and this month’s guest Kevin (Malcroys) in a guided blind flight\, introducing you to a selection of IPA sub-styles. You’ll be presented with four blind beer samples\, and after a quick crash course in all things IPA\, it’ll be up to you to separate the chaff from the grain\, the West Coast from the New England\, the true from the fake. (With one beer specifically brewed for this occasion)
URL:https://beer.be/agenda/flight-of-fancy/
LOCATION:Dr. Beer\, Adriaan Brouwerstraat 31\, Anvers\, 2000\, Belgique
CATEGORIES:Dégustation
ATTACH;FMTTYPE=image/jpeg:https://beer.be/wp-content/uploads/2023/08/FF60C66D-DBE0-467B-A8E7-B949284C9DAF-scaled-1.jpeg
END:VEVENT
BEGIN:VEVENT
DTSTART;VALUE=DATE:20230824
DTEND;VALUE=DATE:20230825
DTSTAMP:20260419T221129
CREATED:20230807T070740Z
LAST-MODIFIED:20230807T070740Z
UID:23825-1692835200-1692921599@beer.be
SUMMARY:Beer & Cheese Fusion: Swiss Brews\, Belgian Delights
DESCRIPTION:Beer & Cheese Fusion: Swiss Brews\, Belgian Delights! \nJoin us for a one-of-a-kind event during Belgian Beer Week! Experience a delightful fusion of Swiss beers and Belgian cheeses. Savor a selection of Swiss brews from our friends from the Jura region that will perfectly complement the rich flavors of Belgium's finest cheeses we will select at La Fruitiere. Indulge in gourmet pairings and expert insights. Limited spots available\, reserve yours now! \n\n Date: 24 August\n Time: 19h\n Location: Be-Here\n Ticket Price: 25\nDon't miss this tantalizing celebration of beer and cheese craftsmanship
URL:https://beer.be/agenda/beer-cheese-fusion-swiss-brews-belgian-delights/
LOCATION:Be-Here\, 4 rue Dieudonné Lefèvre\, Bruxelles\, 1020\, Belgique
CATEGORIES:Dégustation
ATTACH;FMTTYPE=image/jpeg:https://beer.be/wp-content/uploads/2023/08/363327947_794283276031778_5931932256044894953_n.jpg
END:VEVENT
BEGIN:VEVENT
DTSTART;VALUE=DATE:20230825
DTEND;VALUE=DATE:20230826
DTSTAMP:20260419T221129
CREATED:20230821T061710Z
LAST-MODIFIED:20230821T061710Z
UID:23898-1692921600-1693007999@beer.be
SUMMARY:Apér'Hop! Aout
DESCRIPTION:Aper´Hop!! \nNotez bien le prochain rendez-vous :\n 25 août 2023\n A partir de 18h30\n@hop.brussels\nAper´Hop : On sort des sentiers battus\n\n Bière VS Vin \nEt pourquoi pas les 2.\nLa fusion de la bière et du vin. une bière  avec du moult de raisins  Riesling d'Alsace.\nJean-Benoit sera présent pour vous expliquer toutes les ficelles de la production.\nUne dégustation des bières de la brasserie Babeleir est possible : 8 EUR\n\nEt\, comme chaque editon : \nRencontrez vos voisins. Discutez avec vos amis. Partagez une mousse  ou un verre \nBières au frigo \nVins natures dispos au verre \,\npour partager une bonne mousse \n\n Pré Vente au shop :\n7 EUR =\n2 Bières au fut et du Pop-corn \nInscription au shop\, par mail ou message 
URL:https://beer.be/agenda/aperhop-aout/
LOCATION:hop Gourmet Store & Wine\, Avenue des Celtes 22\, Bruxelles\, 1040\, Belgique
CATEGORIES:Dégustation
ATTACH;FMTTYPE=image/jpeg:https://beer.be/wp-content/uploads/2023/08/366359313_770192358449186_3052122788239453498_n.jpg
END:VEVENT
BEGIN:VEVENT
DTSTART;VALUE=DATE:20230827
DTEND;VALUE=DATE:20230828
DTSTAMP:20260419T221129
CREATED:20230821T064305Z
LAST-MODIFIED:20230821T064305Z
UID:23931-1693094400-1693180799@beer.be
SUMMARY:Horizontal Tasting of Samhain Imperial Oatmeal Stout
DESCRIPTION:With ‘Ruige heide’ in the background is is an ideal setting for a tasting of all vintages of Samhain Imperial Oatmeal stout. We will raise our glasses in according to the credo on the bottles for the first time at 14.00h and then further enjoy the evolution in flavour of this most priced beer. As a further spoiling of taste some locally crafted delicacies are served. \nThis event is subscription only! Claim your seat at the table by mailing to cydrale@gmail.com.
URL:https://beer.be/agenda/horizontal-tasting-of-samhain-imperial-oatmeal-stout/
LOCATION:Cydrale\, Antwerpsebaan 406\, Antwerp\, 2040\, Belgique
CATEGORIES:Dégustation
ATTACH;FMTTYPE=image/jpeg:https://beer.be/wp-content/uploads/2023/08/samhain-tekening.jpg
END:VEVENT
END:VCALENDAR