BEGIN:VCALENDAR
VERSION:2.0
PRODID:-//Beer.be - ECPv6.15.20//NONSGML v1.0//EN
CALSCALE:GREGORIAN
METHOD:PUBLISH
X-WR-CALNAME:Beer.be
X-ORIGINAL-URL:https://beer.be
X-WR-CALDESC:Évènements pour Beer.be
REFRESH-INTERVAL;VALUE=DURATION:PT1H
X-Robots-Tag:noindex
X-PUBLISHED-TTL:PT1H
BEGIN:VTIMEZONE
TZID:Europe/Brussels
BEGIN:DAYLIGHT
TZOFFSETFROM:+0100
TZOFFSETTO:+0200
TZNAME:CEST
DTSTART:20220327T010000
END:DAYLIGHT
BEGIN:STANDARD
TZOFFSETFROM:+0200
TZOFFSETTO:+0100
TZNAME:CET
DTSTART:20221030T010000
END:STANDARD
BEGIN:DAYLIGHT
TZOFFSETFROM:+0100
TZOFFSETTO:+0200
TZNAME:CEST
DTSTART:20230326T010000
END:DAYLIGHT
BEGIN:STANDARD
TZOFFSETFROM:+0200
TZOFFSETTO:+0100
TZNAME:CET
DTSTART:20231029T010000
END:STANDARD
BEGIN:DAYLIGHT
TZOFFSETFROM:+0100
TZOFFSETTO:+0200
TZNAME:CEST
DTSTART:20240331T010000
END:DAYLIGHT
BEGIN:STANDARD
TZOFFSETFROM:+0200
TZOFFSETTO:+0100
TZNAME:CET
DTSTART:20241027T010000
END:STANDARD
END:VTIMEZONE
BEGIN:VEVENT
DTSTART;VALUE=DATE:20231111
DTEND;VALUE=DATE:20231112
DTSTAMP:20260419T170419
CREATED:20231004T055804Z
LAST-MODIFIED:20231004T055804Z
UID:24272-1699660800-1699747199@beer.be
SUMMARY:Tasting night #1 - BCBS Series 2022 & Fox Farm
DESCRIPTION:TASTING NIGHTS\nWinter is coming\, so we'll check to organise some tasting nights in the following weeks/months.\nLet's start with a nice mix of 2 American breweries.\nThe 2022 edition of BCBS (5 variants)\, accompanied by 5 BA Saisons/Wild Ales by Fox Farm.\nWhen: Wednesday 11 October\, start 18.30 (so after the Chinese discovery )\nPeople: 7 tot 10 max\nCost: split the cost of all beers. We'll check for some Elsen cheeses too\nInterested?\nSend email to info@hopsnmore.com\n\nBeers:\nBCBS 2022 Coffee UT 4.33\nBCBS 2022 Sir Isaac's Stout UT 4.36\nBCBS 2022 Brand Biscotti Stout UT 4.16\nBCBS 2022 30th Anniversary Stout UT 4.55\nBCBS 2022 2-year Barleywine Reserve UT 4.59\n\nFox Farm Epilogue 4.4\nFox Farm Cadenza 4.45\nFox Farm Triolet 4.53\nFox Farm Allegro with Paw Paw 4.47\n+1 more Fox Farm
URL:https://beer.be/agenda/tasting-night-1-bcbs-series-2022-fox-farm/
LOCATION:Hops 'N More\, Parijsstraat 27\, Leuven\, 3000\, BE
CATEGORIES:Dégustation
ATTACH;FMTTYPE=image/jpeg:https://beer.be/wp-content/uploads/2023/10/386074358_841609057428110_876837759787004545_n.jpg
END:VEVENT
BEGIN:VEVENT
DTSTART;VALUE=DATE:20231117
DTEND;VALUE=DATE:20231119
DTSTAMP:20260419T170419
CREATED:20231107T074931Z
LAST-MODIFIED:20231107T074931Z
UID:24517-1700179200-1700351999@beer.be
SUMMARY:Suarez Family Brewery showcase
DESCRIPTION:Suarez Family Brewery:\n"We're a mom and pop production brewery specializing in ales of mixed fermentation\, unfiltered lagers and other crispy little beers."\nWe had the chance for a lovely visit of the brewery last January.\nWe're excited to showcase several of their mixed fermentation beers\, to explore by the glass.
URL:https://beer.be/agenda/suarez-family-brewery-showcase/
LOCATION:Hops 'N More\, Parijsstraat 27\, Leuven\, 3000\, BE
CATEGORIES:Dégustation
ATTACH;FMTTYPE=image/jpeg:https://beer.be/wp-content/uploads/2023/11/395388983_856850259237323_8915608663263973820_n.jpg
END:VEVENT
END:VCALENDAR