BEGIN:VCALENDAR
VERSION:2.0
PRODID:-//Beer.be - ECPv6.15.20//NONSGML v1.0//EN
CALSCALE:GREGORIAN
METHOD:PUBLISH
X-ORIGINAL-URL:https://beer.be
X-WR-CALDESC:Évènements pour Beer.be
REFRESH-INTERVAL;VALUE=DURATION:PT1H
X-Robots-Tag:noindex
X-PUBLISHED-TTL:PT1H
BEGIN:VTIMEZONE
TZID:Europe/Brussels
BEGIN:DAYLIGHT
TZOFFSETFROM:+0100
TZOFFSETTO:+0200
TZNAME:CEST
DTSTART:20190331T010000
END:DAYLIGHT
BEGIN:STANDARD
TZOFFSETFROM:+0200
TZOFFSETTO:+0100
TZNAME:CET
DTSTART:20191027T010000
END:STANDARD
BEGIN:DAYLIGHT
TZOFFSETFROM:+0100
TZOFFSETTO:+0200
TZNAME:CEST
DTSTART:20200329T010000
END:DAYLIGHT
BEGIN:STANDARD
TZOFFSETFROM:+0200
TZOFFSETTO:+0100
TZNAME:CET
DTSTART:20201025T010000
END:STANDARD
BEGIN:DAYLIGHT
TZOFFSETFROM:+0100
TZOFFSETTO:+0200
TZNAME:CEST
DTSTART:20210328T010000
END:DAYLIGHT
BEGIN:STANDARD
TZOFFSETFROM:+0200
TZOFFSETTO:+0100
TZNAME:CET
DTSTART:20211031T010000
END:STANDARD
END:VTIMEZONE
BEGIN:VEVENT
DTSTART;VALUE=DATE:20200724
DTEND;VALUE=DATE:20200725
DTSTAMP:20260423T211215
CREATED:20200714T164342Z
LAST-MODIFIED:20200714T164342Z
UID:15461-1595548800-1595635199@beer.be
SUMMARY:Meet The Brewer - Dry & Bitter (DK)
DESCRIPTION:Join us for a summer night around Dry & Bitter\, one of the leading craft brewery in Denmark and Europe. There will be 8 of their brews on tap and 16 different beers in cans to take home or drink in! And the brewer is travelling all the way from Copenhagen to be with us that weekend. \nTaplist:\n1) Christian Bale Ale - Session IPA\n2) Dank & Juicy - IPA\n3) Chromodome - West Coast IPA\n4) Interstratal Abyss - DDH IPA with Strata & Idaho-7\n5) Earthscraper - DDH IPA with Galaxy\n6) Double Dippy Doo - Double IPA\n7) Nitrojar - Dry Stout on Nitro\n8) Undulate V4 - Cherry Porter \nCans:\n1) White Rabbit - Pilsner\n2) Christian Bale Ale - Session IPA\n3) Phase Curve - Session IPA\n4) Flea for All - New Zealand Pale Ale\n5) Dank & Juicy - IPA\n6) Vague Vessel – IPA\n7) Things Ain't What They Used To Be - IPA\n8) Green C's - IPA\n9) UW - IPA\n10) Astral Sabbatical - IPA\n11) Interstratal Abyss - DDH IPA with Strata Idaho-7\n12) Earthscraper - DDH IPA Galaxy\n13) Great Gig In The Sky – Double IPA\n14) Double Dippy Doo – Double IPA\n15) Traverse The Polyverse - DDH Double IPA\n16) Undulate V5 - Coffee\, Chocolate\, Orange Porter
URL:https://beer.be/agenda/meet-the-brewer-dry-bitter-dk/
CATEGORIES:Dynamo
ATTACH;FMTTYPE=image/jpeg:https://beer.be/wp-content/uploads/2020/07/107872011_2922028764562926_245068267701704788_o.jpg
END:VEVENT
END:VCALENDAR