BEGIN:VCALENDAR
VERSION:2.0
PRODID:-//Beer.be - ECPv6.15.20//NONSGML v1.0//EN
CALSCALE:GREGORIAN
METHOD:PUBLISH
X-WR-CALNAME:Beer.be
X-ORIGINAL-URL:https://beer.be
X-WR-CALDESC:Évènements pour Beer.be
REFRESH-INTERVAL;VALUE=DURATION:PT1H
X-Robots-Tag:noindex
X-PUBLISHED-TTL:PT1H
BEGIN:VTIMEZONE
TZID:Europe/Brussels
BEGIN:DAYLIGHT
TZOFFSETFROM:+0100
TZOFFSETTO:+0200
TZNAME:CEST
DTSTART:20200329T010000
END:DAYLIGHT
BEGIN:STANDARD
TZOFFSETFROM:+0200
TZOFFSETTO:+0100
TZNAME:CET
DTSTART:20201025T010000
END:STANDARD
BEGIN:DAYLIGHT
TZOFFSETFROM:+0100
TZOFFSETTO:+0200
TZNAME:CEST
DTSTART:20210328T010000
END:DAYLIGHT
BEGIN:STANDARD
TZOFFSETFROM:+0200
TZOFFSETTO:+0100
TZNAME:CET
DTSTART:20211031T010000
END:STANDARD
BEGIN:DAYLIGHT
TZOFFSETFROM:+0100
TZOFFSETTO:+0200
TZNAME:CEST
DTSTART:20220327T010000
END:DAYLIGHT
BEGIN:STANDARD
TZOFFSETFROM:+0200
TZOFFSETTO:+0100
TZNAME:CET
DTSTART:20221030T010000
END:STANDARD
END:VTIMEZONE
BEGIN:VEVENT
DTSTART;VALUE=DATE:20210903
DTEND;VALUE=DATE:20210904
DTSTAMP:20260423T002139
CREATED:20210830T125646Z
LAST-MODIFIED:20210830T125646Z
UID:17395-1630627200-1630713599@beer.be
SUMMARY:Marble Brewery Night
DESCRIPTION:This Friday we organize a night around Marble Brewery\, one of the most respected craft brewery from the North of England. If you have ever visited Manchester\, you probably had a few beers in the Marble Arch\, the pub with the sloping floor. And you must have found the beers delicious! Marble is a brewery that makes more traditional styles\, don't expect the latest Hazy Double IPA. But they make wonderful bitters\, west coast hoppy beers\, barrel aged old ales\, etc.\n\nWe will tap 9 of their beers on Friday\, here is the tap list:\n1) American Pilsener\n2) Berimbolo - Dry Hopped Blond\n3) Cross Collar - West Coast Pale Ale\n4) Lagonda - English Pale Ale\n5) Manchester Bitter\n6) Hip Escape - India Pale Lager\n7) Sky High - IPA\n8 ) Pineapple\, Cacao & Acai Imperial Stout\n9) Old Ale Amontillado - Barrel Aged Old Ale\n\nCan Menu:\n10) Arm Bar - Pale Ale\n11) Earl Grey IPA\n12) Extra Special Marble - ESB\n13) Raspberry & Quince Berliner Weisse\n14) Silly Point - IPA\n15) Stout\n16) Uppe Hela Natten Irish Whiskey - Porter\n17) Barley Wine 2020\n18) Decadence 2020 - Imperial Stout
URL:https://beer.be/agenda/marble-brewery-night/
CATEGORIES:Dynamo
ATTACH;FMTTYPE=image/jpeg:https://beer.be/wp-content/uploads/2021/08/240784174_4057447627687695_8507071771511463344_n.jpg
END:VEVENT
END:VCALENDAR