BEGIN:VCALENDAR
VERSION:2.0
PRODID:-//Beer.be - ECPv6.15.20//NONSGML v1.0//EN
CALSCALE:GREGORIAN
METHOD:PUBLISH
X-ORIGINAL-URL:https://beer.be
X-WR-CALDESC:Évènements pour Beer.be
REFRESH-INTERVAL;VALUE=DURATION:PT1H
X-Robots-Tag:noindex
X-PUBLISHED-TTL:PT1H
BEGIN:VTIMEZONE
TZID:Europe/Brussels
BEGIN:DAYLIGHT
TZOFFSETFROM:+0100
TZOFFSETTO:+0200
TZNAME:CEST
DTSTART:20210328T010000
END:DAYLIGHT
BEGIN:STANDARD
TZOFFSETFROM:+0200
TZOFFSETTO:+0100
TZNAME:CET
DTSTART:20211031T010000
END:STANDARD
BEGIN:DAYLIGHT
TZOFFSETFROM:+0100
TZOFFSETTO:+0200
TZNAME:CEST
DTSTART:20220327T010000
END:DAYLIGHT
BEGIN:STANDARD
TZOFFSETFROM:+0200
TZOFFSETTO:+0100
TZNAME:CET
DTSTART:20221030T010000
END:STANDARD
BEGIN:DAYLIGHT
TZOFFSETFROM:+0100
TZOFFSETTO:+0200
TZNAME:CEST
DTSTART:20230326T010000
END:DAYLIGHT
BEGIN:STANDARD
TZOFFSETFROM:+0200
TZOFFSETTO:+0100
TZNAME:CET
DTSTART:20231029T010000
END:STANDARD
END:VTIMEZONE
BEGIN:VEVENT
DTSTART;TZID=Europe/Brussels:20220107T170000
DTEND;TZID=Europe/Brussels:20220107T230000
DTSTAMP:20260422T175229
CREATED:20220105T062619Z
LAST-MODIFIED:20220105T062619Z
UID:18819-1641574800-1641596400@beer.be
SUMMARY:The Kernel New Year Tap Takeover
DESCRIPTION:Is there a better way to start 2022 than drinking a good Kernel beer?\nIf you think there is no better way\, join us this Friday for our first tap takeover of the year with the world class beers from The Kernel in London. Classics but well made.\nTap List:\n1) Table Beer\n2) Pale Ale Tomoyodori\n3) Pale Ale Talus\n4) IPA Nelson Sauvin Centennial\n5) IPA Galaxy\n6) Foeder Beer Taiheke\n7) Export India Porter\n8 ) Export Stout\n9) Imperial Brown Stout
URL:https://beer.be/agenda/the-kernel-new-year-tap-takeover/
CATEGORIES:Dynamo
ATTACH;FMTTYPE=image/jpeg:https://beer.be/wp-content/uploads/2022/01/271443559_4468720639893723_5285450340130759343_n.jpg
END:VEVENT
BEGIN:VEVENT
DTSTART;TZID=Europe/Brussels:20220130T100000
DTEND;TZID=Europe/Brussels:20220130T130000
DTSTAMP:20260422T175229
CREATED:20220131T052350Z
LAST-MODIFIED:20220131T052350Z
UID:19002-1643536800-1643547600@beer.be
SUMMARY:RUSG - RSCA Warmup with coffee & beer
DESCRIPTION:
URL:https://beer.be/agenda/rusg-rsca-warmup-with-coffee-beer/
CATEGORIES:Dynamo
ATTACH;FMTTYPE=image/jpeg:https://beer.be/wp-content/uploads/2022/01/272777247_4560011397431313_1894033373777545314_n.jpg
END:VEVENT
END:VCALENDAR