BEGIN:VCALENDAR
VERSION:2.0
PRODID:-//Beer.be - ECPv6.15.20//NONSGML v1.0//EN
CALSCALE:GREGORIAN
METHOD:PUBLISH
X-WR-CALNAME:Beer.be
X-ORIGINAL-URL:https://beer.be
X-WR-CALDESC:Évènements pour Beer.be
REFRESH-INTERVAL;VALUE=DURATION:PT1H
X-Robots-Tag:noindex
X-PUBLISHED-TTL:PT1H
BEGIN:VTIMEZONE
TZID:Europe/Brussels
BEGIN:DAYLIGHT
TZOFFSETFROM:+0100
TZOFFSETTO:+0200
TZNAME:CEST
DTSTART:20210328T010000
END:DAYLIGHT
BEGIN:STANDARD
TZOFFSETFROM:+0200
TZOFFSETTO:+0100
TZNAME:CET
DTSTART:20211031T010000
END:STANDARD
BEGIN:DAYLIGHT
TZOFFSETFROM:+0100
TZOFFSETTO:+0200
TZNAME:CEST
DTSTART:20220327T010000
END:DAYLIGHT
BEGIN:STANDARD
TZOFFSETFROM:+0200
TZOFFSETTO:+0100
TZNAME:CET
DTSTART:20221030T010000
END:STANDARD
BEGIN:DAYLIGHT
TZOFFSETFROM:+0100
TZOFFSETTO:+0200
TZNAME:CEST
DTSTART:20230326T010000
END:DAYLIGHT
BEGIN:STANDARD
TZOFFSETFROM:+0200
TZOFFSETTO:+0100
TZNAME:CET
DTSTART:20231029T010000
END:STANDARD
END:VTIMEZONE
BEGIN:VEVENT
DTSTART;TZID=Europe/Brussels:20220204T170000
DTEND;TZID=Europe/Brussels:20220205T000000
DTSTAMP:20260422T154910
CREATED:20220203T064230Z
LAST-MODIFIED:20220203T064230Z
UID:19046-1643994000-1644019200@beer.be
SUMMARY:Basqueland Tap Takeover
DESCRIPTION:We've just received the new beers from Basqueland Brewing! There will be 6 beers on tap and 12 by the can/bottle\, including their two new barrel aged imperial stouts 🙂 \nTap List:\nDouble Cream of Green - Oat Cream Double IPA\nLife Cycle  - Hazy IPA\nKaraoke Chain Gang  - DDH IPA\nGreat Minds - Hazy IPA\nDiamonds & Wood  - DDH IPA\nLive Forever - Imperial Pastry Stout \nCan List:\nCat Skills - Double IPA\nLow Hanging Fruit  - Sour IPA\nFermento  - Triple IPA\nSanto Tomas  - TDH IPA\nMucho Mucho Delicioso - Mucho® Dry Hoped IPA\nInto The Abyss  - Imperial Pastry Stout\nSSD 2.0 - WC Double IPA\nGrand Opening  - Triple IPA\nEscondido  - West Coast IPA\nFlight of the Kiwis  - NZ West Coast IPA \nBottle List:\nBarrelworks Maple Syrup - Barrel Aged Imperial Stout\nBarrelworks Cognac - Barrel Aged Imperial Stout
URL:https://beer.be/agenda/basqueland-tap-takeover-2/
LOCATION:Dynamo - Bar de Soif\, Chaussée d'Alsemberg\, 130\, Saint-Gilles\, 1060\, BE
CATEGORIES:Dynamo
ATTACH;FMTTYPE=image/jpeg:https://beer.be/wp-content/uploads/2022/02/19046_image_273154751_4577302335702219_317105296332021491_n.jpg
END:VEVENT
BEGIN:VEVENT
DTSTART;TZID=Europe/Brussels:20220218T170000
DTEND;TZID=Europe/Brussels:20220220T234500
DTSTAMP:20260422T154910
CREATED:20220208T200937Z
LAST-MODIFIED:20220208T200937Z
UID:19117-1645203600-1645400700@beer.be
SUMMARY:Scottish Weekend!
DESCRIPTION:The Scottish Weekend is back this year! No burns night\, no haggis (mainly due to Brexit...) but a good selection of Tempest brewing beers on tap and a wide selection of whiskies. We haven't seen their beers on tap in Brussels for a long time and they come back with all their most famous beers\, including All The Leaves Are Brown Barrel Aged! \nPS: There will be two alcohol free beers on tap as well! \nTap List:\n1) Modern Helles - Lager\n2) Long White Cloud - Pale Ale\n3) Galaxy Bounce - IPA\n4) Pacific State - IPA\n5) Elemental - Porter\n6) All the Leaves Are Brown BA - Maple Brown Ale\n7) Bourbon BA Mexicake - Imperial Stout\n8) Barrel 3 Smoked Islay - Imperial Stout\n9) Sleight of Hand Pale - AF Beer\n10) Sleight of Hand Chai Stout - AF Stout
URL:https://beer.be/agenda/scottish-weekend/
LOCATION:Dynamo - Bar de Soif\, Chaussée d'Alsemberg\, 130\, Saint-Gilles\, 1060\, BE
CATEGORIES:Dynamo
ATTACH;FMTTYPE=image/jpeg:https://beer.be/wp-content/uploads/2022/02/19117_image_273668939_4595435010555618_7467005720552518202_n.jpg
END:VEVENT
END:VCALENDAR