BEGIN:VCALENDAR
VERSION:2.0
PRODID:-//Beer.be - ECPv6.15.20//NONSGML v1.0//EN
CALSCALE:GREGORIAN
METHOD:PUBLISH
X-ORIGINAL-URL:https://beer.be
X-WR-CALDESC:Évènements pour Beer.be
REFRESH-INTERVAL;VALUE=DURATION:PT1H
X-Robots-Tag:noindex
X-PUBLISHED-TTL:PT1H
BEGIN:VTIMEZONE
TZID:Europe/Brussels
BEGIN:DAYLIGHT
TZOFFSETFROM:+0100
TZOFFSETTO:+0200
TZNAME:CEST
DTSTART:20210328T010000
END:DAYLIGHT
BEGIN:STANDARD
TZOFFSETFROM:+0200
TZOFFSETTO:+0100
TZNAME:CET
DTSTART:20211031T010000
END:STANDARD
BEGIN:DAYLIGHT
TZOFFSETFROM:+0100
TZOFFSETTO:+0200
TZNAME:CEST
DTSTART:20220327T010000
END:DAYLIGHT
BEGIN:STANDARD
TZOFFSETFROM:+0200
TZOFFSETTO:+0100
TZNAME:CET
DTSTART:20221030T010000
END:STANDARD
BEGIN:DAYLIGHT
TZOFFSETFROM:+0100
TZOFFSETTO:+0200
TZNAME:CEST
DTSTART:20230326T010000
END:DAYLIGHT
BEGIN:STANDARD
TZOFFSETFROM:+0200
TZOFFSETTO:+0100
TZNAME:CET
DTSTART:20231029T010000
END:STANDARD
END:VTIMEZONE
BEGIN:VEVENT
DTSTART;VALUE=DATE:20220317
DTEND;VALUE=DATE:20220318
DTSTAMP:20260422T140412
CREATED:20220311T061908Z
LAST-MODIFIED:20220311T061908Z
UID:19450-1647475200-1647561599@beer.be
SUMMARY:Northern Monk Tap Takeover
DESCRIPTION:A new load of Northern Monk is arriving next week in Brussels with all the fresh specials brewed in February\, including the new brew of Double Heathen. That's a good excuse to organize a TTO!\nTap List:\n1. Holy Faith - NA IPA\n2. Eternal - Session IPA\n3. Faith - Pale Ale\n4. A Little Faith - Session IPA\n5. Mangoes On With Faith - Mango Pale Ale\n6. NM x Neon Rapter x Overtone: North vs South - DDH IPA\n7. Fresh 010 - Double IPA\n8. Double Heathen - Double IPA\n9. PP 34.01//Amy Hastings: The Lovers - Imperial Stout
URL:https://beer.be/agenda/northern-monk-tap-takeover-2/
LOCATION:Dynamo - Bar de Soif\, Chaussée d'Alsemberg\, 130\, Saint-Gilles\, 1060\, BE
CATEGORIES:Dynamo
ATTACH;FMTTYPE=image/jpeg:https://beer.be/wp-content/uploads/2022/03/275378422_4676934622405656_3251292435742652103_n.jpg
END:VEVENT
BEGIN:VEVENT
DTSTART;VALUE=DATE:20220325
DTEND;VALUE=DATE:20220326
DTSTAMP:20260422T140412
CREATED:20220311T062342Z
LAST-MODIFIED:20220311T062342Z
UID:19463-1648166400-1648252799@beer.be
SUMMARY:Clouwater TTO feat Chubbles
DESCRIPTION:PERMISSION TO LAND?\nThey came from outer space\, ready to put a smile on your face.\nIt's time to celebrate the yearly release of Chubbles\, the collab project of Cloudwater (UK) and The Veil Brewing (USA).\nYou will find the newest Cloudwater beers simultaneously in kegs and cans during this event weekend at\n++ Dynamo Bar Brussels ++\n++ Bar Beenhouwer Gent ++\n++ Hops N More Leuven ++\nJoin us for some good times\, good vibes and good beers!\n** Dynamo Keg **\n1. Chubbles 53N DDH IPA\n2. Ness Atalanta DDH DIPA\n3. New New Normal DDH IPA\n4. Tufts of Twine in Upper Moutere Pilsner\n5. Volley West Coast IPA\n6. Hybrid (Stigbergets collab) Farmhouse IPA\n7. Material Science Baltic Porter\n8. Collecting Flowers DDH Double Wheat IPA
URL:https://beer.be/agenda/clouwater-tto-feat-chubbles/
LOCATION:Dynamo - Bar de Soif\, Chaussée d'Alsemberg\, 130\, Saint-Gilles\, 1060\, BE
CATEGORIES:Dynamo
ATTACH;FMTTYPE=image/jpeg:https://beer.be/wp-content/uploads/2022/03/275555463_502234074830257_2388159641872842552_n.jpg
END:VEVENT
END:VCALENDAR