BEGIN:VCALENDAR
VERSION:2.0
PRODID:-//Beer.be - ECPv6.15.20//NONSGML v1.0//EN
CALSCALE:GREGORIAN
METHOD:PUBLISH
X-ORIGINAL-URL:https://beer.be
X-WR-CALDESC:Évènements pour Beer.be
REFRESH-INTERVAL;VALUE=DURATION:PT1H
X-Robots-Tag:noindex
X-PUBLISHED-TTL:PT1H
BEGIN:VTIMEZONE
TZID:Europe/Brussels
BEGIN:DAYLIGHT
TZOFFSETFROM:+0100
TZOFFSETTO:+0200
TZNAME:CEST
DTSTART:20210328T010000
END:DAYLIGHT
BEGIN:STANDARD
TZOFFSETFROM:+0200
TZOFFSETTO:+0100
TZNAME:CET
DTSTART:20211031T010000
END:STANDARD
BEGIN:DAYLIGHT
TZOFFSETFROM:+0100
TZOFFSETTO:+0200
TZNAME:CEST
DTSTART:20220327T010000
END:DAYLIGHT
BEGIN:STANDARD
TZOFFSETFROM:+0200
TZOFFSETTO:+0100
TZNAME:CET
DTSTART:20221030T010000
END:STANDARD
BEGIN:DAYLIGHT
TZOFFSETFROM:+0100
TZOFFSETTO:+0200
TZNAME:CEST
DTSTART:20230326T010000
END:DAYLIGHT
BEGIN:STANDARD
TZOFFSETFROM:+0200
TZOFFSETTO:+0100
TZNAME:CET
DTSTART:20231029T010000
END:STANDARD
END:VTIMEZONE
BEGIN:VEVENT
DTSTART;VALUE=DATE:20220901
DTEND;VALUE=DATE:20220902
DTSTAMP:20260420T044346
CREATED:20220824T043923Z
LAST-MODIFIED:20220824T043923Z
UID:21180-1661990400-1662076799@beer.be
SUMMARY:Freddo Fox (Spain) Tap Takeover
DESCRIPTION:First time there will be kegs of Freddo Fox tapped in Brussels. Perfect for our "tap takeover de rentrée".\nFreddo Fox is a cool new brewery out of Barcelona. They have been launched early 2021 on the ashes of the famous Edge Brewing by former employees. They are now fully autonomous and developped their own style with talent.\nWe'll tap 7 of their beers for that night.\n\nTap List:\n- Nakamoto Effect - Session IPA\n- Screw It\, Let's Do It! - Cold IPA\n- Russian Warship. Go F*%k Yourself (Varvar Collab) - NE IPA\n- El Único - West Coast IPA\n- The Butterfly Effect - Fruited Berliner Weisse\n- It Ain't Ice Cream - Pastry Stout\n- Ooh. Mochachino! - Pastry Stout
URL:https://beer.be/agenda/freddo-fox-spain-tap-takeover/
LOCATION:Dynamo - Bar de Soif\, Chaussée d'Alsemberg\, 130\, Saint-Gilles\, 1060\, BE
CATEGORIES:Dynamo
ATTACH;FMTTYPE=image/jpeg:https://beer.be/wp-content/uploads/2022/08/300105020_5125570474208733_438147992143872489_n.jpg
END:VEVENT
END:VCALENDAR