BEGIN:VCALENDAR
VERSION:2.0
PRODID:-//Beer.be - ECPv6.15.20//NONSGML v1.0//EN
CALSCALE:GREGORIAN
METHOD:PUBLISH
X-ORIGINAL-URL:https://beer.be
X-WR-CALDESC:Évènements pour Beer.be
REFRESH-INTERVAL;VALUE=DURATION:PT1H
X-Robots-Tag:noindex
X-PUBLISHED-TTL:PT1H
BEGIN:VTIMEZONE
TZID:Europe/Brussels
BEGIN:DAYLIGHT
TZOFFSETFROM:+0100
TZOFFSETTO:+0200
TZNAME:CEST
DTSTART:20210328T010000
END:DAYLIGHT
BEGIN:STANDARD
TZOFFSETFROM:+0200
TZOFFSETTO:+0100
TZNAME:CET
DTSTART:20211031T010000
END:STANDARD
BEGIN:DAYLIGHT
TZOFFSETFROM:+0100
TZOFFSETTO:+0200
TZNAME:CEST
DTSTART:20220327T010000
END:DAYLIGHT
BEGIN:STANDARD
TZOFFSETFROM:+0200
TZOFFSETTO:+0100
TZNAME:CET
DTSTART:20221030T010000
END:STANDARD
BEGIN:DAYLIGHT
TZOFFSETFROM:+0100
TZOFFSETTO:+0200
TZNAME:CEST
DTSTART:20230326T010000
END:DAYLIGHT
BEGIN:STANDARD
TZOFFSETFROM:+0200
TZOFFSETTO:+0100
TZNAME:CET
DTSTART:20231029T010000
END:STANDARD
END:VTIMEZONE
BEGIN:VEVENT
DTSTART;VALUE=DATE:20221231
DTEND;VALUE=DATE:20230101
DTSTAMP:20260419T225923
CREATED:20221223T073451Z
LAST-MODIFIED:20221223T073451Z
UID:22083-1672444800-1672531199@beer.be
SUMMARY:New Year's Eve Tap Takeover: Prokotoll Berlin
DESCRIPTION:Last day of the year\, last tap takeover the year… We’ve got some beers from Protokoll Berlin for this New Year’s Eve. The bar will open at 4pm and close at 10pm (we all have some little afterparties you know). That leaves us plenty of time to share a drink together and we’ll have fridges full of wines & beers in case you don’t want to come empty handed to your NY party.\n\nTap List:\nNot Answering Calls – New England Pale Ale\nBillie is a Punk Rocker – Black IPA\nShort Shorts – New England IPA\nResearch Chemicals – West Coast IPA\nPost Physical – West Coast IPA\nAtomic Number – Double IPA\nOatmeal stout – Oatmeal Stout
URL:https://beer.be/agenda/new-years-eve-tap-takeover-prokotoll-berlin/
LOCATION:Dynamo - Bar de Soif\, Chaussée d'Alsemberg\, 130\, Saint-Gilles\, 1060\, BE
CATEGORIES:Dynamo
ATTACH;FMTTYPE=image/jpeg:https://beer.be/wp-content/uploads/2022/12/319694307_871203894078557_3914170558544781474_n.jpg
END:VEVENT
END:VCALENDAR