BEGIN:VCALENDAR
VERSION:2.0
PRODID:-//Beer.be - ECPv6.15.20//NONSGML v1.0//EN
CALSCALE:GREGORIAN
METHOD:PUBLISH
X-ORIGINAL-URL:https://beer.be
X-WR-CALDESC:Évènements pour Beer.be
REFRESH-INTERVAL;VALUE=DURATION:PT1H
X-Robots-Tag:noindex
X-PUBLISHED-TTL:PT1H
BEGIN:VTIMEZONE
TZID:Europe/Brussels
BEGIN:DAYLIGHT
TZOFFSETFROM:+0100
TZOFFSETTO:+0200
TZNAME:CEST
DTSTART:20220327T010000
END:DAYLIGHT
BEGIN:STANDARD
TZOFFSETFROM:+0200
TZOFFSETTO:+0100
TZNAME:CET
DTSTART:20221030T010000
END:STANDARD
BEGIN:DAYLIGHT
TZOFFSETFROM:+0100
TZOFFSETTO:+0200
TZNAME:CEST
DTSTART:20230326T010000
END:DAYLIGHT
BEGIN:STANDARD
TZOFFSETFROM:+0200
TZOFFSETTO:+0100
TZNAME:CET
DTSTART:20231029T010000
END:STANDARD
BEGIN:DAYLIGHT
TZOFFSETFROM:+0100
TZOFFSETTO:+0200
TZNAME:CEST
DTSTART:20240331T010000
END:DAYLIGHT
BEGIN:STANDARD
TZOFFSETFROM:+0200
TZOFFSETTO:+0100
TZNAME:CET
DTSTART:20241027T010000
END:STANDARD
END:VTIMEZONE
BEGIN:VEVENT
DTSTART;VALUE=DATE:20230401
DTEND;VALUE=DATE:20230403
DTSTAMP:20260423T103257
CREATED:20230315T073841Z
LAST-MODIFIED:20230315T073841Z
UID:22750-1680307200-1680479999@beer.be
SUMMARY:Les Brassinades
DESCRIPTION:Le rendez-vous des amateurs de vraies bières ! Après une première édition 2022 réussie\, c’est avec enthousiasme que nous poursuivons l’organisation du salon des brasseurs amateurs\, « Les Brassinades »\, à Surister. Les retours positifs tant du côté des exposants que des visiteurs nous confirment l’intérêt de cette formule. \nVous avez dit Brasseurs amateurs ? Malgré l'existence de certains forums sociaux ou de sites internet dédiés\, il est souvent difficile de trouver des informations répondant aux questions d'ordres techniques concernant le brassage en lui-même\, ou encore\, de l’endroit où trouver le matériel\, des questions relatives aux matières premières ou aux bouteilles… L'idée a donc germé de créer un espace de rencontres entre différents acteurs de terrain autour des problèmes rencontrés par un brasseur amateur qui souhaite simplement brasser et partager sa propre bière avec ses amis. \nC’est donc dans ce but\, que notre ASBL organise à nouveau un espace « physique » de rencontres\, le temps d'un week-end\, au printemps 2023 autour du brassage amateur. L'objectif du salon est de rassembler en un endroit les acteurs importants pour démarrer une activité de micro-brassage (entreprises\, brasseurs amateurs ou en devenir\, aussi quelques microbrasseries régionales...).\nNotre objectif n'est donc pas de créer un nouveau salon de la bière mais bien un espace de rencontres autour du brassage amateur : « Les Brassinades ».
URL:https://beer.be/agenda/les-brassinades-2/
LOCATION:La Petite France\, Surister 125\, Jalhay\, 4845\, Belgique
CATEGORIES:Festival
ATTACH;FMTTYPE=image/png:https://beer.be/wp-content/uploads/2023/03/333203044_218749250827630_1074986748484850931_n.png
END:VEVENT
BEGIN:VEVENT
DTSTART;VALUE=DATE:20230401
DTEND;VALUE=DATE:20230403
DTSTAMP:20260423T103257
CREATED:20230329T082123Z
LAST-MODIFIED:20230329T082123Z
UID:22842-1680307200-1680479999@beer.be
SUMMARY:Les Brassinades
DESCRIPTION:2e édition du Salon des brasseurs amateurs et des amateurs de brasseurs.\nEspace de rencontre autour du brassage amateur\, dégustations\, matériel\, matières premières\, objets personnalisables\, conférences...
URL:https://beer.be/agenda/les-brassinades-3/
LOCATION:Royale Jeunesse de Surister\, 125 Surister\, Jalhay\, Belgique
CATEGORIES:Festival
ATTACH;FMTTYPE=image/jpeg:https://beer.be/wp-content/uploads/2023/03/334808066_161612693016290_3781283689406629449_n.jpg
END:VEVENT
BEGIN:VEVENT
DTSTART;VALUE=DATE:20230408
DTEND;VALUE=DATE:20230409
DTSTAMP:20260423T103257
CREATED:20230406T150102Z
LAST-MODIFIED:20230406T150102Z
UID:22920-1680912000-1680998399@beer.be
SUMMARY:16de Kastels Bierfestival
DESCRIPTION:We verzamelden voor jullie allerlei verschillende kempische biertjes. Van zoet tot zuur en van fruitig tot bitter. Ondertussen genieten van de muzikale omlijsting. De kinderen in de kinderhoek of op het springkasteel.
URL:https://beer.be/agenda/16de-kastels-bierfestival/
LOCATION:OC Kasterlee
CATEGORIES:Festival
ATTACH;FMTTYPE=image/jpeg:https://beer.be/wp-content/uploads/2023/04/331697723_1864320417359144_8807562378827411504_n.jpg
END:VEVENT
BEGIN:VEVENT
DTSTART;VALUE=DATE:20230416
DTEND;VALUE=DATE:20230417
DTSTAMP:20260423T103257
CREATED:20230307T054014Z
LAST-MODIFIED:20230307T054014Z
UID:22661-1681603200-1681689599@beer.be
SUMMARY:DVDK festival
DESCRIPTION:Brouwerij de Dochter van de Korenaar organiseert een bierfestival in eigen huis.\nDit originele festival is gebaseerd op het gevarieerde biergamma van Brouwerij de Dochter van de Korenaar. Het festival vindt plaats in onze brouwerij en op ons zonnige terras. Er zal twee keer een masterclass worden gegeven voor de liefhebber in onze bierkelder\, op de dag zelf aan te melden. Kom genieten met uw vrienden en familie onder het genot van heerlijke bieren\, muziek en lekker eten. Tot snel!\nTickets te bestellen via IDEAL en BanContact op pc.\nVia een mobiel via Paypal en creditcard.\nTevens tickets te bestellen via whatsapp: +31 (0) 644545749
URL:https://beer.be/agenda/dvdk-festival/
LOCATION:De dochter van de korenaar\, 3B Oordeelstraat\, Baarle-Hertog\, 2387\, Belgique
CATEGORIES:Festival
ATTACH;FMTTYPE=image/jpeg:https://beer.be/wp-content/uploads/2023/03/333019747_1584534395393672_3435481022593081561_n.jpg
END:VEVENT
BEGIN:VEVENT
DTSTART;VALUE=DATE:20230421
DTEND;VALUE=DATE:20230422
DTSTAMP:20260423T103257
CREATED:20230227T054330Z
LAST-MODIFIED:20230227T054330Z
UID:22602-1682035200-1682121599@beer.be
SUMMARY:La Source Gruit Fest 2023 * CANTENAC DAGAR + ALL CAPS + CHEW + HASSAN K + EDI POU
DESCRIPTION:GRUIT FEST * CANTENAC DAGAR + ALL CAPS + CHEW + HASSAN K + EDI POU\n****************\nprix libre\nBAR: 16:00\nSTART: 20:00\n****************\nW/ great help from Dishwash\nCANTENAC DAGAR (FR)\nInstrumental duo from france ---- banjo\, bells\, cassette player\, human beatbox.\nhttps://cantenacdagar.bandcamp.com/\n\nALL CAPS (BE)\nIt's all about mushrooms\, planes and pyramids\nhttps://allcapsbxl.bandcamp.com/\n\nCHEW (US)\nCHEW pushes the boundaries of psychedelic electronic and post-rock with a combination of articulated and monstrously heavy rhythm section work\, sample-based analog leads\, and discorded psychedelic guitar. What at first seems like a strange mix of concepts quickly pulls you in and immerses you in a controlled chaos of the most musical kind.\nhttps://3dchew.bandcamp.com/\n\nHASSAN K (FR)\n« À l’instar des génies Mike Patton et consorts\, Hassan K mêle folklore et nouvelles technologies\, occident et orient\, surf music et bellydance\, swing et metal… Improbable ? Impeccable. »\n- Magic RPM\nhttps://hassank.bandcamp.com/album/isteghna?from=embed\n\nEDI POU (ES)
URL:https://beer.be/agenda/la-source-gruit-fest-2023-cantenac-dagar-all-caps-chew-hassan-k-edi-pou/
LOCATION:La Source Beer Co.\, 4 rue Dieudonné Lefèvre\, Bruxelles\, 1020\, Belgique
CATEGORIES:Festival
ATTACH;FMTTYPE=image/jpeg:https://beer.be/wp-content/uploads/2023/02/331393473_938623734236442_5411381733695593010_n.jpg
END:VEVENT
BEGIN:VEVENT
DTSTART;VALUE=DATE:20230421
DTEND;VALUE=DATE:20230422
DTSTAMP:20260423T103257
CREATED:20230424T113637Z
LAST-MODIFIED:20230424T113637Z
UID:23098-1682035200-1682121599@beer.be
SUMMARY:Ça Brasse à Soleilmont
DESCRIPTION:Dégustez des bières locales et rencontrez 9 microbrasseurs de la région dans le magnifique cadre de l'Ancienne Abbaye de Soleilmont.\nUn afterwork original pour découvrir dans un seul lieu les richesses brassicoles de chez nous\, le tout dans une ambiance décontractée.\nEntrée gratuite\nFormule dégustation "Brass": 9 galopins (12cl) pour 12€.\nBières (33cl) à 3.5€\nPetite restauration: portions de fromage\, pizzas\, Hamburgers et frites.
URL:https://beer.be/agenda/ca-brasse-a-soleilmont-3/
LOCATION:Ancienne abbaye de Soleilmont\, Rue de Soleilmont\, Châtelet\, 6200\, Belgique
CATEGORIES:Festival
ATTACH;FMTTYPE=image/jpeg:https://beer.be/wp-content/uploads/2023/04/325271479_740975070597638_4437935174252831956_n.jpg
END:VEVENT
BEGIN:VEVENT
DTSTART;VALUE=DATE:20230421
DTEND;VALUE=DATE:20230423
DTSTAMP:20260423T103257
CREATED:20230331T132014Z
LAST-MODIFIED:20230331T132014Z
UID:22875-1682035200-1682207999@beer.be
SUMMARY:Fest'IPA
DESCRIPTION:Venez découvrir la richesse du style "IPA"... de l'amertume aux fruits exotiques\, des légères aux fortes\, des blondes aux noires...\nNous nous réjouissons de vous accueillir ces 21 et 22 avril à la brasserie de la Houppe !\nSuivez-nous pour découvrir au fur et à mesure les bières et brasseries que nous vous proposerons!\nHoraire :\nVendredi 21 avril : 13h00 - 23h00\nSamedi 22 avril : 11h00 - 23h00
URL:https://beer.be/agenda/festipa/
LOCATION:Brasserie de la Houppe\, 49 avenue de la Plante\, Namur\, 5000\, Belgique
CATEGORIES:Festival
ATTACH;FMTTYPE=image/jpeg:https://beer.be/wp-content/uploads/2023/03/322604704_505582911643043_699605260609486225_n.jpg
END:VEVENT
BEGIN:VEVENT
DTSTART;VALUE=DATE:20230422
DTEND;VALUE=DATE:20230424
DTSTAMP:20260423T103257
CREATED:20221205T062042Z
LAST-MODIFIED:20221205T062042Z
UID:21975-1682121600-1682294399@beer.be
SUMMARY:Zythos Bierfestival 2023
DESCRIPTION:Zythos Bierfestival 2023 - Deze 18e editie gaat door op 22 en 23 april 2023 in Kortrijk.
URL:https://beer.be/agenda/zythos-bierfestival-2023/
CATEGORIES:Festival
ATTACH;FMTTYPE=image/jpeg:https://beer.be/wp-content/uploads/2022/12/317752029_514609267370743_3054986772663743162_n.jpg
END:VEVENT
BEGIN:VEVENT
DTSTART;VALUE=DATE:20230429
DTEND;VALUE=DATE:20230501
DTSTAMP:20260423T103257
CREATED:20230206T054702Z
LAST-MODIFIED:20230206T054702Z
UID:22375-1682726400-1682899199@beer.be
SUMMARY:Tilquin British Beer Festival 2023 + Fruit Extravaganza
DESCRIPTION:
URL:https://beer.be/agenda/tilquin-british-beer-festival-2023-fruit-extravaganza/
LOCATION:Gueuzerie Tilquin\, 110 Chaussée Maïeur Habils\, Bierghes\, Rebecq\, 1430\, Belgique
CATEGORIES:Festival
ATTACH;FMTTYPE=image/jpeg:https://beer.be/wp-content/uploads/2023/02/322065419_738417484240977_4382932344367928578_n.jpg
END:VEVENT
BEGIN:VEVENT
DTSTART;VALUE=DATE:20230429
DTEND;VALUE=DATE:20230501
DTSTAMP:20260423T103257
CREATED:20230406T145302Z
LAST-MODIFIED:20230406T145302Z
UID:22900-1682726400-1682899199@beer.be
SUMMARY:Koerselse Biermarkt 2023
DESCRIPTION:Met grote vreugde kunnen we jullie vertellen dat op zaterdag 29 april 2023 terug heerlijke biertjes kunnen worden gedronken op onze jaarlijkse KOERSELSE BIERMARKT!\nOndertussen is die al aan zijn 9e editie toe\, en na de topeditie van vorig jaar zal deze editie zeker ook een topper worden.\nWe zijn namelijk terug met meer dan 100 verschillende biertjes.\nJe kan je verwachten aan entertainment voor ieder wat wils zoals een clown\, springkasteel voor de kleintjes\, het jaarlijkse voetbaltoernooi voor de sportievelingen\, verschillende livebandjes voor de BESTE muziek en nog veel meer dan dat.\n---FOODS---\nBraadworst\nFrietjes\nBoterhammen met spek\n---VOETBALTORNOOI---\nOok dit jaar zijn we er weer met het minivoetbaltoernooi. Jullie kunnen hier aan deelnemen en spelen voor een leuke prijs.\nLet wel op\, je dient je op voorhand in te schrijven om te kunnen deelnemen!! Via deze link kunnen jullie je groep inschrijven.\nhttps://forms.gle/fQEpJQzYuot1Ewzo8
URL:https://beer.be/agenda/koerselse-biermarkt-2023/
LOCATION:Chiro Fonteintje\, Leemstraat 39\, Beringen\, 3582\, Belgique
CATEGORIES:Festival
ATTACH;FMTTYPE=image/jpeg:https://beer.be/wp-content/uploads/2023/04/331534979_943065550024691_6343340632826683653_n.jpg
END:VEVENT
END:VCALENDAR