BEGIN:VCALENDAR
VERSION:2.0
PRODID:-//Beer.be - ECPv6.15.20//NONSGML v1.0//EN
CALSCALE:GREGORIAN
METHOD:PUBLISH
X-WR-CALNAME:Beer.be
X-ORIGINAL-URL:https://beer.be
X-WR-CALDESC:Évènements pour Beer.be
REFRESH-INTERVAL;VALUE=DURATION:PT1H
X-Robots-Tag:noindex
X-PUBLISHED-TTL:PT1H
BEGIN:VTIMEZONE
TZID:Europe/Brussels
BEGIN:DAYLIGHT
TZOFFSETFROM:+0100
TZOFFSETTO:+0200
TZNAME:CEST
DTSTART:20220327T010000
END:DAYLIGHT
BEGIN:STANDARD
TZOFFSETFROM:+0200
TZOFFSETTO:+0100
TZNAME:CET
DTSTART:20221030T010000
END:STANDARD
BEGIN:DAYLIGHT
TZOFFSETFROM:+0100
TZOFFSETTO:+0200
TZNAME:CEST
DTSTART:20230326T010000
END:DAYLIGHT
BEGIN:STANDARD
TZOFFSETFROM:+0200
TZOFFSETTO:+0100
TZNAME:CET
DTSTART:20231029T010000
END:STANDARD
BEGIN:DAYLIGHT
TZOFFSETFROM:+0100
TZOFFSETTO:+0200
TZNAME:CEST
DTSTART:20240331T010000
END:DAYLIGHT
BEGIN:STANDARD
TZOFFSETFROM:+0200
TZOFFSETTO:+0100
TZNAME:CET
DTSTART:20241027T010000
END:STANDARD
END:VTIMEZONE
BEGIN:VEVENT
DTSTART;VALUE=DATE:20230601
DTEND;VALUE=DATE:20230602
DTSTAMP:20260423T072507
CREATED:20230516T064002Z
LAST-MODIFIED:20230516T064002Z
UID:23276-1685577600-1685663999@beer.be
SUMMARY:Chouette x Illegaal · Tof #1
DESCRIPTION:𝕮𝕳𝕺𝖀𝕰𝕿𝕿𝕰 𝕿𝕺𝕱 #1\nVous connaissiez déjà le Chouette Festival ? On a le plaisir de vous convier à la première édition du Tof : une série d'évènements réunissant tous les âges autour de concerts\, bbq et animations pour les familles (avec de bonnes binouzes et des jus délicieux bien sûr).\nLa première édition se déroulera ce 1er juin à l'Illegaal (Rue Bollinckx 300\, 1190 Forest) à partir de 17h00. On vous attend nombreux.ses \n\n————————————————————————\n\n𝗔𝗻𝗶𝗺𝗮𝘁𝗶𝗼𝗻𝘀 — 17h00 > 19h30\nTournoi de pétanque (inscription pour équipe parents-enfants)\nKaraoké\nRoue de la fortune\nInstallation sonore participative\n\n𝗧𝗵𝗼𝗺𝗮𝘀𝗹𝗼𝘃𝗲𝗳𝗮𝘀𝗵𝗶𝗼𝗻𝘃𝗲𝗿𝘃𝗶𝗲𝗿𝘀 — 19h30\nLe 27 février 2017\, l’instagram de Thomaslovefashionverviers est créé. Depuis\, celui-ci a rendez-vous avec le succès. Très vite\, Thomas s’est mis à composer des chansons décrivant son quotidien d’influenceur et son troublant rapport avec la célébrité. Entre chansons d’amours punchy\, musique de chevaux\, electro dingo et balade de cheveux\, Thomaslovefashionverviers vous offre une performance exceptionnelle qui vous fera sentir comme si vous étiez dans un rêve éveillé avec lui à vos coté\, vous murmurant doucement à l’oreille que ce monde est fou\, mais il est là.\n https://soundcloud.com/thomaslovefashionverviers\n\n𝗞𝘂𝗺𝗯𝗲𝗹𝗲 — 20h50\nKumbelé\, elle est croustillante comme le sable des caraïbes et rayonnante comme un soleil couchant après une bonne pluie belge ! Cet ensemble nous conduira sur les traces du folklore afro-colombien\, au travers du bullerengue\, du fandango de lengua et de la cumbia. Ce n'est pas moins de dix musicien·nes endiablés qui vous accompagneront dans des danses effrénées!\n https://kumbele-1.jimdosite.com/\n\n𝗞𝘆𝗺 𝗠𝗯𝗲𝗺𝗯𝗲 — 22h10\nKym Mbémbé aka Laryssa Kim est une chanteuse et compositrice italo-congolaise\, basée à Bruxelles\, aux influences multiples.\nDans ses productions elle synthétise les différentes facettes de son parcours musical: elle juxtapose sa démarche chercheuse et expérimentale\nde l'Acousmatique à un aspect soul des influences qu'elle a de toutes sortes de musiques.\nEn tant que dj elle propose une sélection de musiques Afrobeat (de la Rumba congolaise classique à la musique afro-pop/disco contemporaine et trap) et reggae.\n https://www.mixcloud.com/DjKymMb%C3%A9mb%C3%A9/\n\n\n PRIX LIBRES CONSEILLES : 5€ adultes\, 3€ enfants.\nAchat sur place\n\nTout le long de la soirée vous pourrez vous abreuver des délicieuses bières Illegaal et de pains saucisses et salades préparés par nos soins\, à prix démocratique.\nAffiche réalisée par Nicolas Fong
URL:https://beer.be/agenda/chouette-x-illegaal-%c2%b7-tof-1/
LOCATION:Brasserie iLLeGaaL\, 300 Rue Bollinckx\, Bruxelles\, 1190\, Belgique
CATEGORIES:Festival
ATTACH;FMTTYPE=image/jpeg:https://beer.be/wp-content/uploads/2023/05/345062659_9185437174862335_8193026543464112043_n.jpg
END:VEVENT
BEGIN:VEVENT
DTSTART;VALUE=DATE:20230603
DTEND;VALUE=DATE:20230604
DTSTAMP:20260423T072507
CREATED:20230525T055255Z
LAST-MODIFIED:20230525T055255Z
UID:23363-1685750400-1685836799@beer.be
SUMMARY:HASSELTS BIER FESTIVAL - Merwt
DESCRIPTION:Een bierfestival met Hasseltse bieren tijdens de maandelijkse boerenmarkt.\nKom naar deze het bierfestival van Merwt. Naast de vaste maandelijkse kramers kan je op deze editie van de boerenmarkt ook acht Hasseltste bierbrouwers/biermerken vinden.\nKom proeven van verschillende bieren en luister naar de verhalen van de brouwers.\n\nMet:\nBrewmine Tap (https://www.facebook.com/BrewmineTAP)\nBelgian Craft Beer Company (https://www.facebook.com/belgiancraftbeercompany)\nHoptwins Brouwers (https://www.facebook.com/Hoptwinsbrewery)\nHuisbrouwerij de Borggraaf (https://www.facebook.com/ericson.smith.5492)\nBrouwerij Jessenhofke (https://www.facebook.com/profile.php?id=100050990594435)\nMicrobrouwerij De Rechter (https://www.facebook.com/microbrouwerijderechter)\nBrouwerij De HopHemel (https://www.facebook.com/BrouwerijDeHopHemel)\nQui Vivit (https://www.facebook.com/QUIViVIT)
URL:https://beer.be/agenda/hasselts-bier-festival-merwt/
LOCATION:Capucienenplein\, Capucienenplein\, Hasselt\, Belgique
CATEGORIES:Festival
ATTACH;FMTTYPE=image/jpeg:https://beer.be/wp-content/uploads/2023/05/345566306_1345299722714482_798730952670149054_n.jpg
END:VEVENT
BEGIN:VEVENT
DTSTART;VALUE=DATE:20230603
DTEND;VALUE=DATE:20230604
DTSTAMP:20260423T072507
CREATED:20230531T082414Z
LAST-MODIFIED:20230531T082414Z
UID:23396-1685750400-1685836799@beer.be
SUMMARY:Brassicole solidaire 2023
DESCRIPTION:L'alchimie mousseuse est de retour pour une 3ème édition et cette fois-ci \, édition estivale ! (on préfère déguster une bière au soleil nous aussi)\nLIEU : 𝗟𝗲 𝗕𝗿𝗮𝘀𝘀 - 𝗖𝗲𝗻𝘁𝗿𝗲 𝗖𝘂𝗹𝘁𝘂𝗿𝗲𝗹 𝗱𝗲 𝗙𝗼𝗿𝗲𝘀𝘁\n\n𝗟𝗮 𝗯𝗿𝗮𝘀𝘀𝗶𝗰𝗼𝗹𝗲 𝘀𝗼𝗹𝗶𝗱𝗮𝗶𝗿𝗲\, 𝗰'𝗲𝘀𝘁 𝗾𝘂𝗼𝗶?\nC'est un événement bruxellois qui veut promouvoir les micro-brasseries belges porteuses de projets sociaux et environnementaux.\n\n𝗔𝘂 𝗽𝗿𝗼𝗴𝗿𝗮𝗺𝗺𝗲 :\nDe 14h00 à 18h00 𝐒𝐚𝐥𝐨𝐧 𝐝𝐞 𝐝𝐞́𝐠𝐮𝐬𝐭𝐚𝐭𝐢𝐨𝐧 : Avec 100PAP\, ILLegaal\, Mazette\, la Biche de Saint-Gilles\, la Brasserie de La Lesse & la Brasserie de l’Orne\nDe 18h00 à 20h00 𝐑𝐞𝐬𝐭𝐚𝐮𝐫𝐚𝐭𝐢𝐨𝐧 & 𝐂𝐨𝐧𝐜𝐞𝐫𝐭 j𝐚𝐳𝐳 : Orfeo\nDe 20h00 à 22h00 𝐀𝐭𝐞𝐥𝐢𝐞𝐫 𝐝𝐚𝐧𝐬𝐞 𝐑𝐨𝐜𝐤 𝐚𝐧𝐝 𝐑𝐨𝐥𝐥\nDe 22h00 à 00h00 𝐃𝐉 𝐒𝐞𝐭 : Madstone\nBar ouvert toute la journée\n\n𝗦𝗼𝗹𝗶𝗱𝗮𝗶𝗿𝗲𝘀 𝗺𝗮𝗶𝘀 𝗷𝘂𝘀𝗾𝘂’𝗼𝘂̀ ? Tous les bénéfices de la soirée seront reversés aux brasseries pour les aider à financer leurs projets.\nDéguster\, c’est super\, s’impliquer\, c’est encore mieux !\nCar la Brassicole Solidaire\, c’est bien plus que des bières !\nVenez donc découvrir ces fameuses bières au cœur tendre qui sont toutes le fruit d'une passion et d'un espoir pour un monde meilleur !\n\nEntrée 𝐆𝐑𝐀𝐓𝐔𝐈𝐓𝐄\nTour dégustation : 12 € + 2 € de caution\nInscription à l’évènement car places limitées ICI : https://www.eventbrite.be/.../billets-brassicole...
URL:https://beer.be/agenda/brassicole-solidaire-2023/
LOCATION:BRASS centre culturel de Forest\, 364 Avenue Van Volxem\, Forest\, Belgique
CATEGORIES:Festival
ATTACH;FMTTYPE=image/jpeg:https://beer.be/wp-content/uploads/2023/05/347392842_632180552100669_4513138824511038504_n.jpg
END:VEVENT
BEGIN:VEVENT
DTSTART;VALUE=DATE:20230603
DTEND;VALUE=DATE:20230605
DTSTAMP:20260423T072507
CREATED:20230425T083612Z
LAST-MODIFIED:20230425T083612Z
UID:23108-1685750400-1685923199@beer.be
SUMMARY:Beer Festival Martelange
DESCRIPTION:
URL:https://beer.be/agenda/beer-festival-martelange/
LOCATION:Op der Trap\, 1 rue des Tilleuls\, Rombach-Martelange\, Luxembourg
CATEGORIES:Festival
ATTACH;FMTTYPE=image/jpeg:https://beer.be/wp-content/uploads/2023/04/340795950_194910636650604_2073254068503093793_n.jpg
END:VEVENT
BEGIN:VEVENT
DTSTART;VALUE=DATE:20230610
DTEND;VALUE=DATE:20230611
DTSTAMP:20260423T072507
CREATED:20230511T124534Z
LAST-MODIFIED:20230511T124534Z
UID:23231-1686355200-1686441599@beer.be
SUMMARY:Bierfestival 2023
DESCRIPTION:Wees er bij op ons zesde bierfestival!\n50 bieren - 15 brouwers\nOrganisatie: The Falcon - Foubert Events - De Objectieve Kaaischuimers van Temse\nParking aan de kerk.\nMet dank aan Foubert Events - Canon Business Center - Recto Verso - Toerisme Temse
URL:https://beer.be/agenda/bierfestival-2023/
CATEGORIES:Festival
ATTACH;FMTTYPE=image/jpeg:https://beer.be/wp-content/uploads/2023/05/343958307_1038831043758611_3108108726649765223_n.jpg
END:VEVENT
BEGIN:VEVENT
DTSTART;VALUE=DATE:20230610
DTEND;VALUE=DATE:20230612
DTSTAMP:20260423T072507
CREATED:20230217T070431Z
LAST-MODIFIED:20230217T070431Z
UID:22514-1686355200-1686527999@beer.be
SUMMARY:15e Brugs Bierfestival
DESCRIPTION:15e Brugs Bierfestival\nMeer dan 80 brouwerijen en bierfirma's\nMeer dan 500 bieren
URL:https://beer.be/agenda/15e-brugs-bierfestival/
LOCATION:Bruges Meeting & Convention Centre\, Sint-Maartensbilk 1\, Brugge\, 8000\, Belgique
CATEGORIES:Festival
ATTACH;FMTTYPE=image/jpeg:https://beer.be/wp-content/uploads/2023/02/331553804_1017699655858295_8776648312382297919_n.jpg
END:VEVENT
END:VCALENDAR