BEGIN:VCALENDAR
VERSION:2.0
PRODID:-//Beer.be - ECPv6.15.20//NONSGML v1.0//EN
CALSCALE:GREGORIAN
METHOD:PUBLISH
X-ORIGINAL-URL:https://beer.be
X-WR-CALDESC:Évènements pour Beer.be
REFRESH-INTERVAL;VALUE=DURATION:PT1H
X-Robots-Tag:noindex
X-PUBLISHED-TTL:PT1H
BEGIN:VTIMEZONE
TZID:Europe/Brussels
BEGIN:DAYLIGHT
TZOFFSETFROM:+0100
TZOFFSETTO:+0200
TZNAME:CEST
DTSTART:20220327T010000
END:DAYLIGHT
BEGIN:STANDARD
TZOFFSETFROM:+0200
TZOFFSETTO:+0100
TZNAME:CET
DTSTART:20221030T010000
END:STANDARD
BEGIN:DAYLIGHT
TZOFFSETFROM:+0100
TZOFFSETTO:+0200
TZNAME:CEST
DTSTART:20230326T010000
END:DAYLIGHT
BEGIN:STANDARD
TZOFFSETFROM:+0200
TZOFFSETTO:+0100
TZNAME:CET
DTSTART:20231029T010000
END:STANDARD
BEGIN:DAYLIGHT
TZOFFSETFROM:+0100
TZOFFSETTO:+0200
TZNAME:CEST
DTSTART:20240331T010000
END:DAYLIGHT
BEGIN:STANDARD
TZOFFSETFROM:+0200
TZOFFSETTO:+0100
TZNAME:CET
DTSTART:20241027T010000
END:STANDARD
END:VTIMEZONE
BEGIN:VEVENT
DTSTART;VALUE=DATE:20230805
DTEND;VALUE=DATE:20230807
DTSTAMP:20260423T043043
CREATED:20230717T063718Z
LAST-MODIFIED:20230717T063718Z
UID:23732-1691193600-1691366399@beer.be
SUMMARY:Bierfestival Ambierorix 2023
DESCRIPTION:Bierfestival met 100+ verschillende soorten bieren onder het toekijkend oog van Ambiorix \nZaterdag 5 augustus 14:00 - 23:00\nZondag 6 augustus 13:00 - 20:00
URL:https://beer.be/agenda/bierfestival-ambierorix-2023/
LOCATION:Grote Markt Tongeren\, Grote Markt\, Tongeren\, Belgique
CATEGORIES:Festival
ATTACH;FMTTYPE=image/jpeg:https://beer.be/wp-content/uploads/2023/07/355490451_9733890053319981_3155863386736840215_n.jpg
END:VEVENT
BEGIN:VEVENT
DTSTART;VALUE=DATE:20230805
DTEND;VALUE=DATE:20230807
DTSTAMP:20260423T043043
CREATED:20230802T071046Z
LAST-MODIFIED:20230802T071046Z
UID:23818-1691193600-1691366399@beer.be
SUMMARY:Festival Bièrez-Vous ? #8
DESCRIPTION:Rendez-vous le premier week-end d'août sur la plaine de Schaltin pour déguster plus de 100 bières\n véritables brasseries artisanales\n- Line up à venir -\nConcerts\nBrassage nomade\nBourse tégestophile\nExposition\nPetite restauration non-stop  \nProduits locaux et plats végétariens\nVillage enfant \nChâteaux gonflables\, grimmeuse\, animateur… gratuit pour les enfants et accessible tout le week-end\nCamping \nSur inscription via notre siteweb ou à l'accueil du festival.\n\n◥◥◥ INFO & CONTACT ◤◤◤\nhttps://festival.bierezvous.be\n0477/18 36 84\nfestival@bierezvous.be
URL:https://beer.be/agenda/festival-bierez-vous-8/
LOCATION:Bièrez-vous\, 15 rue de Champion\, Hamois\, 5364\, Belgique
CATEGORIES:Festival
ATTACH;FMTTYPE=image/jpeg:https://beer.be/wp-content/uploads/2023/08/347100500_2317100158471223_4697717647275512454_n.jpg
END:VEVENT
BEGIN:VEVENT
DTSTART;VALUE=DATE:20230826
DTEND;VALUE=DATE:20230828
DTSTAMP:20260423T043043
CREATED:20230821T064150Z
LAST-MODIFIED:20230821T064150Z
UID:23928-1693008000-1693180799@beer.be
SUMMARY:Lambikstoempers Bierweekend 2023
DESCRIPTION:On Saturday 26 and Sunday 27 August 2023 we will again hold the Lambikstoempers Bierweekend from 2 pm to midnight (on Saturday) and from 2 pm to 8 pm (on Sunday)\, in the beer center ‘De Lambik’\, Gemeenveldstraat 1 in 1652 Alsemberg (Beersel). \nAs always\, you can choose from +100 different beers\, the majority of which are spontaneously fermented (from flat lambic over Oude Geuze\, to fruit lambic\, Oude Kriek\, etc.)\, and a nice selection of new and/or special Belgian beers that contain less or less are not (yet) known to the general public. Specials guaranteed!
URL:https://beer.be/agenda/lambikstoempers-bierweekend-2023/
LOCATION:Bezoekerscentrum "De Lambiek"\,  Gemeenveldstraat 1\, Alsemberg\, Vlaams Brabant\, 1652\, Belgique
CATEGORIES:Festival
ATTACH;FMTTYPE=image/jpeg:https://beer.be/wp-content/uploads/2023/08/LS-bierweekend-affiche23-2.jpg
END:VEVENT
BEGIN:VEVENT
DTSTART;VALUE=DATE:20230827
DTEND;VALUE=DATE:20230828
DTSTAMP:20260423T043043
CREATED:20230821T064732Z
LAST-MODIFIED:20230821T064732Z
UID:23938-1693094400-1693180799@beer.be
SUMMARY:Veurne Craft Beer Festival 2023
DESCRIPTION:De tweede editie van het Veurne Craft Beer Festival vindt plaats op zondag 27 augustus\, op de pittoreske grote markt van Veurne.
URL:https://beer.be/agenda/veurne-craft-beer-festival-2023/
LOCATION:Veurne Craft Beer Festival\, Grote markt\, Veurne\, 8630\, Belgique
CATEGORIES:Festival
ATTACH;FMTTYPE=image/jpeg:https://beer.be/wp-content/uploads/2023/08/banner5736-2048x1024-1.jpg
END:VEVENT
END:VCALENDAR