BEGIN:VCALENDAR
VERSION:2.0
PRODID:-//Beer.be - ECPv6.15.20//NONSGML v1.0//EN
CALSCALE:GREGORIAN
METHOD:PUBLISH
X-ORIGINAL-URL:https://beer.be
X-WR-CALDESC:Évènements pour Beer.be
REFRESH-INTERVAL;VALUE=DURATION:PT1H
X-Robots-Tag:noindex
X-PUBLISHED-TTL:PT1H
BEGIN:VTIMEZONE
TZID:Europe/Brussels
BEGIN:DAYLIGHT
TZOFFSETFROM:+0100
TZOFFSETTO:+0200
TZNAME:CEST
DTSTART:20220327T010000
END:DAYLIGHT
BEGIN:STANDARD
TZOFFSETFROM:+0200
TZOFFSETTO:+0100
TZNAME:CET
DTSTART:20221030T010000
END:STANDARD
BEGIN:DAYLIGHT
TZOFFSETFROM:+0100
TZOFFSETTO:+0200
TZNAME:CEST
DTSTART:20230326T010000
END:DAYLIGHT
BEGIN:STANDARD
TZOFFSETFROM:+0200
TZOFFSETTO:+0100
TZNAME:CET
DTSTART:20231029T010000
END:STANDARD
BEGIN:DAYLIGHT
TZOFFSETFROM:+0100
TZOFFSETTO:+0200
TZNAME:CEST
DTSTART:20240331T010000
END:DAYLIGHT
BEGIN:STANDARD
TZOFFSETFROM:+0200
TZOFFSETTO:+0100
TZNAME:CET
DTSTART:20241027T010000
END:STANDARD
END:VTIMEZONE
BEGIN:VEVENT
DTSTART;VALUE=DATE:20230901
DTEND;VALUE=DATE:20230904
DTSTAMP:20260423T024854
CREATED:20230710T043914Z
LAST-MODIFIED:20230710T043914Z
UID:23651-1693526400-1693785599@beer.be
SUMMARY:Belgian Beer Weekend 2023
DESCRIPTION:EXPERIENCE THE BELGIAN BEER TRADITION\nMark your calendars for an unforgettable weekend of beer appreciation! From Friday\, September 1st to Sunday\, September 3rd\, this year\, we invite you to join us at the iconic Grand Place in Brussels for a yearly celebration of our rich Belgian Beer tradition.\n\nCHEERS TO OUR HERITAGE!\nImmerse yourself in the world of Belgian brewing as we showcase the incredible craftsmanship and flavors that have made our beers world-renowned. With over 50 breweries and an astonishing selection of more than 500 different beers\, this event promises to be a haven for beer enthusiasts and novices alike.
URL:https://beer.be/agenda/belgian-beer-weekend-2023/
LOCATION:Grand Place de Bruxelles\, Grand-Place de Bruxelles\, Bruxelles\, 1000\, Belgique
CATEGORIES:Festival
ATTACH;FMTTYPE=image/jpeg:https://beer.be/wp-content/uploads/2023/07/347407039_659467719555613_892980522535306448_n.jpg
END:VEVENT
BEGIN:VEVENT
DTSTART;VALUE=DATE:20230909
DTEND;VALUE=DATE:20230911
DTSTAMP:20260423T024854
CREATED:20220916T053506Z
LAST-MODIFIED:20220916T053506Z
UID:21356-1694217600-1694390399@beer.be
SUMMARY:🍻 BBP WANDERLUST '23 🎉 10th Anniversary Craft Beer Festival
DESCRIPTION: Wanderlust '22 was an absolute blast!  And that's why we're already working on the next edition (our 10th anniversary) & thinking how to make it even more epic!\n Save the date in your calendar - 9th & 10th September. You don't want to miss this one! 
URL:https://beer.be/agenda/%f0%9f%8d%bb-bbp-wanderlust-23-%f0%9f%8e%89-10th-anniversary-craft-beer-festival/
LOCATION:Marché aux poissons\, Marché aux poissons\, Bruxelles\, 1000\, Belgique
CATEGORIES:Festival
ATTACH;FMTTYPE=image/jpeg:https://beer.be/wp-content/uploads/2022/09/306280816_5292578324194641_6063926410768352598_n.jpg
END:VEVENT
BEGIN:VEVENT
DTSTART;VALUE=DATE:20230916
DTEND;VALUE=DATE:20230917
DTSTAMP:20260423T024854
CREATED:20230904T070114Z
LAST-MODIFIED:20230904T070114Z
UID:24046-1694822400-1694908799@beer.be
SUMMARY:Le village des saveurs houblonnées
DESCRIPTION:La Malmédienne remet le couvert! Après bien trop longtemps\, nous vous donnons à nouveau rendez-vous au pied de la Cathédrale de Malmedy pour une édition de reprise. Nos amis brasseurs ont répondu présents en nombre\, et se réjouissent de vous proposer leurs produits 
URL:https://beer.be/agenda/le-village-des-saveurs-houblonnees/
LOCATION:Cathédrale Saint Pierre de Malmedy\, Place Albert 1er\, Malmedy\, Belgique
CATEGORIES:Festival
ATTACH;FMTTYPE=image/jpeg:https://beer.be/wp-content/uploads/2023/09/369847570_672812971539291_2860317140181608694_n.jpg
END:VEVENT
BEGIN:VEVENT
DTSTART;VALUE=DATE:20230924
DTEND;VALUE=DATE:20230925
DTSTAMP:20260423T024854
CREATED:20230911T062730Z
LAST-MODIFIED:20230911T062730Z
UID:24114-1695513600-1695599999@beer.be
SUMMARY:Festival de la bière de Woluwé
DESCRIPTION:Le festival de la bière sera de retour sur la Place des Maïeurs à Woluwe-Saint-Pierre le dimanche 24 septembre de 11h à 20h. Venez déguster des bières de qualité dans une ambiance musicale et conviviale.\n𝐋𝐞𝐬 𝐛𝐢𝐞̀𝐫𝐞𝐬 𝐩𝐫𝐨𝐩𝐨𝐬𝐞́𝐞𝐬 𝐬𝐞𝐫𝐨𝐧𝐭 𝐮𝐧𝐞 𝐧𝐨𝐮𝐯𝐞𝐥𝐥𝐞 𝐟𝐨𝐢𝐬 𝐯𝐚𝐫𝐢𝐞́𝐞𝐬\, avec des créations de petites brasseries locales\, des breuvages bio\, des trappistes et d’autres. Qu’elles soient aromatisées au maté\, aux agrumes\, aux feuilles de combava ou autres\, il y en aura pour tous les gouts.\nPlusieurs 𝐚𝐭𝐞𝐥𝐢𝐞𝐫𝐬 𝐝𝐞 𝐝𝐞́𝐠𝐮𝐬𝐭𝐚𝐭𝐢𝐨𝐧 𝐝𝐞 𝐛𝐢𝐞̀𝐫𝐞𝐬 seront organisés pendant la journée. Venez apprendre comment se déguste une bière et reconnaitre les différents types de malt et houblon. Inscriptions sur place ou par mail : njacqmin@woluwe1150.be (30 minutes par atelier - 15 personnes maximum).\nL’asbl Wanna Play sera présente pour animer un 𝐬𝐭𝐚𝐧𝐝 𝐝𝐞 𝐣𝐞𝐮𝐱 𝐝𝐞 𝐬𝐨𝐜𝐢𝐞́𝐭𝐞́. Que vous soyez un vrai gamer ou non\, leurs animateurs seront là pour vous proposer le jeu qui vous correspond.\n𝐀𝐧𝐢𝐦𝐚𝐭𝐢𝐨𝐧𝐬\, 𝐃𝐣 𝐞𝐭 𝐟𝐨𝐨𝐝𝐭𝐫𝐮𝐜𝐤𝐬 sur place.\n𝐈𝐧𝐟𝐨𝐬 𝐩𝐫𝐚𝐭𝐢𝐪𝐮𝐞𝐬\nTarifs : 1 jeton = 2€ = 1 bière de 16cl. Les verres de dégustation seront disponibles sur place (2€ de caution).\nAccès gratuit\, vente des jetons sur place. Parking voitures et vélos aisé.\nPlus d’infos : 02/773.07.98 – njacqmin@woluwe1150.be
URL:https://beer.be/agenda/festival-de-la-biere-de-woluwe/
LOCATION:Place des Maïeurs\, Place des Maïeurs\, 1150\, Belgique
CATEGORIES:Festival
ATTACH;FMTTYPE=image/jpeg:https://beer.be/wp-content/uploads/2023/09/375912033_621209000200003_4507840952994272091_n.jpg
END:VEVENT
BEGIN:VEVENT
DTSTART;VALUE=DATE:20230930
DTEND;VALUE=DATE:20231001
DTSTAMP:20260423T024854
CREATED:20231004T055402Z
LAST-MODIFIED:20231004T055402Z
UID:24265-1696032000-1696118399@beer.be
SUMMARY:5de bierfestival
DESCRIPTION:
URL:https://beer.be/agenda/5de-bierfestival/
LOCATION:Gemeentehal Vosselaar
CATEGORIES:Festival
END:VEVENT
BEGIN:VEVENT
DTSTART;VALUE=DATE:20230930
DTEND;VALUE=DATE:20231002
DTSTAMP:20260423T024854
CREATED:20230614T050933Z
LAST-MODIFIED:20230614T050933Z
UID:23477-1696032000-1696204799@beer.be
SUMMARY:BXLBeerFest-2023
DESCRIPTION:BXLBeerFest 2023\nNot just another beer festival...\nWe're ready to kick out the jams once more for a fabulous weekend of BXLBeerFest\, the fifth edition!!\nExpect around 60 breweries from BXL\, Belgium\, Europe and beyond with a wide variety of artisan beers\, tasty food trucks\, intriguing talks&tastings\, culinary treats & plenty of good vibes!\nTickets in presale are 22€ (20\,75€ + ticketing service fee) and include entry for both days\, Saturday 30/09 and Sunday 01/10\, 6 tokens worth 1\,5€\, 1 festival glass\, 1 festival plan and beer menu.\nTickets available via our website --> www.BXLBeerFest.com\n\nBXLBeerFest-2023\n300/09 & 01/10\n\nSHEDS-1 Tour&Taxis\nBXL\nSee you all there!\n#SanteÏBXL
URL:https://beer.be/agenda/bxlbeerfest-2023/
LOCATION:Tour & Taxis\, Avenue du Port 86C\, Bruxelles\, 1000\, Belgique
CATEGORIES:Festival
ATTACH;FMTTYPE=image/jpeg:https://beer.be/wp-content/uploads/2023/06/353459420_982706973116222_6646632130496970848_n.jpg
END:VEVENT
BEGIN:VEVENT
DTSTART;VALUE=DATE:20230930
DTEND;VALUE=DATE:20231002
DTSTAMP:20260423T024854
CREATED:20230822T060528Z
LAST-MODIFIED:20230822T060528Z
UID:23945-1696032000-1696204799@beer.be
SUMMARY:11de Modeste Bierfestival
DESCRIPTION:Dit jaar wordt de 11ste editie van het Modeste Bierfestival georganiseerd.\nDit zal terug plaatsvinden op de site van brouwerij De Koninck.\nHet festival is geopend op zaterdag en zondag van 11:00 tot 19:00
URL:https://beer.be/agenda/11de-modeste-bierfestival/
LOCATION:Brouwerij De Koninck\, Boomgaardstraat 37\, Anvers\, 2018\, Belgique
CATEGORIES:Festival
ATTACH;FMTTYPE=image/jpeg:https://beer.be/wp-content/uploads/2023/08/369856176_686554296843648_3969074076884362119_n.jpg
END:VEVENT
END:VCALENDAR