BEGIN:VCALENDAR
VERSION:2.0
PRODID:-//Beer.be - ECPv6.15.20//NONSGML v1.0//EN
CALSCALE:GREGORIAN
METHOD:PUBLISH
X-WR-CALNAME:Beer.be
X-ORIGINAL-URL:https://beer.be
X-WR-CALDESC:Évènements pour Beer.be
REFRESH-INTERVAL;VALUE=DURATION:PT1H
X-Robots-Tag:noindex
X-PUBLISHED-TTL:PT1H
BEGIN:VTIMEZONE
TZID:Europe/Brussels
BEGIN:DAYLIGHT
TZOFFSETFROM:+0100
TZOFFSETTO:+0200
TZNAME:CEST
DTSTART:20220327T010000
END:DAYLIGHT
BEGIN:STANDARD
TZOFFSETFROM:+0200
TZOFFSETTO:+0100
TZNAME:CET
DTSTART:20221030T010000
END:STANDARD
BEGIN:DAYLIGHT
TZOFFSETFROM:+0100
TZOFFSETTO:+0200
TZNAME:CEST
DTSTART:20230326T010000
END:DAYLIGHT
BEGIN:STANDARD
TZOFFSETFROM:+0200
TZOFFSETTO:+0100
TZNAME:CET
DTSTART:20231029T010000
END:STANDARD
BEGIN:DAYLIGHT
TZOFFSETFROM:+0100
TZOFFSETTO:+0200
TZNAME:CEST
DTSTART:20240331T010000
END:DAYLIGHT
BEGIN:STANDARD
TZOFFSETFROM:+0200
TZOFFSETTO:+0100
TZNAME:CET
DTSTART:20241027T010000
END:STANDARD
END:VTIMEZONE
BEGIN:VEVENT
DTSTART;VALUE=DATE:20230930
DTEND;VALUE=DATE:20231002
DTSTAMP:20260423T010242
CREATED:20230614T050933Z
LAST-MODIFIED:20230614T050933Z
UID:23477-1696032000-1696204799@beer.be
SUMMARY:BXLBeerFest-2023
DESCRIPTION:BXLBeerFest 2023\nNot just another beer festival...\nWe're ready to kick out the jams once more for a fabulous weekend of BXLBeerFest\, the fifth edition!!\nExpect around 60 breweries from BXL\, Belgium\, Europe and beyond with a wide variety of artisan beers\, tasty food trucks\, intriguing talks&tastings\, culinary treats & plenty of good vibes!\nTickets in presale are 22€ (20\,75€ + ticketing service fee) and include entry for both days\, Saturday 30/09 and Sunday 01/10\, 6 tokens worth 1\,5€\, 1 festival glass\, 1 festival plan and beer menu.\nTickets available via our website --> www.BXLBeerFest.com\n\nBXLBeerFest-2023\n300/09 & 01/10\n\nSHEDS-1 Tour&Taxis\nBXL\nSee you all there!\n#SanteÏBXL
URL:https://beer.be/agenda/bxlbeerfest-2023/
LOCATION:Tour & Taxis\, Avenue du Port 86C\, Bruxelles\, 1000\, Belgique
CATEGORIES:Festival
ATTACH;FMTTYPE=image/jpeg:https://beer.be/wp-content/uploads/2023/06/353459420_982706973116222_6646632130496970848_n.jpg
END:VEVENT
BEGIN:VEVENT
DTSTART;VALUE=DATE:20230930
DTEND;VALUE=DATE:20231002
DTSTAMP:20260423T010242
CREATED:20230822T060528Z
LAST-MODIFIED:20230822T060528Z
UID:23945-1696032000-1696204799@beer.be
SUMMARY:11de Modeste Bierfestival
DESCRIPTION:Dit jaar wordt de 11ste editie van het Modeste Bierfestival georganiseerd.\nDit zal terug plaatsvinden op de site van brouwerij De Koninck.\nHet festival is geopend op zaterdag en zondag van 11:00 tot 19:00
URL:https://beer.be/agenda/11de-modeste-bierfestival/
LOCATION:Brouwerij De Koninck\, Boomgaardstraat 37\, Anvers\, 2018\, Belgique
CATEGORIES:Festival
ATTACH;FMTTYPE=image/jpeg:https://beer.be/wp-content/uploads/2023/08/369856176_686554296843648_3969074076884362119_n.jpg
END:VEVENT
BEGIN:VEVENT
DTSTART;VALUE=DATE:20231014
DTEND;VALUE=DATE:20231015
DTSTAMP:20260423T010242
CREATED:20230920T060958Z
LAST-MODIFIED:20230920T060958Z
UID:24175-1697241600-1697327999@beer.be
SUMMARY:Bottles & Barrels Craft Beer Festival 2023
DESCRIPTION:10 brouwers laten het beste van zichzelf proeven op het derde craft beer festival te Zemst. Kom langs en proef van Eylenbosch\,\nFoxtown Beer crew\, Galea Craft Beers\, Brouwerij Sweynbeer\, Hof Ten Dormaal\, De Koperen Markies\, Volders Bieren\, 5310\, Clockwork bee mead en 't Brouwateljee.\nEten is voorzien\, akoestische optredens spelen de achtergrond bij elkaar en de proefglazen zijn opgeblonken.
URL:https://beer.be/agenda/bottles-barrels-craft-beer-festival-2023/
LOCATION:De Schranshoeve\, Stijn Streuvelslaan 92\, Eppegem\, Belgique
CATEGORIES:Festival
ATTACH;FMTTYPE=image/jpeg:https://beer.be/wp-content/uploads/2023/09/376827110_808300657965543_5813398235202158370_n.jpg
END:VEVENT
BEGIN:VEVENT
DTSTART;VALUE=DATE:20231020
DTEND;VALUE=DATE:20231022
DTSTAMP:20260423T010242
CREATED:20230904T070220Z
LAST-MODIFIED:20230904T070220Z
UID:24050-1697760000-1697932799@beer.be
SUMMARY:Stout sur Meuse 2023
DESCRIPTION:Stout Sure Meuse revient cette année encore!\nNotre événement dédié aux bières noires et aux bières acides est de retour!\nLe vendredi 20 octobre de 13h à minuit et le samedi 21 octobre de 11h à minuit\, venez découvrir une cinquantaine de bières noires et acides.\nLes burgers de notre ami "Loco Locaux" seront à nouveau de la partie!\nEntrée gratuite!\nBloquez d'ores et déjà votre agenda...\nLe "menu de bières" que nous vous préparons sera dévoilé petit à petit sur cette page!\nIl y en aura pour tous les goûts: Stouts (et ses dérivés)\, Porter\, Black IPA\, sour IPA\, gueuze\, kriek\, pastry sour\, vieilles brunes\, gose\, sans alcool.\nLieu : Brasserie de la Houppe (Avenue de la Plante\, 49 à Namur)
URL:https://beer.be/agenda/stout-sur-meuse-2023/
LOCATION:Brasserie de la Houppe\, 49 avenue de la Plante\, Namur\, 5000\, Belgique
CATEGORIES:Festival
ATTACH;FMTTYPE=image/jpeg:https://beer.be/wp-content/uploads/2023/09/371792610_1007993527294945_5726572791838846160_n.jpg
END:VEVENT
BEGIN:VEVENT
DTSTART;VALUE=DATE:20231020
DTEND;VALUE=DATE:20231023
DTSTAMP:20260423T010242
CREATED:20230727T044911Z
LAST-MODIFIED:20230727T044911Z
UID:23792-1697760000-1698019199@beer.be
SUMMARY:Hoppy Days - Liege International Beer Festival
DESCRIPTION: Plus de 𝟏𝟎𝟎 𝐛𝐢𝐞̀𝐫𝐞𝐬 𝐚𝐫𝐭𝐢𝐬𝐚𝐧𝐚𝐥𝐞𝐬 𝐛𝐞𝐥𝐠𝐞𝐬 𝐞𝐭 𝐞́𝐭𝐫𝐚𝐧𝐠𝐞̀𝐫𝐞𝐬\n Des vins\, des cocktails faits maison\, des softs locaux\, de la good food \nTrois jours de 𝐅𝐄̂𝐓𝐄 avec DJ's\, animations et full ambiance !\n 𝐄𝐍𝐓𝐑𝐄𝐄 𝐆𝐑𝐀𝐓𝐔𝐈𝐓𝐄 \n La plus belle fête zytho du pays ! \n 𝐇𝐎𝐑𝐀𝐈𝐑𝐄\nVendredi 20/10 : 16h-2h\nSamedi 21/10 : 14h-2h\nDimanche 22/10 : 12h-21h\n 𝐏𝐚𝐥𝐚𝐢𝐬 𝐝𝐞𝐬 𝐂𝐨𝐧𝐠𝐫𝐞̀𝐬 : même la Grande Salle de Poudlard nous envie sa terrasse avec vue sur Meuse. tmtc \n 𝐏𝐑𝐎𝐆𝐑𝐀𝐌𝐌𝐄 𝐃𝐄𝐒 𝐀𝐍𝐈𝐌𝐀𝐓𝐈𝐎𝐍𝐒\n'tracasse\, ça arrive\, et ça va être du lourd \nVous êtes brasseur\, brasseuse ?\nVous pouvez tenir un stand avec de la bonne bouffe ?\nVous tenez un concept d'animation incroyable ?\nVite vite : info@hoppydays.be (vite car on a déjà tout ce qu'il faut mais on n'a encore confirmé personne donc si vous êtes vraiment mieux que ce qu'on a\, on vous prend en plus ou à la place !)
URL:https://beer.be/agenda/hoppy-days-liege-international-beer-festival-4/
LOCATION:Palais des congrès de Liège\, 2 esplanade de l'Europe\, Liège\, 4000\, Belgique
CATEGORIES:Festival
ATTACH;FMTTYPE=image/jpeg:https://beer.be/wp-content/uploads/2023/07/361589781_620824770148602_3566298800145736842_n.jpg
END:VEVENT
BEGIN:VEVENT
DTSTART;VALUE=DATE:20231027
DTEND;VALUE=DATE:20231030
DTSTAMP:20260423T010242
CREATED:20231011T061553Z
LAST-MODIFIED:20231011T061553Z
UID:24319-1698364800-1698623999@beer.be
SUMMARY:Turnhoutse bierfeesten 2023
DESCRIPTION:Creative Factory (Open Stadsatelier) - gratis festival\nTopbieren\, een gezellige setting en leuke brouwerijen. Dat zijn de ingrediënten voor ons festival. Op 27 en 28 oktober hebben we een nieuwe bierkaart met 100 geselecteerde speciaalbieren in diverse stijlen. Op 29 oktober is er een bierbeurs. Vijf brouwerijen bieden jullie hun toppers aan!\n\n𝐎𝐏𝐄𝐍𝐈𝐍𝐆𝐒𝐔𝐑𝐄𝐍\n- Vrijdag van 16 tot 1 uur (met van 16 tot 18 uur aperomoment\, Troef! aan verminderd tarief.\n- Zaterdag van 14 tot 1 uur\n- Zondag van 13 tot 21 uur\n\n𝐎𝐍𝐙𝐄 𝐁𝐑𝐎𝐔𝐖𝐄𝐑𝐈𝐉𝐄𝐍 𝐎𝐏 𝐙𝐎𝐍𝐃𝐀𝐆\nVijf topbrouwerijen bieden hun toppers aan. Midden juli kondigen we hen aan. Mis niets en volg ons voor meer info!\n\n𝐕𝐄𝐄𝐋 𝐆𝐄𝐒𝐓𝐄𝐋𝐃𝐄 𝐕𝐑𝐀𝐆𝐄𝐍\n- Is er al een biermenu? Work in progress! Op maandag 23 oktober maken we onze kaart bekend!\n- Serveren jullie iets anders dan bier? Jep\, we hebben wijn\, cava\, frisdrank en ook non-alcoholische bieren.\n- Kan ik iets eten op het festival? We hebben tapas en er komt een frietkraam. Honger zal je dus niet lijden.\n- Vindt het festival binnen of buiten plaats? Het festival gaat volledig binnen door in een verwarmde hal. Er zijn enkele statafels buiten.\n- Moet ik inkom betalen? Tuurlijk ni!\n- Kan ik plaatsen reserveren? We werken niet met reservaties. Kom op tijd!\n- Hoe bereik ik het festival? Ons festival ligt op 8 minuten wandelen van Station Turnhout (bus\, trein en betalend parkeren) en 5 minuten van De Warande (bus en betalend parkeren in ondergrondse parking). Voor de fietsers voorzien we voldoende fietsenstalling aan het festival.\n- Is er een vestiaire voorzien? Ja\, die voorzien we\, weliswaar onbewaakt.\nHopelijk tot op ons festival!
URL:https://beer.be/agenda/turnhoutse-bierfeesten-2023/
LOCATION:Creative Factory In Turnhout\, Begijnendreef 21\, Turnhout\, 2300\, Belgique
CATEGORIES:Festival
ATTACH;FMTTYPE=image/jpeg:https://beer.be/wp-content/uploads/2023/10/356916148_689748006497486_5272852955705870205_n.jpg
END:VEVENT
BEGIN:VEVENT
DTSTART;VALUE=DATE:20231028
DTEND;VALUE=DATE:20231030
DTSTAMP:20260423T010242
CREATED:20231004T060739Z
LAST-MODIFIED:20231004T060739Z
UID:24282-1698451200-1698623999@beer.be
SUMMARY:Festibière 2023
DESCRIPTION:Votre festival de bières artisanales et locales est de retour\nRencontrez les brasseurs et dégustez leurs bières dans une ambiance conviviale et familiale.\nVenez profiter de plus de 20 brasseries autour d’une centaine de bières locales et artisanales à déguster au Foyer communal de Gembloux les 28 & 29 octobre. \nAu programme :\nRestauration sur place\, animations et bien d’autres surprises sont au rendez-vous.\nLes informations sur les brasseries présentes arriveront en octobre.\nSamedi de 14h à 23h\nDimanche de 13h à 21h\nAdresse : Place Arthur Lacroix\, 5030 Gembloux (Foyer communal de Gembloux)
URL:https://beer.be/agenda/festibiere-2023/
LOCATION:Foyer communal-BKS-Gembloux\, Gembloux\, 5030\, Belgique
CATEGORIES:Festival
ATTACH;FMTTYPE=image/jpeg:https://beer.be/wp-content/uploads/2023/10/363340908_309884304941333_5297034337399808475_n.jpg
END:VEVENT
END:VCALENDAR