BEGIN:VCALENDAR
VERSION:2.0
PRODID:-//Beer.be - ECPv6.15.20//NONSGML v1.0//EN
CALSCALE:GREGORIAN
METHOD:PUBLISH
X-WR-CALNAME:Beer.be
X-ORIGINAL-URL:https://beer.be
X-WR-CALDESC:Évènements pour Beer.be
REFRESH-INTERVAL;VALUE=DURATION:PT1H
X-Robots-Tag:noindex
X-PUBLISHED-TTL:PT1H
BEGIN:VTIMEZONE
TZID:Europe/Brussels
BEGIN:DAYLIGHT
TZOFFSETFROM:+0100
TZOFFSETTO:+0200
TZNAME:CEST
DTSTART:20220327T010000
END:DAYLIGHT
BEGIN:STANDARD
TZOFFSETFROM:+0200
TZOFFSETTO:+0100
TZNAME:CET
DTSTART:20221030T010000
END:STANDARD
BEGIN:DAYLIGHT
TZOFFSETFROM:+0100
TZOFFSETTO:+0200
TZNAME:CEST
DTSTART:20230326T010000
END:DAYLIGHT
BEGIN:STANDARD
TZOFFSETFROM:+0200
TZOFFSETTO:+0100
TZNAME:CET
DTSTART:20231029T010000
END:STANDARD
BEGIN:DAYLIGHT
TZOFFSETFROM:+0100
TZOFFSETTO:+0200
TZNAME:CEST
DTSTART:20240331T010000
END:DAYLIGHT
BEGIN:STANDARD
TZOFFSETFROM:+0200
TZOFFSETTO:+0100
TZNAME:CET
DTSTART:20241027T010000
END:STANDARD
END:VTIMEZONE
BEGIN:VEVENT
DTSTART;VALUE=DATE:20231104
DTEND;VALUE=DATE:20231105
DTSTAMP:20260422T231835
CREATED:20230607T054755Z
LAST-MODIFIED:20230607T054755Z
UID:23409-1699056000-1699142399@beer.be
SUMMARY:BHABF 2023 - Beer Festival
DESCRIPTION:Le samedi 04 novembre 2023 se déroulera le Festival de Bières d'Amateurs organisé par BHA. Venez tous et toutes découvrir les pépites brassées par nos membres pendnat une journée de découvertes gustatives!
URL:https://beer.be/agenda/bhabf-2023-beer-festival/
LOCATION:Hallet Vins Drink Shop\, Rue Reine Elisabeth 12\, La Bruyère\, 5081\, Belgique
CATEGORIES:Festival
ATTACH;FMTTYPE=image/jpeg:https://beer.be/wp-content/uploads/2023/06/351140482_265676382662498_2288338331183909405_n.jpg
END:VEVENT
BEGIN:VEVENT
DTSTART;VALUE=DATE:20231110
DTEND;VALUE=DATE:20231112
DTSTAMP:20260422T231835
CREATED:20221129T061544Z
LAST-MODIFIED:20221129T061544Z
UID:21921-1699574400-1699747199@beer.be
SUMMARY:Billie's Craft Beer Fest 2023
DESCRIPTION:Billie is a lovely French Bulldog. He usually hangs out at his very own craft beer bar\, called Billie’s Bier Kafétaria\, which he founded in December 2013. Even though he is very fond of this place\, he felt something was lacking. Billie had a dream about a magical location where beer lovers and brewers could celebrate\, discuss and enjoy craft beer.\nIt's in this spirit that Billie proudly presents Billie’s Craft Beer Fest. 50 International brewers gathered on one event. All hail Billie!\nBillie's Craft Beer Fest works with an ALL-IN TICKET FORMULA.\nThis includes entry\, a BCBF tasting glass\, unlimited beer tasting (around 400 different beers: +-200 on friday and +200 new ones on saturday) and a bottle of water (food\, other beverages & cloakroom not included).\nBOTTLE SHARING is allowed as this is a festival for craft beer lovers. We do hold a maximum of 2 bottles per person.\nOnly a LIMITED NUMBER OF TICKETS is made available\, bearing in mind the comfort and safety of our visitors.
URL:https://beer.be/agenda/billies-craft-beer-fest-2023/
LOCATION:Billie's Craft Beer Festival\, 150 Rijnkaai\, Anvers\, 2000\, Belgium
CATEGORIES:Festival
ATTACH;FMTTYPE=image/jpeg:https://beer.be/wp-content/uploads/2022/11/316815548_823845058899333_1319889501680000624_n-scaled.jpg
END:VEVENT
BEGIN:VEVENT
DTSTART;VALUE=DATE:20231125
DTEND;VALUE=DATE:20231127
DTSTAMP:20260422T231835
CREATED:20231013T070654Z
LAST-MODIFIED:20231013T070654Z
UID:24373-1700870400-1701043199@beer.be
SUMMARY:Salon des bières namuroises
DESCRIPTION:Ce nouveau salon\, organisé par le Comité Animation Citadelle (CAC) se tiendra dans le cadre du Hangar aux affûts. Ancien magasin d’artillerie\, ce magnifique lieu récemment restauré accueille des salons\, des expositions\,…\nL’occasion d’y découvrir des bières 100% namuroises !\nCe premier salon des bières namuroises rassemblera des artisans dont les bières sont brassées en Province de Namur ou dont la recette en provient.\nLe bon moment pour y réaliser vos achats\, cadeaux originaux et de qualité avant la période des fêtes de fin d’année !
URL:https://beer.be/agenda/salon-des-bieres-namuroises/
LOCATION:Citadelle de Namur\, Citadelle de Namur\, Namur\, 5000\, Belgique
CATEGORIES:Festival
ATTACH;FMTTYPE=image/jpeg:https://beer.be/wp-content/uploads/2023/10/387777546_772467454686023_7736578844596126828_n.jpg
END:VEVENT
END:VCALENDAR