BEGIN:VCALENDAR
VERSION:2.0
PRODID:-//Beer.be - ECPv6.15.20//NONSGML v1.0//EN
CALSCALE:GREGORIAN
METHOD:PUBLISH
X-ORIGINAL-URL:https://beer.be
X-WR-CALDESC:Évènements pour Beer.be
REFRESH-INTERVAL;VALUE=DURATION:PT1H
X-Robots-Tag:noindex
X-PUBLISHED-TTL:PT1H
BEGIN:VTIMEZONE
TZID:Europe/Brussels
BEGIN:DAYLIGHT
TZOFFSETFROM:+0100
TZOFFSETTO:+0200
TZNAME:CEST
DTSTART:20230326T010000
END:DAYLIGHT
BEGIN:STANDARD
TZOFFSETFROM:+0200
TZOFFSETTO:+0100
TZNAME:CET
DTSTART:20231029T010000
END:STANDARD
BEGIN:DAYLIGHT
TZOFFSETFROM:+0100
TZOFFSETTO:+0200
TZNAME:CEST
DTSTART:20240331T010000
END:DAYLIGHT
BEGIN:STANDARD
TZOFFSETFROM:+0200
TZOFFSETTO:+0100
TZNAME:CET
DTSTART:20241027T010000
END:STANDARD
BEGIN:DAYLIGHT
TZOFFSETFROM:+0100
TZOFFSETTO:+0200
TZNAME:CEST
DTSTART:20250330T010000
END:DAYLIGHT
BEGIN:STANDARD
TZOFFSETFROM:+0200
TZOFFSETTO:+0100
TZNAME:CET
DTSTART:20251026T010000
END:STANDARD
END:VTIMEZONE
BEGIN:VEVENT
DTSTART;VALUE=DATE:20240127
DTEND;VALUE=DATE:20240128
DTSTAMP:20260422T200819
CREATED:20240123T074302Z
LAST-MODIFIED:20240123T074302Z
UID:24907-1706313600-1706399999@beer.be
SUMMARY:HOPS at LIQUID LEUVEN FESTIVAL
DESCRIPTION:We are joining the lovely Liquid Leuven Festival at De Hoorn on Saturday 27th January.\nWhat can you expect at our stand?\nA mix of:\n- a couple unique Bourbon/Whisky bottles\n- barrel aged meads\n- unique selection of Lambics and Wild Ales from Belgium and US\nAnd if we may bring an IPA on draft to quench your thirst!\nFor tickets\, check the Liquid Leuven festival:\nhttps://liquid-leuven-2024.eventsquare.store/.../suqtvsji...
URL:https://beer.be/agenda/hops-at-liquid-leuven-festival/
LOCATION:De Hoorn\, Sluisstraat 79\, Leuven\, 3000\, Belgique
CATEGORIES:Festival
END:VEVENT
END:VCALENDAR