BEGIN:VCALENDAR
VERSION:2.0
PRODID:-//Beer.be - ECPv6.15.20//NONSGML v1.0//EN
CALSCALE:GREGORIAN
METHOD:PUBLISH
X-WR-CALNAME:Beer.be
X-ORIGINAL-URL:https://beer.be
X-WR-CALDESC:Évènements pour Beer.be
REFRESH-INTERVAL;VALUE=DURATION:PT1H
X-Robots-Tag:noindex
X-PUBLISHED-TTL:PT1H
BEGIN:VTIMEZONE
TZID:Europe/Brussels
BEGIN:DAYLIGHT
TZOFFSETFROM:+0100
TZOFFSETTO:+0200
TZNAME:CEST
DTSTART:20230326T010000
END:DAYLIGHT
BEGIN:STANDARD
TZOFFSETFROM:+0200
TZOFFSETTO:+0100
TZNAME:CET
DTSTART:20231029T010000
END:STANDARD
BEGIN:DAYLIGHT
TZOFFSETFROM:+0100
TZOFFSETTO:+0200
TZNAME:CEST
DTSTART:20240331T010000
END:DAYLIGHT
BEGIN:STANDARD
TZOFFSETFROM:+0200
TZOFFSETTO:+0100
TZNAME:CET
DTSTART:20241027T010000
END:STANDARD
BEGIN:DAYLIGHT
TZOFFSETFROM:+0100
TZOFFSETTO:+0200
TZNAME:CEST
DTSTART:20250330T010000
END:DAYLIGHT
BEGIN:STANDARD
TZOFFSETFROM:+0200
TZOFFSETTO:+0100
TZNAME:CET
DTSTART:20251026T010000
END:STANDARD
END:VTIMEZONE
BEGIN:VEVENT
DTSTART;VALUE=DATE:20240308
DTEND;VALUE=DATE:20240311
DTSTAMP:20260422T165447
CREATED:20231221T071934Z
LAST-MODIFIED:20231221T071934Z
UID:24735-1709856000-1710115199@beer.be
SUMMARY:Brasséart 2024
DESCRIPTION:
URL:https://beer.be/agenda/brasseart-2024/
LOCATION:Cheval Blanc\, 7 Rue Vallée\, Oupeye\, Belgique
CATEGORIES:Festival
ATTACH;FMTTYPE=image/jpeg:https://beer.be/wp-content/uploads/2023/12/image001.jpg
END:VEVENT
BEGIN:VEVENT
DTSTART;VALUE=DATE:20240308
DTEND;VALUE=DATE:20240311
DTSTAMP:20260422T165447
CREATED:20240109T054259Z
LAST-MODIFIED:20240109T054259Z
UID:24809-1709856000-1710115199@beer.be
SUMMARY:BrasséArt : le salon de la bière de la Basse-Meuse
DESCRIPTION:
URL:https://beer.be/agenda/brasseart-le-salon-de-la-biere-de-la-basse-meuse-3/
LOCATION:Cheval Blanc\, 7 Rue Vallée\, Oupeye\, Belgique
CATEGORIES:Festival
ATTACH;FMTTYPE=image/jpeg:https://beer.be/wp-content/uploads/2024/01/416058411_760042999486172_7309630217682753354_n.jpg
END:VEVENT
BEGIN:VEVENT
DTSTART;VALUE=DATE:20240309
DTEND;VALUE=DATE:20240311
DTSTAMP:20260422T165447
CREATED:20231127T071829Z
LAST-MODIFIED:20231127T071829Z
UID:24610-1709942400-1710115199@beer.be
SUMMARY:Bierfestival Mechelen - Wintereditie
DESCRIPTION: Mecheleeeeeen! Zijn jullie klaar om ons 10 - jarig bestaan mee te vieren? \nYep... we doen een éénmalige indoor feesteditie tijdens de barre wintermaanden om zo toch jullie te voorzien van lekker gerstenat.\nVeel bier\, lekker eten en goede muziek... wat wil je nog meer?\nBIERFESTIVAL WINTER \n-> za 9 maart / 14u00 - 23u00\n-> zo 10 maart / 13u00 - 19u00\n@Transit M - Douaneplein\nLaat je verrassen door verschillende brouwerijen! 
URL:https://beer.be/agenda/bierfestival-mechelen-wintereditie/
LOCATION:Transit M\, Douaneplein\, Mechelen\, Belgique
CATEGORIES:Festival
ATTACH;FMTTYPE=image/jpeg:https://beer.be/wp-content/uploads/2023/11/387864762_636665971993007_2349138425459142602_n.jpg
END:VEVENT
BEGIN:VEVENT
DTSTART;VALUE=DATE:20240323
DTEND;VALUE=DATE:20240325
DTSTAMP:20260422T165447
CREATED:20240115T070442Z
LAST-MODIFIED:20240115T070442Z
UID:24851-1711152000-1711324799@beer.be
SUMMARY:The Beer Experience 2024
DESCRIPTION:
URL:https://beer.be/agenda/the-beer-experience-2024/
CATEGORIES:Festival
END:VEVENT
BEGIN:VEVENT
DTSTART;VALUE=DATE:20240325
DTEND;VALUE=DATE:20240327
DTSTAMP:20260422T165447
CREATED:20240315T080433Z
LAST-MODIFIED:20240315T080433Z
UID:25188-1711324800-1711497599@beer.be
SUMMARY:La Brassicole de Louvain-la-Neuve 2024
DESCRIPTION:Etudiants\, amis\, familles\, jeunes et moins jeunes ou qui que vous soyez… Le Brassikot a l’honneur de vous annoncer le retour de son événement emblématique : La Brassicole de Louvain-la-Neuve !\nPour cette 8ème édition\, nous vous invitons les 25 et 26 mars prochains sur la Grand-Place de Louvain-la-Neuve de 13h00 à 23h00 pour une ambiance chaleureuse et conviviale autour de la découverte ou la redécouverte de la culture brassicole belge tant affectionnée !\nEntre autres\, c’est l’occasion pour vous de rencontrer 20 brasseurs tous réunis pour vous partager et vous faire déguster une septantaine de bières… de quoi ravir vos papilles !\nConcrètement\, la Brassicole c’est :\n- Sur la Grand-Place de LLN\n- Les 25 et 26 mars (13h-23h)\n- Une entrée GRATUITE\n- Eau GRATUITE\n- Caution verre 3€\n- Jeton  une dégustation de 12.5cl) 1€\n- Une sélection de planches apéritives\n- Un carnet de dégustation\n- Des concours à la pelle et de nombreux lots à gagner\n- Pleins de goodies dans tous les sens\n- NOUVEAUTÉ : un barbecue pour vous régaler le soir !\nPsssssst… Pense à t’hydrater ! Des brassipotes passeront entre les tables pour t’aider à alterner tes dégustations avec de l’eau. #Guindaille2.0\n> Plus d’infos sur : https://brassicoledelln.wordpress.com/ <\nOn a hâte de vous y voir nombreux pour passer deux jours enrichissants et de folie !!!\nLes Brassipotes
URL:https://beer.be/agenda/la-brassicole-de-louvain-la-neuve-2024/
LOCATION:Grand Place de Louvain-la-Neuve\, 15 Grand Place\, Louvain-la-Neuve\, 1348\, Belgique
CATEGORIES:Festival
END:VEVENT
END:VCALENDAR