BEGIN:VCALENDAR
VERSION:2.0
PRODID:-//Beer.be - ECPv6.15.20//NONSGML v1.0//EN
CALSCALE:GREGORIAN
METHOD:PUBLISH
X-WR-CALNAME:Beer.be
X-ORIGINAL-URL:https://beer.be
X-WR-CALDESC:Évènements pour Beer.be
REFRESH-INTERVAL;VALUE=DURATION:PT1H
X-Robots-Tag:noindex
X-PUBLISHED-TTL:PT1H
BEGIN:VTIMEZONE
TZID:Europe/Brussels
BEGIN:DAYLIGHT
TZOFFSETFROM:+0100
TZOFFSETTO:+0200
TZNAME:CEST
DTSTART:20230326T010000
END:DAYLIGHT
BEGIN:STANDARD
TZOFFSETFROM:+0200
TZOFFSETTO:+0100
TZNAME:CET
DTSTART:20231029T010000
END:STANDARD
BEGIN:DAYLIGHT
TZOFFSETFROM:+0100
TZOFFSETTO:+0200
TZNAME:CEST
DTSTART:20240331T010000
END:DAYLIGHT
BEGIN:STANDARD
TZOFFSETFROM:+0200
TZOFFSETTO:+0100
TZNAME:CET
DTSTART:20241027T010000
END:STANDARD
BEGIN:DAYLIGHT
TZOFFSETFROM:+0100
TZOFFSETTO:+0200
TZNAME:CEST
DTSTART:20250330T010000
END:DAYLIGHT
BEGIN:STANDARD
TZOFFSETFROM:+0200
TZOFFSETTO:+0100
TZNAME:CET
DTSTART:20251026T010000
END:STANDARD
END:VTIMEZONE
BEGIN:VEVENT
DTSTART;VALUE=DATE:20240614
DTEND;VALUE=DATE:20240616
DTSTAMP:20260422T121558
CREATED:20240411T060008Z
LAST-MODIFIED:20240411T060008Z
UID:25308-1718323200-1718495999@beer.be
SUMMARY:The place to beer 2024
DESCRIPTION:Helllooowwww les amateurs de Houblon\,\nC'est avec une immense joie que nous avons le plaisir de vous annoncer la nevième édition de la fête de la Bière à Enghien\, The Place to Bier !\nLes 14 & 15 juin 2024\, la Grand Place d'Enghien sera une nouvelle fois remise en couleur! Qu'elle soit blonde\, brune ou même ambrée\, il y en aura pour tous les goûts !\nAu programme: dégustations de bières\, animations musicales\, concerts et découvertes !\nRestez connectés\, toutes les infos nécessaires arrivent !\nCar ce sera THE Place to Bier !\nA très vite\,\nL'équipe de l'ASBL "The Place to..."
URL:https://beer.be/agenda/the-place-to-beer-2024/
LOCATION:Enghien\, Enghien\, Hainaut\, Belgique
CATEGORIES:Festival
END:VEVENT
BEGIN:VEVENT
DTSTART;VALUE=DATE:20240615
DTEND;VALUE=DATE:20240616
DTSTAMP:20260422T121558
CREATED:20240222T123451Z
LAST-MODIFIED:20240222T123451Z
UID:25038-1718409600-1718495999@beer.be
SUMMARY:J'hume est beer
DESCRIPTION:rue derbèque 32\n6040 jumet\nla 1ère édition pour vous faire découvrir une multitude de bières belges et le plus possible artisanales .\nENTRÉE GRATUITE\nchâteau gonflable\npetite restauration\nambiance musicale\ndifférents petits jeux
URL:https://beer.be/agenda/jhume-est-beer/
CATEGORIES:Festival
END:VEVENT
BEGIN:VEVENT
DTSTART;VALUE=DATE:20240615
DTEND;VALUE=DATE:20240616
DTSTAMP:20260422T121558
CREATED:20240611T054525Z
LAST-MODIFIED:20240611T054525Z
UID:25612-1718409600-1718495999@beer.be
SUMMARY:J'hume est beer
DESCRIPTION:rue derbèque 326040 jumet\n\nENTRÉE GRATUITE\n\nla 1ère édition pour vous faire découvrir une multitude de bières belges et le plus possible artisanales .\n50 bières à la carte à découvrir \, dont en primeur notre nouvelle bière\, la 5 minutes !\nchâteau gonflable\npetite restauration\nambiance musicale\ndifférents petits jeux\n\nLA CARTE :\nde brabandere ( petrus nitro \, dangerousse )millevertus ( aperoooo \, poivrote \, petite vertus )les indecis ( n'importe\, comme toi )novabirra ( big mama \, big nose \, holly ipa )de soignies ( asnaise \, triple\, fruitée)forestine ( ambrosia \, mysteria \, hip hip ipa)vraie bière ( tripla plaisir \, vraie bière)lindemans ( tarot noire \, tarot or )du point G ( )de la lesse ( top lesse \, cambrée)les tombaleux ( bière tombale\, l'eau de là)du borinage ( l'urine)hoppy ( hoppy bleue)zythologist ( kamehameha\, mauna kea \, Rarefaello\, kikine de poupousse )
URL:https://beer.be/agenda/jhume-est-beer-2/
CATEGORIES:Festival
END:VEVENT
BEGIN:VEVENT
DTSTART;VALUE=DATE:20240621
DTEND;VALUE=DATE:20240624
DTSTAMP:20260422T121558
CREATED:20240315T080542Z
LAST-MODIFIED:20240315T080542Z
UID:25190-1718928000-1719187199@beer.be
SUMMARY:Carolo Beer Festival
DESCRIPTION:Une nouvelle organisation\, des concerts\,des djs \, un programme de feu  on vous en dit un peu plus chaque jour patience
URL:https://beer.be/agenda/carolo-beer-festival/
LOCATION:Rive Gauche\, Place Verte 20\, Charleroi\, Belgique
CATEGORIES:Festival
END:VEVENT
BEGIN:VEVENT
DTSTART;VALUE=DATE:20240627
DTEND;VALUE=DATE:20240630
DTSTAMP:20260422T121558
CREATED:20240326T123025Z
LAST-MODIFIED:20240326T123025Z
UID:25227-1719446400-1719705599@beer.be
SUMMARY:Barna'Beer Estival
DESCRIPTION:Sur l’Esplanade de la Citadelle de Namur\, 25 Brasseries vous proposeront le meilleur du savoir-faire des Brasseurs belges. Restaurateurs locaux\, fanfares et concerts vous plongeront dans l’ambiance festive du folklore et des traditions namuroises.\nUn espace jeux sera également aménagé pour le bonheur des enfants.
URL:https://beer.be/agenda/barnabeer-estival-2/
LOCATION:Esplanade de la Citadelle de Namur\, Esplanade de la citadelle\, Namur\, Belgique
CATEGORIES:Festival
END:VEVENT
BEGIN:VEVENT
DTSTART;VALUE=DATE:20240629
DTEND;VALUE=DATE:20240701
DTSTAMP:20260422T121558
CREATED:20240417T054957Z
LAST-MODIFIED:20240417T054957Z
UID:25361-1719619200-1719791999@beer.be
SUMMARY:Hops Blikkenbar at Hopville Diest
DESCRIPTION:Voor de 2e editie van Hopville zijn we opnieuw van de partij in Diest!\nWe slaan onze tent op met frigo's vol craft beer met lekkers uit Leuven\, Belgie en de rest van de wereld.\nVerwacht een brede selectie aan IPAs\, Sours\, Stouts\, Geuzes\, Lagers\, Tripels\, maar ook medes en wat speciallekes in grote flessen.\nWe halen onze Lindr van stal voor wat extra lekkers op tap!\nBierselectie volgt binnenkort!\nVolledige info festival:https://visitdiest.be/nl/aanbod/hopville-bierfestival
URL:https://beer.be/agenda/hops-blikkenbar-at-hopville-diest/
LOCATION:Citadel Diest\, Leuvensestraat\, Diest\, Belgique
CATEGORIES:Festival
END:VEVENT
END:VCALENDAR