BEGIN:VCALENDAR
VERSION:2.0
PRODID:-//Beer.be - ECPv6.15.20//NONSGML v1.0//EN
CALSCALE:GREGORIAN
METHOD:PUBLISH
X-ORIGINAL-URL:https://beer.be
X-WR-CALDESC:Évènements pour Beer.be
REFRESH-INTERVAL;VALUE=DURATION:PT1H
X-Robots-Tag:noindex
X-PUBLISHED-TTL:PT1H
BEGIN:VTIMEZONE
TZID:Europe/Brussels
BEGIN:DAYLIGHT
TZOFFSETFROM:+0100
TZOFFSETTO:+0200
TZNAME:CEST
DTSTART:20230326T010000
END:DAYLIGHT
BEGIN:STANDARD
TZOFFSETFROM:+0200
TZOFFSETTO:+0100
TZNAME:CET
DTSTART:20231029T010000
END:STANDARD
BEGIN:DAYLIGHT
TZOFFSETFROM:+0100
TZOFFSETTO:+0200
TZNAME:CEST
DTSTART:20240331T010000
END:DAYLIGHT
BEGIN:STANDARD
TZOFFSETFROM:+0200
TZOFFSETTO:+0100
TZNAME:CET
DTSTART:20241027T010000
END:STANDARD
BEGIN:DAYLIGHT
TZOFFSETFROM:+0100
TZOFFSETTO:+0200
TZNAME:CEST
DTSTART:20250330T010000
END:DAYLIGHT
BEGIN:STANDARD
TZOFFSETFROM:+0200
TZOFFSETTO:+0100
TZNAME:CET
DTSTART:20251026T010000
END:STANDARD
END:VTIMEZONE
BEGIN:VEVENT
DTSTART;VALUE=DATE:20240802
DTEND;VALUE=DATE:20240805
DTSTAMP:20260420T090312
CREATED:20240606T062535Z
LAST-MODIFIED:20240606T062535Z
UID:25583-1722556800-1722815999@beer.be
SUMMARY:Festival des bières triples en Ardenne
DESCRIPTION:Après le succès de la première édition de l’événement en 2023\, l’équipe de L’Échappée Bière épaulée par la commune de Vresse-sur-Semois\, organise la 2e édition du Tripel Beer Fest\, les vendredi 2\, samedi 3 et dimanche 4 août 2024. L'évènement mettra en avant le style de bière phare de l'Ardenne : la bière Triple. Mais pas seulement puisque les 16 brasseries invitées\, dont 8 sont des nouveautés\, proposeront une multitude d'autres styles à travers plus de 100 bières différentes.\nDurant ce week-end\, vous pourrez également retrouver une dizaine de groupes sur scène allant du cover (Johnny Hallyday\, tubes Rock des années 70 à 90's) en passant par les groupes locaux (musique électronique\, folk\, rock\, pop)\, de la restauration\, des jeux pour enfants et diverses animations familiales.\nINFOS PRATIQUES : Où ? : En plein cœur du village de Vresse-sur-Semois\, en plein air sur l'espace Cognaut.\nQuand ? Le vendredi 2 août de 17h à minuit\, le samedi 3 août de 14h à minuit\, et le dimanche de 12h à 19h.\n Tarif : le festival est en accès libre\, mais pour consommer les bières proposées sur place vous devrez acheter le verre officiel du festival au tarif de 7 € que vous pourrez garder.\n Restauration : sur place vous trouverez de quoi manger. Frites\, grillades\, burgers\, sucré...\n Brasseries : vous retrouverez 16 brasseries artisanales locales\, dont 8 nouvelles. 12 de l'Ardenne franco-belge et 4 invitées.\n Animations : tout est prévu pour passer un bon moment entre amis et en famille. Jeux gonflables pour enfants\, coloriage\, atelier photo et une dizaine de concerts sur une grande scène et en déambulation.\nRetrouvez la programmation (brasseries\, groupes musicaux et repas) au fil des semaines sur cet évènement Facebook.Tonnelles et abris prévus en cas de  ou de \n Infos supplémentaires sur contact@echappee-biere.com ou au 0033 7 82 71 68 21Ou sur https://fetesdelabiere.fr/
URL:https://beer.be/agenda/festival-des-bieres-triples-en-ardenne/
CATEGORIES:Festival
END:VEVENT
BEGIN:VEVENT
DTSTART;VALUE=DATE:20240803
DTEND;VALUE=DATE:20240805
DTSTAMP:20260420T090312
CREATED:20240709T060116Z
LAST-MODIFIED:20240709T060116Z
UID:25747-1722643200-1722815999@beer.be
SUMMARY:Koopweekend Bierfestival Ambierorix Tongeren
DESCRIPTION:Op zaterdag 3 en zondag 4 augustus zorgen de Tongerse handelaars voor extra shopplezier. De winkels zijn op zondag extra geopend van 13u - 17u.\nEen heel weekend lang kan je tevens genieten van de lekkerste streekbiertjes in alle geuren en kleuren\, en dit allemaal onder het goedkeurend oog van onze eigen Ambiorix \nhttps://www.facebook.com/events/424274543754809\nAlsof dat nog niet genoeg is\, kan je ook nog een bezoek brengen aan de jaarlijkse boekenmarkt op het Begijnhof (10u-17u)Meer info https://www.facebook.com/events/469872845403208
URL:https://beer.be/agenda/koopweekend-bierfestival-ambierorix-tongeren/
CATEGORIES:Festival
END:VEVENT
BEGIN:VEVENT
DTSTART;VALUE=DATE:20240814
DTEND;VALUE=DATE:20240816
DTSTAMP:20260420T090312
CREATED:20240712T060838Z
LAST-MODIFIED:20240712T060838Z
UID:25779-1723593600-1723766399@beer.be
SUMMARY:Streekbierenfestival 2024 Erembodegem
DESCRIPTION:In de tuin van de pastorij2 dagen optredens\, streekbierenbrouwers\, biercocktails\, food\, speelzone\, grime\, acts.
URL:https://beer.be/agenda/streekbierenfestival-2024-erembodegem/
CATEGORIES:Festival
END:VEVENT
BEGIN:VEVENT
DTSTART;VALUE=DATE:20240817
DTEND;VALUE=DATE:20240818
DTSTAMP:20260420T090312
CREATED:20240207T061307Z
LAST-MODIFIED:20240207T061307Z
UID:24984-1723852800-1723939199@beer.be
SUMMARY:Gents Bierfestival 2024
DESCRIPTION:We kijken al hard uit naar editie 14 van ons supergezellig bierfestival. Volg ons als je op de hoogte wil blijven! 17/8/24 is de datum die je al mag reserveren in je agendaatje. Wie mee wil helpen vooraf of achteraf mag dat ruimer in de agenda noteren 
URL:https://beer.be/agenda/gents-bierfestival-2024/
CATEGORIES:Festival
END:VEVENT
BEGIN:VEVENT
DTSTART;VALUE=DATE:20240824
DTEND;VALUE=DATE:20240825
DTSTAMP:20260420T090312
CREATED:20231024T120709Z
LAST-MODIFIED:20231024T120709Z
UID:24440-1724457600-1724543999@beer.be
SUMMARY:Razernij 2024
DESCRIPTION:Alweer een nieuwe prachteditie van ons festival met heavy (punk)rock acts en rock 'n' roll bierbrouwers!\nAnother great edition of our famous festival with heavy (punk)rock acts and rock 'n' roll beerbrewers!\nUne autre belle édition de notre festival avec des groupes de heavy (punk)rock et des brasseurs de bière style rock 'n' roll!
URL:https://beer.be/agenda/razernij-2024/
LOCATION:Razernij\, 6 Schoolstraat\, Rumst\, 2840\, Belgique
CATEGORIES:Festival
ATTACH;FMTTYPE=image/jpeg:https://beer.be/wp-content/uploads/2023/10/391750489_909538750604527_5070312992178433151_n.jpg
END:VEVENT
BEGIN:VEVENT
DTSTART;VALUE=DATE:20240824
DTEND;VALUE=DATE:20240826
DTSTAMP:20260420T090312
CREATED:20240516T063248Z
LAST-MODIFIED:20240516T063248Z
UID:25474-1724457600-1724630399@beer.be
SUMMARY:Leuven Innovation Beerfestival 2024
DESCRIPTION:Leuven Innovation Beerfestival wordt dit jaar een zomereditie. We nodigen weer tal van brouwers uit binnen- en buitenland uit die hun beste bieren laten proeven.We voorzien zoals andere edities ook enkele foodtrucks en een streepje muziek!Hou onze Instagram en Facebookpagina in het oog voor updates.\nJe hebt een festival glas editie 2024 nodig op het festival. Vergeet je startpakket niet.\nLeuven Innovation Beer Festival will be a summer edition this year. We are once again inviting numerous brewers from home and abroad to taste their best beers.Like other editions\, we also provide some food trucks and a dash of music!Keep an eye on our Instagram and Facebook page for updates.\nYou need a festival glass edition 2024 at the festival. Don't forget your starter pack.
URL:https://beer.be/agenda/leuven-innovation-beerfestival-2024/
LOCATION:Olevodroom Leuven\, Brusselsestraat 82\, Leuven\, 3000\, Belgique
CATEGORIES:Festival
END:VEVENT
BEGIN:VEVENT
DTSTART;VALUE=DATE:20240824
DTEND;VALUE=DATE:20240826
DTSTAMP:20260420T090312
CREATED:20240606T061609Z
LAST-MODIFIED:20240606T061609Z
UID:25579-1724457600-1724630399@beer.be
SUMMARY:The Place to Beer : Noces de Laine 2024
DESCRIPTION: Ne manquez pas le rendez-vous incontournable de l'été : THE PLACE TO BEER 2024\, le meilleur festival craft de Wallonie ! \n\nRetrouvez-nous les 24 et 25 août au magnifique Château de Trazegnies  pour notre 6ème édition\, en partenariat avec la brasserie Zythologist. Cette année encore\, nous vous réservons une sélection exceptionnelle de plus de 60 bières artisanales\, pour la plupart au fût\, provenant de toute l'Europe\, dont certaines seront exclusivement disponibles durant ce week-end festif.\nEn plus de cela\, nous avons la chance d’accueillir les meilleurs foodtrucks de la région pour vous remplir la panse avec des délices culinaires qui se marieront parfaitement avec vos boissons préférées. \n\n Entrée gratuite \n\nINFORMATIONS PRATIQUES :☆ Dates et horaires :• Samedi 24 août : 14h - 23h• Dimanche 25 août : 12h - 20h\n☆ Au programme :• Dégustations de bières artisanales • Food trucks gourmands • DJ sets • Tournois de pétanque • Château gonflable gratuit pour les enfants \n\n☆ Line-Up des Brasseries :• Zythologist • Bereta • Didko • Fugu • Mannenpap • The Garden • Les Intenables • Borinage • Totenhopfen • & More\n\n☆ Line-Up des Food trucks :• BaoNan • Wave Smash Burgers • Assagino Foodtruck \n\nNe manquez pas cet événement exceptionnel et invitez vos amis à nous rejoindre pour une expérience mémorable ! 
URL:https://beer.be/agenda/the-place-to-beer-noces-de-laine-2024/
LOCATION:Château de Trazegnies\, 32 Place Albert 1er\, Courcelles\, 6183\, Belgique
CATEGORIES:Festival
END:VEVENT
BEGIN:VEVENT
DTSTART;VALUE=DATE:20240824
DTEND;VALUE=DATE:20240826
DTSTAMP:20260420T090312
CREATED:20240709T061101Z
LAST-MODIFIED:20240709T061101Z
UID:25758-1724457600-1724630399@beer.be
SUMMARY:Lambikstoempers Bierweekend 2024
DESCRIPTION:We zijn intussen aan de 23ste editie van ons BIERWEEKEND toe\, maar voor het eerst in CC ‘T VONDEL (Halle)\, perfect bereikbaar met het openbaar vervoer (trein\, bus\, boot…) én op wandelafstand van het station! \nZoals steeds bieden we jullie de keuze uit meer dan 100 verschillende bieren\, waaronder een 80-tal lambiekbieren én een mooie selectie van 20 nieuwe en/of bijzondere Belgische bieren die minder of helemaal (nog) niet bekend zijn bij het grote publiek. \nDeze zijn te degusteren in proefglaasjes van 15cl. De inkom is sowieso GRATIS. Er zullen ook snacks voorhanden zijn. En… een grootse biertombola.
URL:https://beer.be/agenda/lambikstoempers-bierweekend-2024/
LOCATION:CC 't Vondel\, Joseph Possozplein 40\, Halle\, 1500\, Belgique
CATEGORIES:Festival
END:VEVENT
BEGIN:VEVENT
DTSTART;VALUE=DATE:20240831
DTEND;VALUE=DATE:20240901
DTSTAMP:20260420T090312
CREATED:20240816T110637Z
LAST-MODIFIED:20240816T110637Z
UID:25904-1725062400-1725148799@beer.be
SUMMARY:Bierfestival Bier van Olier
DESCRIPTION:Bier van Olier 2024 - zaterdag 31 augustus------------------------------------------\nNaar jaarlijkse gewoonte gaat ons zomers bierfestival door op de laatste zaterdag van augustus. In 2024 valt deze op 31 augustus. Een ideale plaats om te genieten van de laatste dag van de zomervakantie!\nZoals altijd is Bier Van Olier dé plek bij uitstek om nieuwe\, minder bekende brouwers en bieren te ontdekken.\nDaarnaast mag u zich opmaken voor leuke extra's zoals de immer populaire tombola\, eetstandjes\, zomers terras met springkastelen\, ...\nEr zal opnieuw een wedstrijd gehouden worden waar er mooie prijzen te winnen vallen!\nHou dit evenement en onze pagina goed in de gaten voor updates! Er zal weer héél wat lekkers te proeven zijn.\nGRATIS TOEGANGLOCATIE: KWARTIER 51 te SIJSELE Brouwers worden binnenkort aangekondigd!\nVoor alle info bezoek onze website www.biervanolier.be\nNog vragen? Stel ze gerust! m.me/BiervanOlier
URL:https://beer.be/agenda/bierfestival-bier-van-olier/
CATEGORIES:Festival
END:VEVENT
BEGIN:VEVENT
DTSTART;VALUE=DATE:20240831
DTEND;VALUE=DATE:20240902
DTSTAMP:20260420T090312
CREATED:20240816T110901Z
LAST-MODIFIED:20240816T110901Z
UID:25909-1725062400-1725235199@beer.be
SUMMARY:Bier aan't Kanaal
DESCRIPTION:31 Augustus & 1 september zal Bier aan't Kanaal voor de eerste keer georganiseerd worden. Dit bij Bar Ganz.\n31 Augustus vanaf 14u00 tot 22u001 september vanaf 12u00 tot 20u00\nKom proeven van de bieren van verschillende bierbrouwers die jullie zullen toestaan met een woordje uitleg over hun passie\, hun bieren!\nWe hebben gezorgd voor een aantal lokale maar ook zeer interessante spelers. De grote merken zullen hier alvast niet aan bod komen. Het is de bedoeling dat we allemaal bieren kunnen proeven die we nog niet kennen. Van Geuzen\, amberbieren\, tripels tot alcoholvrije bieren. Alles komt aan bod! Ambiance verzekerd.\nDe proefglaasjes & bonnetjes zijn te koop bij Bar Ganz.Je kan dan zelf de bierglazen vullen bij de deelnemende brouwerijen.\nOok zal er wijn & fris etc...voorzien worden zoals het gewoonlijk gaat.\nLaten we er samen een heerlijke dag van maken langs het kanaal!
URL:https://beer.be/agenda/bier-aant-kanaal/
CATEGORIES:Festival
END:VEVENT
END:VCALENDAR