BEGIN:VCALENDAR
VERSION:2.0
PRODID:-//Beer.be - ECPv6.15.20//NONSGML v1.0//EN
CALSCALE:GREGORIAN
METHOD:PUBLISH
X-ORIGINAL-URL:https://beer.be
X-WR-CALDESC:Évènements pour Beer.be
REFRESH-INTERVAL;VALUE=DURATION:PT1H
X-Robots-Tag:noindex
X-PUBLISHED-TTL:PT1H
BEGIN:VTIMEZONE
TZID:Europe/Brussels
BEGIN:DAYLIGHT
TZOFFSETFROM:+0100
TZOFFSETTO:+0200
TZNAME:CEST
DTSTART:20230326T010000
END:DAYLIGHT
BEGIN:STANDARD
TZOFFSETFROM:+0200
TZOFFSETTO:+0100
TZNAME:CET
DTSTART:20231029T010000
END:STANDARD
BEGIN:DAYLIGHT
TZOFFSETFROM:+0100
TZOFFSETTO:+0200
TZNAME:CEST
DTSTART:20240331T010000
END:DAYLIGHT
BEGIN:STANDARD
TZOFFSETFROM:+0200
TZOFFSETTO:+0100
TZNAME:CET
DTSTART:20241027T010000
END:STANDARD
BEGIN:DAYLIGHT
TZOFFSETFROM:+0100
TZOFFSETTO:+0200
TZNAME:CEST
DTSTART:20250330T010000
END:DAYLIGHT
BEGIN:STANDARD
TZOFFSETFROM:+0200
TZOFFSETTO:+0100
TZNAME:CET
DTSTART:20251026T010000
END:STANDARD
END:VTIMEZONE
BEGIN:VEVENT
DTSTART;VALUE=DATE:20240831
DTEND;VALUE=DATE:20240902
DTSTAMP:20260420T071808
CREATED:20240816T110901Z
LAST-MODIFIED:20240816T110901Z
UID:25909-1725062400-1725235199@beer.be
SUMMARY:Bier aan't Kanaal
DESCRIPTION:31 Augustus & 1 september zal Bier aan't Kanaal voor de eerste keer georganiseerd worden. Dit bij Bar Ganz.\n31 Augustus vanaf 14u00 tot 22u001 september vanaf 12u00 tot 20u00\nKom proeven van de bieren van verschillende bierbrouwers die jullie zullen toestaan met een woordje uitleg over hun passie\, hun bieren!\nWe hebben gezorgd voor een aantal lokale maar ook zeer interessante spelers. De grote merken zullen hier alvast niet aan bod komen. Het is de bedoeling dat we allemaal bieren kunnen proeven die we nog niet kennen. Van Geuzen\, amberbieren\, tripels tot alcoholvrije bieren. Alles komt aan bod! Ambiance verzekerd.\nDe proefglaasjes & bonnetjes zijn te koop bij Bar Ganz.Je kan dan zelf de bierglazen vullen bij de deelnemende brouwerijen.\nOok zal er wijn & fris etc...voorzien worden zoals het gewoonlijk gaat.\nLaten we er samen een heerlijke dag van maken langs het kanaal!
URL:https://beer.be/agenda/bier-aant-kanaal/
CATEGORIES:Festival
END:VEVENT
BEGIN:VEVENT
DTSTART;VALUE=DATE:20240905
DTEND;VALUE=DATE:20240909
DTSTAMP:20260420T071808
CREATED:20240624T060615Z
LAST-MODIFIED:20240624T060710Z
UID:25688-1725494400-1725839999@beer.be
SUMMARY:Gebrande Winning Beerfestival : casino totale 004 edition
DESCRIPTION:Welcome to our International Beerfestival!After the succes of last year\, we had to do it again! Inviting the biggest names in the beerworld! Having a great location\, amazing food and most of all\, amazing people\, you guys!\nFor this edition we have invited some big names throughout the world!- Brujos Brewing (USA)- Mills Brewing (UK)- Antidoot (Belgium)- H.Ertie (Germany)- Cantillon (Belgium)- Cantina Errante (Italy)- Hophemel (Belgium)- Misery Brewing (Belgium)- Basqueland Brewing (Spain)- Uncharted (Belgium)- Pinta Barrel Project (Poland)- Bottle Logic (USA)- Verdant (UK)- 100 Watt (NL)- Kemker Kultuur (Germany)- Nepomucen (Poland)- De Meester (Belgium)- Malpolon (France)- W.O.F.D. Vergistingen (Belgium)- Fugu Brewing (Belgium)- Debris Hills (Belgium)- Brouwerij Vandijck (Belgium)- Dochter van de Korenaar (Belgium)- De Mederie (Belgium)- Schramms (USA)\nOur name wouldn't be Winning\, Gebrande Winning without doing it in style! This year\, we go full Bond on you!Casino style games\, Smoking outfits and ofcourse our VIP Dinner only for real spies.\nTickets are 35 EUR for a day ticket\, including 20 EUR worth in drinktickets\, including beerglass and jetons to play on our Casino games! Or 60 EUR for a Combi ticket including 40 EUR worth of drinktickets!Would you like to experience the Gebrande Winning their genuine cuisine and foodpairing to? Get yourself a VIP ticket were there will be a three course dinner with foodpairing included in the dayticket.Get them quick since last year they sold out and this year we have 2 shifts less!For tickets:https://degebrandewinning.sweettickets.be/?utm_medium=web...For more information see our own website at: https://degebrandewinning.be/.../bierfestival-casino...
URL:https://beer.be/agenda/gebrande-winning-beerfestival-casino-totale-004-edition/
LOCATION:Gebrande Winning\, 7 Zepperenweg\, Saint-Trond\, 3800\, Belgique
CATEGORIES:Festival
END:VEVENT
BEGIN:VEVENT
DTSTART;VALUE=DATE:20240906
DTEND;VALUE=DATE:20240909
DTSTAMP:20260420T071808
CREATED:20240528T092247Z
LAST-MODIFIED:20240528T092247Z
UID:25530-1725580800-1725839999@beer.be
SUMMARY:Belgian Beer Weekend 2024
DESCRIPTION:EXPERIENCE THE BELGIAN BEER TRADITIONMark your calendars for an unforgettable weekend of beer appreciation! From Friday\, September 6th to Sunday\, September 8th\, this year\, we invite you to join us at the iconic Grand Place in Brussels for a yearly celebration of our rich Belgian Beer tradition.\nCHEERS TO OUR HERITAGE!Immerse yourself in the world of Belgian brewing as we showcase the incredible craftsmanship and flavors that have made our beers world-renowned. With over 50 breweries and an astonishing selection of more than 500 different beers\, this event promises to be a haven for beer enthusiasts and novices alike.
URL:https://beer.be/agenda/belgian-beer-weekend-2024/
LOCATION:Grand Place de Bruxelles\, Grand-Place de Bruxelles\, Bruxelles\, 1000\, Belgique
CATEGORIES:Festival
END:VEVENT
BEGIN:VEVENT
DTSTART;VALUE=DATE:20240907
DTEND;VALUE=DATE:20240909
DTSTAMP:20260420T071808
CREATED:20240506T064649Z
LAST-MODIFIED:20240506T064649Z
UID:25413-1725667200-1725839999@beer.be
SUMMARY:Wanderlust 2024
DESCRIPTION:
URL:https://beer.be/agenda/wanderlust-2024/
LOCATION:Eglise Sainte-Catherine\, 50 Place Sainte-Catherine\, Bruxelles\, 1000\, Belgique
CATEGORIES:Festival
END:VEVENT
BEGIN:VEVENT
DTSTART;VALUE=DATE:20240914
DTEND;VALUE=DATE:20240916
DTSTAMP:20260420T071808
CREATED:20240329T065937Z
LAST-MODIFIED:20240329T065937Z
UID:25244-1726272000-1726444799@beer.be
SUMMARY:16e Brugs Bierfestival
DESCRIPTION:BBF26
URL:https://beer.be/agenda/16e-brugs-bierfestival/
LOCATION:Bruges Meeting & Convention Centre\, Sint-Maartensbilk 1\, Brugge\, 8000\, Belgique
CATEGORIES:Festival
END:VEVENT
BEGIN:VEVENT
DTSTART;VALUE=DATE:20240928
DTEND;VALUE=DATE:20240930
DTSTAMP:20260420T071808
CREATED:20240104T090522Z
LAST-MODIFIED:20240104T090522Z
UID:24782-1727481600-1727654399@beer.be
SUMMARY:Dag(en) van de Oude Geuze 2024
DESCRIPTION:Kom ons ruime aanbod aan bieren van spontane gisting proeven op de (intussen 18de!) Dag(en) van de Oude Geuze\, traditiegetrouw op de parking van het Streekproducten Centrum in Halle.\nMeer info: zie www.lambikstoempers.be en/of https://www.streekproductencentrum.be
URL:https://beer.be/agenda/dagen-van-de-oude-geuze-2024/
LOCATION:Streekproducten Centrum\, 3A poststraat\, Hal\, 1500\, Belgique
CATEGORIES:Festival
ATTACH;FMTTYPE=image/jpeg:https://beer.be/wp-content/uploads/2024/01/416024510_877053614425211_5893313899370695058_n.jpg
END:VEVENT
BEGIN:VEVENT
DTSTART;VALUE=DATE:20240928
DTEND;VALUE=DATE:20240930
DTSTAMP:20260420T071808
CREATED:20240528T085723Z
LAST-MODIFIED:20240528T085723Z
UID:25508-1727481600-1727654399@beer.be
SUMMARY:BXLBeerFest 2024
DESCRIPTION:
URL:https://beer.be/agenda/bxlbeerfest-2024/
LOCATION:Tour & Taxis\, Avenue du Port 86C\, Bruxelles\, 1000\, Belgique
CATEGORIES:Festival
END:VEVENT
END:VCALENDAR