BEGIN:VCALENDAR
VERSION:2.0
PRODID:-//Beer.be - ECPv6.15.20//NONSGML v1.0//EN
CALSCALE:GREGORIAN
METHOD:PUBLISH
X-WR-CALNAME:Beer.be
X-ORIGINAL-URL:https://beer.be
X-WR-CALDESC:Évènements pour Beer.be
REFRESH-INTERVAL;VALUE=DURATION:PT1H
X-Robots-Tag:noindex
X-PUBLISHED-TTL:PT1H
BEGIN:VTIMEZONE
TZID:Europe/Brussels
BEGIN:DAYLIGHT
TZOFFSETFROM:+0100
TZOFFSETTO:+0200
TZNAME:CEST
DTSTART:20230326T010000
END:DAYLIGHT
BEGIN:STANDARD
TZOFFSETFROM:+0200
TZOFFSETTO:+0100
TZNAME:CET
DTSTART:20231029T010000
END:STANDARD
BEGIN:DAYLIGHT
TZOFFSETFROM:+0100
TZOFFSETTO:+0200
TZNAME:CEST
DTSTART:20240331T010000
END:DAYLIGHT
BEGIN:STANDARD
TZOFFSETFROM:+0200
TZOFFSETTO:+0100
TZNAME:CET
DTSTART:20241027T010000
END:STANDARD
BEGIN:DAYLIGHT
TZOFFSETFROM:+0100
TZOFFSETTO:+0200
TZNAME:CEST
DTSTART:20250330T010000
END:DAYLIGHT
BEGIN:STANDARD
TZOFFSETFROM:+0200
TZOFFSETTO:+0100
TZNAME:CET
DTSTART:20251026T010000
END:STANDARD
END:VTIMEZONE
BEGIN:VEVENT
DTSTART;VALUE=DATE:20241005
DTEND;VALUE=DATE:20241007
DTSTAMP:20260420T053540
CREATED:20240904T064953Z
LAST-MODIFIED:20240904T064953Z
UID:26017-1728086400-1728259199@beer.be
SUMMARY:Fête de la bière à Durbuy
DESCRIPTION:La 30e édition de la Fête de la Bière à Durbuy\, c'est cette année ! Rejoignez-nous le week-end du 5 et 6 octobre 2024 entre 12h et 21h à Durbuy Au programme\, dégustation de bières \, salaisons \, pain et fromage En plus\, nous prévoyons non pas 1 mais 2 concerts (le samedi et le dimanche)  D'autres informations seront partagées dans les prochains jours et prochaines semaines Restez connectés ! ___________________________________Het 30e Bierfestival in Durbuy is dit jaar! Kom in het weekend van 5 en 6 oktober 2024 tussen 12 en 21 uur naar Durbuy Op het programma staan bier proeven \, vleeswaren \, brood  en kaas Bovendien plannen we niet 1 maar 2 concerten (op zaterdag en zondag)  Meer informatie volgt de komende dagen en weken Blijf op de hoogte! 
URL:https://beer.be/agenda/fete-de-la-biere-a-durbuy/
CATEGORIES:Festival
END:VEVENT
BEGIN:VEVENT
DTSTART;VALUE=DATE:20241005
DTEND;VALUE=DATE:20241007
DTSTAMP:20260420T053540
CREATED:20240927T060416Z
LAST-MODIFIED:20240927T060416Z
UID:26149-1728086400-1728259199@beer.be
SUMMARY:Fête de la bière à Durbuy - 30e édition
DESCRIPTION:La 30e édition de la Fête de la Bière à Durbuy\, c'est cette année ! Rejoignez-nous le week-end du 5 et 6 octobre 2024 entre 12h et 21h à Durbuy Au programme\, dégustation de bières \, salaisons \, pain et fromage En plus\, nous prévoyons non pas 1 mais 2 concerts (le samedi et le dimanche)  D'autres informations seront partagées dans les prochains jours et prochaines semaines Restez connectés ! ___________________________________Het 30e Bierfestival in Durbuy is dit jaar! Kom in het weekend van 5 en 6 oktober 2024 tussen 12 en 21 uur naar Durbuy Op het programma staan bier proeven \, vleeswaren \, brood  en kaas Bovendien plannen we niet 1 maar 2 concerten (op zaterdag en zondag)  Meer informatie volgt de komende dagen en weken Blijf op de hoogte! 
URL:https://beer.be/agenda/fete-de-la-biere-a-durbuy-30e-edition/
CATEGORIES:Festival
END:VEVENT
BEGIN:VEVENT
DTSTART;VALUE=DATE:20241006
DTEND;VALUE=DATE:20241007
DTSTAMP:20260420T053540
CREATED:20240924T060924Z
LAST-MODIFIED:20240924T060924Z
UID:26111-1728172800-1728259199@beer.be
SUMMARY:Galea at MBF 2024
DESCRIPTION:Dit jaar wordt het 12ste Modeste Bierfestival georganiseerd. Dit zal plaats vinden op de site van brouwerij De Koninck.Het festival is geopend op zaterdag en zondag van 11:00 tot 19:00.De ingang van het festival is dit jaar aan de ingang van de brouwerij aan de Mechelsesteenweg.\nMeer info: https://www.antwerpsbiercollege.be/ModesteBierFestival/info\nWij lanceren 2 nieuwe bieren en brengen nog 2 rariteiten mee 
URL:https://beer.be/agenda/galea-at-mbf-2024/
LOCATION:De Koninck\, 291 Mechelsesteenweg\, Berchem\, 2018\, Belgique
CATEGORIES:Festival
END:VEVENT
BEGIN:VEVENT
DTSTART;VALUE=DATE:20241011
DTEND;VALUE=DATE:20241014
DTSTAMP:20260420T053540
CREATED:20240816T111332Z
LAST-MODIFIED:20240816T111332Z
UID:25912-1728604800-1728863999@beer.be
SUMMARY:Bierfestival Mechelen - 10 jaar
DESCRIPTION: Mecheleeeeeen!\nZijn jullie klaar voor 't de TIENDE EDITIE VAN HET BIERFESTIVAL?! _________________________________________________________ LIMITED EDITION BOTTLE BAR  Vrijdag 11 Oktober 18u00 - 23u30\nBrouwerij Het Anker\n Sfeermakers van dienst worden snel aangekondigd _________________________________________________________ BIERFESTIVAL  Zaterdag 12 Oktober 18u00 - 00u00\n Zondag 13 Oktober 12u00 - 19u00\nGrote Markt Mechelen\nLaat je verrassen door 40 brouwerijen! _________________________________________________________\nDit event is een organisatie van Quali Drinks
URL:https://beer.be/agenda/bierfestival-mechelen-10-jaar/
LOCATION:Grote Markt Mechelen\, Grote Markt\, Mechelen\, 2800\, Belgique
CATEGORIES:Festival
END:VEVENT
BEGIN:VEVENT
DTSTART;VALUE=DATE:20241012
DTEND;VALUE=DATE:20241013
DTSTAMP:20260420T053540
CREATED:20240930T043634Z
LAST-MODIFIED:20240930T043634Z
UID:26163-1728691200-1728777599@beer.be
SUMMARY:1e Kwatrechts Bierfestival
DESCRIPTION:In Kwatrecht\, net buiten de Gentse grenzen\, houdt de Gentse Bierverenging uit protest tegen de ‘boycot’ waarbij Stad Gent dit jaar het Gents Bierfestival onmogelijk maakte. De Gentse Biervereniging vzw vond hiervoor onderdak in de Heilig Hart Brouwerij en samen met wat brouwersvrienden zorgen ze voor een aangenaam kleinschalig festivalletje\, niet ter vervanging maar wel ter compensatie.Meer info volgt dra. Blijf ons steunen\, en blijf ons volgen.
URL:https://beer.be/agenda/1e-kwatrechts-bierfestival/
LOCATION:Heilig Hart Brouwerij\, Brusselsesteenweg 85A\, Kwatrecht\, 9230\, Belgique
CATEGORIES:Festival
END:VEVENT
BEGIN:VEVENT
DTSTART;VALUE=DATE:20241018
DTEND;VALUE=DATE:20241020
DTSTAMP:20260420T053540
CREATED:20240910T060914Z
LAST-MODIFIED:20240910T060914Z
UID:26042-1729209600-1729382399@beer.be
SUMMARY:Stout Sure Meuse 2024
DESCRIPTION:Dans les locaux de la future Halle Maraichère de Namur!\nStout Sure Meuse\, l'événement "bière" le plus improbable revient à Namur pour une nouvelle édition les 18 et 19 octobre.\nCette année\, en plus d'une sélection d'une cinquantaine de bières incroyables en provenance des 4 coins du monde\, nous vous avons déniché un lieu magnifique et improbable: les futures halles de Namur!\nDans le quartier des Casernes en plein renouveau\, les halles accueilleront prochainement des maraîchers et producteurs locaux mais en attendant\, ce sont des bières noires et acidulées que nous vous servirons.\nPas d'à priori\, ces 2 styles proposent des déclinaisons qui plairont à tous les palais (sucré\, fruité\, alcoolisé\, etc.).Osez franchir la porte\, l'entrée est gratuite.
URL:https://beer.be/agenda/stout-sure-meuse-2024/
CATEGORIES:Festival
END:VEVENT
BEGIN:VEVENT
DTSTART;VALUE=DATE:20241018
DTEND;VALUE=DATE:20241021
DTSTAMP:20260420T053540
CREATED:20240821T064122Z
LAST-MODIFIED:20240821T064122Z
UID:25932-1729209600-1729468799@beer.be
SUMMARY:Hoppy Days 2024
DESCRIPTION: Plus de 𝟏𝟎𝟎 𝐛𝐢𝐞̀𝐫𝐞𝐬 𝐚𝐫𝐭𝐢𝐬𝐚𝐧𝐚𝐥𝐞𝐬 𝐛𝐞𝐥𝐠𝐞𝐬 𝐞𝐭 𝐞́𝐭𝐫𝐚𝐧𝐠𝐞̀𝐫𝐞𝐬\n Des vins\, des cocktails maison\, des softs locaux\, de la good food \nTrois jours de 𝐅𝐄̂𝐓𝐄 avec DJ's\, animations et full ambiance ! \n\n- 16 brasseries belges et 1 ou 2 françaises présentes en direct ;\n- 40 bières sélectionnées dans le bar de l'organisation (bières belges\, étrangères\, trappistes\, éphémères\, extraordinaires\, etc) ;\n- 1 stand avec vins et cocktails ;\n- 1 stand "0%" avec des bières non alcoolisées qui ont du GOÛT mais également des softs bio et/ou locaux et/ou fairetrade et/ou originaux : rien d'industriel en tout cas \n- Des foodtrucks\, des DJ’s\, des animations\, tout ce qui fait une belle fête réussie ! \n\n 𝐇𝐎𝐑𝐀𝐈𝐑𝐄 \nVendredi 18/10 : 16h-2h\nSamedi 19/10 : 14h-2h\nDimanche 20/10 : 12h-21h \nPalais des Congrès – Liège (Esplanade de l’Europe\, 2)
URL:https://beer.be/agenda/hoppy-days-2024/
LOCATION:Palais des congrès de Liège\, 2 esplanade de l'Europe\, Liège\, 4000\, Belgique
CATEGORIES:Festival
END:VEVENT
BEGIN:VEVENT
DTSTART;VALUE=DATE:20241019
DTEND;VALUE=DATE:20241021
DTSTAMP:20260420T053540
CREATED:20240826T072946Z
LAST-MODIFIED:20240826T072946Z
UID:25963-1729296000-1729468799@beer.be
SUMMARY:Brassigaume 2024
DESCRIPTION:
URL:https://beer.be/agenda/brassigaume-2024/
LOCATION:Brassigaume\, Marbehan\, Belgique
CATEGORIES:Festival
END:VEVENT
BEGIN:VEVENT
DTSTART;VALUE=DATE:20241025
DTEND;VALUE=DATE:20241027
DTSTAMP:20260420T053540
CREATED:20240919T054102Z
LAST-MODIFIED:20240919T054102Z
UID:26085-1729814400-1729987199@beer.be
SUMMARY:Beer Festival Humulone
DESCRIPTION:Premier Salon brassicole à Verlaine.\nVenez découvrir des brasseries artisanales\, régionales et discuter directement avec les brasseurs pour le plus grand plaisir de vos papilles.\nOuverture des portes le 25 octobre à 17h00 jusque 00h00.Ouverture des portes le 26 octobre à 15h00 jusque 00h00.\nEntrée à 5€ avec un verre offert pour vos dégustation.
URL:https://beer.be/agenda/beer-festival-humulone/
CATEGORIES:Festival
END:VEVENT
BEGIN:VEVENT
DTSTART;VALUE=DATE:20241025
DTEND;VALUE=DATE:20241028
DTSTAMP:20260420T053540
CREATED:20240925T061545Z
LAST-MODIFIED:20240925T061545Z
UID:26132-1729814400-1730073599@beer.be
SUMMARY:36ste Heikantse bierfeesten
DESCRIPTION:Drie dagen lang staat Berlaar-Heikant in het teken van bier en plezier; de Heikantse Bierfeesten zijn een uit het Heikantse leven niet meer weg te denken evenement\, een festijn voor de levensgenieter\, de bierliefhebber\, het feestvarken.\nOoit door de Amerikaanse beer writer Chuck Cook in het Amerikaanse biermagazine “Beer Celebrator” gecatalogeerd als het zevendebeste bierfestival van alle “beer fests” die hij al bezocht ter wereld. Inderdaad\, de Heikantse Bierfeesten zijn een drie dagen durende mix van voorzichtig proeven en genieten tot uitbundig feesten.\nVrijdag- en zaterdagavond de vlam in de pan met live bands (vrijdag DC Section - zaterdag T mé Heuning) die de pannen van het dak spelen\, zaterdag- en zondagnamiddag rustig en gezellig met mekaar keuvelen en de meer dan 70 gepresenteerde biertjes becommentariëren.\nZondagnamiddag blaast Fanfare Willen is Kunnen Berlaar Heikant een paar deuntjes.\nDe Heikantse bierfeesten beginnen áltijd de laatste vrijdag van oktober.
URL:https://beer.be/agenda/36ste-heikantse-bierfeesten/
LOCATION:Parochiecentrum Familia\, 105-109 Aarschotsesteenweg\, Berlaar\, Belgique
CATEGORIES:Festival
END:VEVENT
BEGIN:VEVENT
DTSTART;VALUE=DATE:20241026
DTEND;VALUE=DATE:20241027
DTSTAMP:20260420T053540
CREATED:20240910T060807Z
LAST-MODIFIED:20240910T060807Z
UID:26039-1729900800-1729987199@beer.be
SUMMARY:Poperinge Bierfestival 2024
DESCRIPTION:27ste internationaal bierfestival
URL:https://beer.be/agenda/poperinge-bierfestival-2024/
LOCATION:Maeke Blyde\, Doornstraat 43\, Poperinge\, 8970\, Belgium
CATEGORIES:Festival
END:VEVENT
END:VCALENDAR