BEGIN:VCALENDAR
VERSION:2.0
PRODID:-//Beer.be - ECPv6.15.20//NONSGML v1.0//EN
CALSCALE:GREGORIAN
METHOD:PUBLISH
X-WR-CALNAME:Beer.be
X-ORIGINAL-URL:https://beer.be
X-WR-CALDESC:Évènements pour Beer.be
REFRESH-INTERVAL;VALUE=DURATION:PT1H
X-Robots-Tag:noindex
X-PUBLISHED-TTL:PT1H
BEGIN:VTIMEZONE
TZID:Europe/Brussels
BEGIN:DAYLIGHT
TZOFFSETFROM:+0100
TZOFFSETTO:+0200
TZNAME:CEST
DTSTART:20180325T010000
END:DAYLIGHT
BEGIN:STANDARD
TZOFFSETFROM:+0200
TZOFFSETTO:+0100
TZNAME:CET
DTSTART:20181028T010000
END:STANDARD
BEGIN:DAYLIGHT
TZOFFSETFROM:+0100
TZOFFSETTO:+0200
TZNAME:CEST
DTSTART:20190331T010000
END:DAYLIGHT
BEGIN:STANDARD
TZOFFSETFROM:+0200
TZOFFSETTO:+0100
TZNAME:CET
DTSTART:20191027T010000
END:STANDARD
BEGIN:DAYLIGHT
TZOFFSETFROM:+0100
TZOFFSETTO:+0200
TZNAME:CEST
DTSTART:20200329T010000
END:DAYLIGHT
BEGIN:STANDARD
TZOFFSETFROM:+0200
TZOFFSETTO:+0100
TZNAME:CET
DTSTART:20201025T010000
END:STANDARD
END:VTIMEZONE
BEGIN:VEVENT
DTSTART;VALUE=DATE:20190315
DTEND;VALUE=DATE:20190317
DTSTAMP:20260424T135729
CREATED:20190303T120415Z
LAST-MODIFIED:20190303T120415Z
UID:13480-1552608000-1552780799@beer.be
SUMMARY:Back to our Future TTO Brasserie De Ranke
DESCRIPTION:TAP LIST ! 5.50€ la pinte !\nSimplex\nXX Bitter\nGuldenberg\nXXX Bitter\nHop Harvest\nNoir de Dottignies\nSaison de Dottignies\nFranc Belge\nCuvée de Ranke\nKriek de Ranke \nCarbonnades Flamandes du Chef Major Thom des Petits Bouchons (Uccle)
URL:https://beer.be/agenda/back-to-our-future-tto-brasserie-de-ranke/
LOCATION:Moeder Lambic Fontainas\, 8 place Fontainas\, Bruxelles\, Bruxelles\, 1000\, Belgique
CATEGORIES:Moeder Lambic
ATTACH;FMTTYPE=image/jpeg:https://beer.be/wp-content/uploads/2019/03/53071338_785230371846282_9053599006210392064_n.jpg
END:VEVENT
BEGIN:VEVENT
DTSTART;VALUE=DATE:20190323
DTEND;VALUE=DATE:20190324
DTSTAMP:20260424T135729
CREATED:20190303T115503Z
LAST-MODIFIED:20190303T115503Z
UID:13465-1553299200-1553385599@beer.be
SUMMARY:Péché Day 2019
DESCRIPTION:
URL:https://beer.be/agenda/peche-day-2019/
LOCATION:Moeder Lambic Fontainas\, 8 place Fontainas\, Bruxelles\, Bruxelles\, 1000\, Belgique
CATEGORIES:Moeder Lambic
ATTACH;FMTTYPE=image/jpeg:https://beer.be/wp-content/uploads/2019/03/52932981_10156289267082686_3184393597701062656_n.jpg
END:VEVENT
BEGIN:VEVENT
DTSTART;VALUE=DATE:20190330
DTEND;VALUE=DATE:20190331
DTSTAMP:20260424T135729
CREATED:20190311T150417Z
LAST-MODIFIED:20190311T150417Z
UID:13506-1553904000-1553990399@beer.be
SUMMARY:The Austrian Show
DESCRIPTION:Robby (Tribaun) & Misho (Ammuston) nous font l'honneur et le plaisir de proposer une sélection des trois brasseries Autrichiennes au top .... Bevog\, Bierol et Alefried pour une journée à Bruxelles ! Rémy Bosseret vous concoctera une Choucroute traditionnelle pour accompagner ces jolies bières...
URL:https://beer.be/agenda/the-austrian-show/
LOCATION:Moeder Lambic Fontainas\, 8 place Fontainas\, Bruxelles\, Bruxelles\, 1000\, Belgique
CATEGORIES:Moeder Lambic
ATTACH;FMTTYPE=image/jpeg:https://beer.be/wp-content/uploads/2019/03/53300078_10156305485187686_4828349255741603840_n.jpg
END:VEVENT
END:VCALENDAR