BEGIN:VCALENDAR
VERSION:2.0
PRODID:-//Beer.be - ECPv6.15.20//NONSGML v1.0//EN
CALSCALE:GREGORIAN
METHOD:PUBLISH
X-WR-CALNAME:Beer.be
X-ORIGINAL-URL:https://beer.be
X-WR-CALDESC:Évènements pour Beer.be
REFRESH-INTERVAL;VALUE=DURATION:PT1H
X-Robots-Tag:noindex
X-PUBLISHED-TTL:PT1H
BEGIN:VTIMEZONE
TZID:Europe/Brussels
BEGIN:DAYLIGHT
TZOFFSETFROM:+0100
TZOFFSETTO:+0200
TZNAME:CEST
DTSTART:20180325T010000
END:DAYLIGHT
BEGIN:STANDARD
TZOFFSETFROM:+0200
TZOFFSETTO:+0100
TZNAME:CET
DTSTART:20181028T010000
END:STANDARD
BEGIN:DAYLIGHT
TZOFFSETFROM:+0100
TZOFFSETTO:+0200
TZNAME:CEST
DTSTART:20190331T010000
END:DAYLIGHT
BEGIN:STANDARD
TZOFFSETFROM:+0200
TZOFFSETTO:+0100
TZNAME:CET
DTSTART:20191027T010000
END:STANDARD
BEGIN:DAYLIGHT
TZOFFSETFROM:+0100
TZOFFSETTO:+0200
TZNAME:CEST
DTSTART:20200329T010000
END:DAYLIGHT
BEGIN:STANDARD
TZOFFSETFROM:+0200
TZOFFSETTO:+0100
TZNAME:CET
DTSTART:20201025T010000
END:STANDARD
END:VTIMEZONE
BEGIN:VEVENT
DTSTART;VALUE=DATE:20190608
DTEND;VALUE=DATE:20190609
DTSTAMP:20260424T094015
CREATED:20190516T130605Z
LAST-MODIFIED:20190516T130605Z
UID:13890-1559952000-1560038399@beer.be
SUMMARY:Salut les amis! « Julie’s last shift »
DESCRIPTION:Salut les amis! Après presque 10 ans d’une belle et grande aventure au sein du Moeder lambic\, j’ai décidé de m’envoler vers de nouveaux horizons ! Je ne pouvais pas partir sans vous convier\, vous\, vos sourires\, ceux qui m ont accompagnée durant ces très nombreux shifts... Ce que j attends de cette soirée : faire la fête\, boire des bières\, chanter\, peut-être même danser et surtout vivre des émotions ensemble ! \nPour cela je vous ai concocté un joli programme :\n- une sélection de 5 bières qu’il me plairait de boire!\n- 21h la venue du « rickshaw-karaoke » 🎤\n- 19h30-22h Beat Brother DJ du collectif de Global Hybrid Records pour nous faire danser 🎶\nJe vous attends donc pour fêter dignement et gaiement mon dernier shift. 🍻 \nJulie
URL:https://beer.be/agenda/salut-les-amis-julies-last-shift/
LOCATION:Moeder Lambic Fontainas\, 8 place Fontainas\, Bruxelles\, Bruxelles\, 1000\, Belgique
CATEGORIES:Moeder Lambic
ATTACH;FMTTYPE=image/jpeg:https://beer.be/wp-content/uploads/2019/05/60360893_10156458042652686_5543650233252052992_n.jpg
END:VEVENT
END:VCALENDAR