BEGIN:VCALENDAR
VERSION:2.0
PRODID:-//Beer.be - ECPv6.15.20//NONSGML v1.0//EN
CALSCALE:GREGORIAN
METHOD:PUBLISH
X-ORIGINAL-URL:https://beer.be
X-WR-CALDESC:Évènements pour Beer.be
REFRESH-INTERVAL;VALUE=DURATION:PT1H
X-Robots-Tag:noindex
X-PUBLISHED-TTL:PT1H
BEGIN:VTIMEZONE
TZID:Europe/Brussels
BEGIN:DAYLIGHT
TZOFFSETFROM:+0100
TZOFFSETTO:+0200
TZNAME:CEST
DTSTART:20190331T010000
END:DAYLIGHT
BEGIN:STANDARD
TZOFFSETFROM:+0200
TZOFFSETTO:+0100
TZNAME:CET
DTSTART:20191027T010000
END:STANDARD
BEGIN:DAYLIGHT
TZOFFSETFROM:+0100
TZOFFSETTO:+0200
TZNAME:CEST
DTSTART:20200329T010000
END:DAYLIGHT
BEGIN:STANDARD
TZOFFSETFROM:+0200
TZOFFSETTO:+0100
TZNAME:CET
DTSTART:20201025T010000
END:STANDARD
BEGIN:DAYLIGHT
TZOFFSETFROM:+0100
TZOFFSETTO:+0200
TZNAME:CEST
DTSTART:20210328T010000
END:DAYLIGHT
BEGIN:STANDARD
TZOFFSETFROM:+0200
TZOFFSETTO:+0100
TZNAME:CET
DTSTART:20211031T010000
END:STANDARD
END:VTIMEZONE
BEGIN:VEVENT
DTSTART;VALUE=DATE:20200828
DTEND;VALUE=DATE:20200829
DTSTAMP:20260423T140702
CREATED:20200806T093129Z
LAST-MODIFIED:20200806T093129Z
UID:15511-1598572800-1598659199@beer.be
SUMMARY:Misery Beer Co. vs. Moeder Lambic Original
DESCRIPTION:La ville d'Aywaille avait déjà son zoo\, elle a maintenant "Misery" son manoir micro-brasserie ! Libérez l'animal qui est en vous dès 16:00 le 28 aout. Misery Beer Co.\, c'est un manoir micro-brasserie niché au cœur des Ardennes.  Brasseurs et passionnés\, ils combinent leurs origines ardennaise et américaine pour jeter un regard neuf sur l'art de la bière. Leur mission ? Vous offrir humblement des bières créatives brassées dans le respect du savoir faire belge avec des matières premières de qualité et l'eau pure des Fagnes.
URL:https://beer.be/agenda/misery-beer-co-vs-moeder-lambic-original/
LOCATION:Moeder Lambic Original\, 68 rue de Savoie\, Bruxelles\, 1060\, Belgique
CATEGORIES:Moeder Lambic
ATTACH;FMTTYPE=image/jpeg:https://beer.be/wp-content/uploads/2020/08/117100690_1176381512731164_6050431460989142398_n.jpg
END:VEVENT
END:VCALENDAR