BEGIN:VCALENDAR
VERSION:2.0
PRODID:-//Beer.be - ECPv6.15.20//NONSGML v1.0//EN
CALSCALE:GREGORIAN
METHOD:PUBLISH
X-WR-CALNAME:Beer.be
X-ORIGINAL-URL:https://beer.be
X-WR-CALDESC:Évènements pour Beer.be
REFRESH-INTERVAL;VALUE=DURATION:PT1H
X-Robots-Tag:noindex
X-PUBLISHED-TTL:PT1H
BEGIN:VTIMEZONE
TZID:Europe/Brussels
BEGIN:DAYLIGHT
TZOFFSETFROM:+0100
TZOFFSETTO:+0200
TZNAME:CEST
DTSTART:20210328T010000
END:DAYLIGHT
BEGIN:STANDARD
TZOFFSETFROM:+0200
TZOFFSETTO:+0100
TZNAME:CET
DTSTART:20211031T010000
END:STANDARD
BEGIN:DAYLIGHT
TZOFFSETFROM:+0100
TZOFFSETTO:+0200
TZNAME:CEST
DTSTART:20220327T010000
END:DAYLIGHT
BEGIN:STANDARD
TZOFFSETFROM:+0200
TZOFFSETTO:+0100
TZNAME:CET
DTSTART:20221030T010000
END:STANDARD
BEGIN:DAYLIGHT
TZOFFSETFROM:+0100
TZOFFSETTO:+0200
TZNAME:CEST
DTSTART:20230326T010000
END:DAYLIGHT
BEGIN:STANDARD
TZOFFSETFROM:+0200
TZOFFSETTO:+0100
TZNAME:CET
DTSTART:20231029T010000
END:STANDARD
END:VTIMEZONE
BEGIN:VEVENT
DTSTART;VALUE=DATE:20220602
DTEND;VALUE=DATE:20220603
DTSTAMP:20260422T031404
CREATED:20220524T050623Z
LAST-MODIFIED:20220524T050623Z
UID:20173-1654128000-1654214399@beer.be
SUMMARY:PorchetTIAMO Saint Gilles Edition
DESCRIPTION:Pour la Fête de la République en Italie\, le Moeder Lambic Original va célébrer à la large communauté italienne à Bruxelles !\nDes bières artisanales italiennes et des panini con la porchetta à la une pour deux jours de fête avec nos amis italiens !\nMore info coming soon !\nPer la Festa della Repubblica italiana\, il Moeder Lambic Original celebrerà la grande comunità italiana presente a Bruxelles! Birra artigianale italiana e panini con la porchetta per due giorni per festeggiare gli amici italiani!
URL:https://beer.be/agenda/porchettiamo-saint-gilles-edition/
LOCATION:Moeder Lambic Original\, 68 rue de Savoie\, Bruxelles\, 1060\, Belgique
CATEGORIES:Moeder Lambic
ATTACH;FMTTYPE=image/jpeg:https://beer.be/wp-content/uploads/2022/05/282125521_422230593236093_1712229586143736201_n.jpg
END:VEVENT
END:VCALENDAR