BEGIN:VCALENDAR
VERSION:2.0
PRODID:-//Beer.be - ECPv6.15.20//NONSGML v1.0//EN
CALSCALE:GREGORIAN
METHOD:PUBLISH
X-ORIGINAL-URL:https://beer.be
X-WR-CALDESC:Évènements pour Beer.be
REFRESH-INTERVAL;VALUE=DURATION:PT1H
X-Robots-Tag:noindex
X-PUBLISHED-TTL:PT1H
BEGIN:VTIMEZONE
TZID:Europe/Brussels
BEGIN:DAYLIGHT
TZOFFSETFROM:+0100
TZOFFSETTO:+0200
TZNAME:CEST
DTSTART:20220327T010000
END:DAYLIGHT
BEGIN:STANDARD
TZOFFSETFROM:+0200
TZOFFSETTO:+0100
TZNAME:CET
DTSTART:20221030T010000
END:STANDARD
BEGIN:DAYLIGHT
TZOFFSETFROM:+0100
TZOFFSETTO:+0200
TZNAME:CEST
DTSTART:20230326T010000
END:DAYLIGHT
BEGIN:STANDARD
TZOFFSETFROM:+0200
TZOFFSETTO:+0100
TZNAME:CET
DTSTART:20231029T010000
END:STANDARD
BEGIN:DAYLIGHT
TZOFFSETFROM:+0100
TZOFFSETTO:+0200
TZNAME:CEST
DTSTART:20240331T010000
END:DAYLIGHT
BEGIN:STANDARD
TZOFFSETFROM:+0200
TZOFFSETTO:+0100
TZNAME:CET
DTSTART:20241027T010000
END:STANDARD
END:VTIMEZONE
BEGIN:VEVENT
DTSTART;VALUE=DATE:20230929
DTEND;VALUE=DATE:20230930
DTSTAMP:20260421T040712
CREATED:20230822T060835Z
LAST-MODIFIED:20230822T060835Z
UID:23952-1695945600-1696031999@beer.be
SUMMARY:No Zwanze Day
DESCRIPTION:Afin de célébrer le Bxl Beer Fest 2023 et pour la première année sans Zwanze depuis 2008\, nous mettrons à la carte un grand choix de lambics très spéciaux et une belle sélection de bouteille.\nEN:\nTo celebrate Bxl Beer Fest 2023 and for the first year without Zwanze since 2008\, we will put a few uncommon beers on tap and a very special bottle selection.\n\nTap list :\nZwanze 2013\nZwanze 2014\nZwanze 2015\nCuvée St-Gilloise 2016\nZwanze 2017\nZwanze 2018\nZwanze 2019\nZwanze 2020\nZwanze 2021\nZwanze 2022\n...\nBottle list:\nSurprise 
URL:https://beer.be/agenda/no-zwanze-day/
LOCATION:Moeder Lambic Fontainas\, 8 place Fontainas\, Bruxelles\, Bruxelles\, 1000\, Belgique
CATEGORIES:Moeder Lambic
ATTACH;FMTTYPE=image/jpeg:https://beer.be/wp-content/uploads/2023/08/369169130_595981906065240_1093372979228306087_n.jpg
END:VEVENT
END:VCALENDAR