BEGIN:VCALENDAR
VERSION:2.0
PRODID:-//Beer.be - ECPv6.15.20//NONSGML v1.0//EN
CALSCALE:GREGORIAN
METHOD:PUBLISH
X-ORIGINAL-URL:https://beer.be
X-WR-CALDESC:Évènements pour Beer.be
REFRESH-INTERVAL;VALUE=DURATION:PT1H
X-Robots-Tag:noindex
X-PUBLISHED-TTL:PT1H
BEGIN:VTIMEZONE
TZID:Europe/Brussels
BEGIN:DAYLIGHT
TZOFFSETFROM:+0100
TZOFFSETTO:+0200
TZNAME:CEST
DTSTART:20230326T010000
END:DAYLIGHT
BEGIN:STANDARD
TZOFFSETFROM:+0200
TZOFFSETTO:+0100
TZNAME:CET
DTSTART:20231029T010000
END:STANDARD
BEGIN:DAYLIGHT
TZOFFSETFROM:+0100
TZOFFSETTO:+0200
TZNAME:CEST
DTSTART:20240331T010000
END:DAYLIGHT
BEGIN:STANDARD
TZOFFSETFROM:+0200
TZOFFSETTO:+0100
TZNAME:CET
DTSTART:20241027T010000
END:STANDARD
BEGIN:DAYLIGHT
TZOFFSETFROM:+0100
TZOFFSETTO:+0200
TZNAME:CEST
DTSTART:20250330T010000
END:DAYLIGHT
BEGIN:STANDARD
TZOFFSETFROM:+0200
TZOFFSETTO:+0100
TZNAME:CET
DTSTART:20251026T010000
END:STANDARD
END:VTIMEZONE
BEGIN:VEVENT
DTSTART;VALUE=DATE:20240929
DTEND;VALUE=DATE:20240930
DTSTAMP:20260420T100017
CREATED:20240925T061934Z
LAST-MODIFIED:20240925T061934Z
UID:26138-1727568000-1727654399@beer.be
SUMMARY:BxlBeerFest official after party
DESCRIPTION:Pas envie d’attendre samedi pour boire des bonnes bières craft ? Venez commencer le festival vendredi soir pour vous mettre dans de bonne condition. Nous aurons une chouette sélection rien que pour vous !Dimanche nous ferons aussi une grosse after pour tous ceux qui ont encore soif !\nÀ bientôt \nDon't feel like waiting until Saturday to drink some great craft beers? Come and start the festival on Friday evening and get yourself in the mood. We've got a great selection just for you!On Sunday we'll also be having a big after-party for anyone who's still thirsty!\nSee you soon ! 
URL:https://beer.be/agenda/bxlbeerfest-official-after-party/
LOCATION:Moeder Lambic Fontainas\, 8 place Fontainas\, Bruxelles\, Bruxelles\, 1000\, Belgique
CATEGORIES:Moeder Lambic
END:VEVENT
END:VCALENDAR