BEGIN:VCALENDAR
VERSION:2.0
PRODID:-//Beer.be - ECPv6.15.20//NONSGML v1.0//EN
CALSCALE:GREGORIAN
METHOD:PUBLISH
X-ORIGINAL-URL:https://beer.be
X-WR-CALDESC:Évènements pour Beer.be
REFRESH-INTERVAL;VALUE=DURATION:PT1H
X-Robots-Tag:noindex
X-PUBLISHED-TTL:PT1H
BEGIN:VTIMEZONE
TZID:Europe/Brussels
BEGIN:DAYLIGHT
TZOFFSETFROM:+0100
TZOFFSETTO:+0200
TZNAME:CEST
DTSTART:20230326T010000
END:DAYLIGHT
BEGIN:STANDARD
TZOFFSETFROM:+0200
TZOFFSETTO:+0100
TZNAME:CET
DTSTART:20231029T010000
END:STANDARD
BEGIN:DAYLIGHT
TZOFFSETFROM:+0100
TZOFFSETTO:+0200
TZNAME:CEST
DTSTART:20240331T010000
END:DAYLIGHT
BEGIN:STANDARD
TZOFFSETFROM:+0200
TZOFFSETTO:+0100
TZNAME:CET
DTSTART:20241027T010000
END:STANDARD
BEGIN:DAYLIGHT
TZOFFSETFROM:+0100
TZOFFSETTO:+0200
TZNAME:CEST
DTSTART:20250330T010000
END:DAYLIGHT
BEGIN:STANDARD
TZOFFSETFROM:+0200
TZOFFSETTO:+0100
TZNAME:CET
DTSTART:20251026T010000
END:STANDARD
END:VTIMEZONE
BEGIN:VEVENT
DTSTART;VALUE=DATE:20241116
DTEND;VALUE=DATE:20241117
DTSTAMP:20260420T064329
CREATED:20241113T091509Z
LAST-MODIFIED:20241113T091509Z
UID:26378-1731715200-1731801599@beer.be
SUMMARY:Lancement de la KLET (La Flaque)
DESCRIPTION:Ce samedi 16 novembre\, on branche le 1er fût de KLET au monde !\nRejoignez-nous dès 16h pour goûter ça\, en présence de la team de La Flaque.\nOn vous proposera au fût : La Klet Fractale Décarottée\n\nLe mot des brasseurs : La Klet est une petite bière blonde sans fioriture pour venir compléter la gamme. Une amertume tranchée mais bien dosée avec un corps bien présent. C'est sa candeur qui fait sa force. On peut dire que La Klet est à La Flaque ce que la margaritta est au pizzaïolo: le gage de la qualité dans la simplicité.\n\nProfitez-en\, ce jour-là\, on vous propose les bières de la Flaque au prix doux de 4€.
URL:https://beer.be/agenda/lancement-de-la-klet-la-flaque/
LOCATION:Moeder Lambic Original\, 68 rue de Savoie\, Bruxelles\, 1060\, Belgique
CATEGORIES:Moeder Lambic
END:VEVENT
END:VCALENDAR