BEGIN:VCALENDAR
VERSION:2.0
PRODID:-//Beer.be - ECPv6.15.20//NONSGML v1.0//EN
CALSCALE:GREGORIAN
METHOD:PUBLISH
X-WR-CALNAME:Beer.be
X-ORIGINAL-URL:https://beer.be
X-WR-CALDESC:Évènements pour Beer.be
REFRESH-INTERVAL;VALUE=DURATION:PT1H
X-Robots-Tag:noindex
X-PUBLISHED-TTL:PT1H
BEGIN:VTIMEZONE
TZID:Europe/Brussels
BEGIN:DAYLIGHT
TZOFFSETFROM:+0100
TZOFFSETTO:+0200
TZNAME:CEST
DTSTART:20240331T010000
END:DAYLIGHT
BEGIN:STANDARD
TZOFFSETFROM:+0200
TZOFFSETTO:+0100
TZNAME:CET
DTSTART:20241027T010000
END:STANDARD
BEGIN:DAYLIGHT
TZOFFSETFROM:+0100
TZOFFSETTO:+0200
TZNAME:CEST
DTSTART:20250330T010000
END:DAYLIGHT
BEGIN:STANDARD
TZOFFSETFROM:+0200
TZOFFSETTO:+0100
TZNAME:CET
DTSTART:20251026T010000
END:STANDARD
BEGIN:DAYLIGHT
TZOFFSETFROM:+0100
TZOFFSETTO:+0200
TZNAME:CEST
DTSTART:20260329T010000
END:DAYLIGHT
BEGIN:STANDARD
TZOFFSETFROM:+0200
TZOFFSETTO:+0100
TZNAME:CET
DTSTART:20261025T010000
END:STANDARD
END:VTIMEZONE
BEGIN:VEVENT
DTSTART;VALUE=DATE:20250430
DTEND;VALUE=DATE:20250503
DTSTAMP:20260419T195346
CREATED:20250306T075556Z
LAST-MODIFIED:20250306T075556Z
UID:26910-1745971200-1746230399@beer.be
SUMMARY:Quintessence 2025 : Olambic Games
DESCRIPTION:Ça y est les amis\, on y est presque\, la Quintessence 2025\, c’est bientôt !\nAu programme:\nChaque jour\, 20 lambics différents à la pompe. Au total\, 60 lambics à découvrir. Du Cantillon principalement mais aussi 3 Fonteinen\, Boerenerf\, Lambiek Fabriek et Tilquin. Fernand Obb avec ses croquettes merveilleuses et une nouvelle proposition par jour pour nous sustenter. Un DJ de folie pour nous ambiancer jusqu’au bout de la nuit.\nPlus d’infos à venir.\nThat's it\, folks\, we're almost there - Quintessence 2025 is just around the corner!\nOn the program:\nEach day\, 20 different lambics on tap. A total of 60 lambics to discover. Mainly Cantillon\, but also 3 Fonteinen\, Boerenerf\, Lambiek Fabriek and Tilquin. Fernand Obb with his wonderful croquettes and a new proposal every day to keep us satiated. A crazy good DJ to keep us entertained all night long.\nMore info to come.\nHet is zover\, mensen\, we zijn er bijna - Quintessence 2025 staat voor de deur!\n Het programma:\nElke dag 20 verschillende lambieken aan de pomp. In totaal 60 lambieks om te ontdekken. Voornamelijk Cantillon\, maar ook 3 Fonteinen\, Boerenerf\, Lambiek Fabriek en Tilquin. Fernand Obb met zijn heerlijke kroketten en elke dag een nieuw aanbod om ons te voeden. Een te gekke DJ om ons tot het einde van de avond te vermaken.\nMeer info volgt.
URL:https://beer.be/agenda/quintessence-2025-olambic-games/
LOCATION:Moeder Lambic Fontainas\, 8 place Fontainas\, Bruxelles\, Bruxelles\, 1000\, Belgique
CATEGORIES:Moeder Lambic
END:VEVENT
END:VCALENDAR