BEGIN:VCALENDAR
VERSION:2.0
PRODID:-//Beer.be - ECPv6.15.20//NONSGML v1.0//EN
CALSCALE:GREGORIAN
METHOD:PUBLISH
X-ORIGINAL-URL:https://beer.be
X-WR-CALDESC:Évènements pour Beer.be
REFRESH-INTERVAL;VALUE=DURATION:PT1H
X-Robots-Tag:noindex
X-PUBLISHED-TTL:PT1H
BEGIN:VTIMEZONE
TZID:Europe/Brussels
BEGIN:DAYLIGHT
TZOFFSETFROM:+0100
TZOFFSETTO:+0200
TZNAME:CEST
DTSTART:20180325T010000
END:DAYLIGHT
BEGIN:STANDARD
TZOFFSETFROM:+0200
TZOFFSETTO:+0100
TZNAME:CET
DTSTART:20181028T010000
END:STANDARD
BEGIN:DAYLIGHT
TZOFFSETFROM:+0100
TZOFFSETTO:+0200
TZNAME:CEST
DTSTART:20190331T010000
END:DAYLIGHT
BEGIN:STANDARD
TZOFFSETFROM:+0200
TZOFFSETTO:+0100
TZNAME:CET
DTSTART:20191027T010000
END:STANDARD
BEGIN:DAYLIGHT
TZOFFSETFROM:+0100
TZOFFSETTO:+0200
TZNAME:CEST
DTSTART:20200329T010000
END:DAYLIGHT
BEGIN:STANDARD
TZOFFSETFROM:+0200
TZOFFSETTO:+0100
TZNAME:CET
DTSTART:20201025T010000
END:STANDARD
END:VTIMEZONE
BEGIN:VEVENT
DTSTART;VALUE=DATE:20190406
DTEND;VALUE=DATE:20190407
DTSTAMP:20260423T041456
CREATED:20190318T130741Z
LAST-MODIFIED:20190318T130741Z
UID:13568-1554508800-1554595199@beer.be
SUMMARY:They are FIVE!
DESCRIPTION:Anspach & Hobday just turned FIVE this year! It's our great pleasure to celebrate this 5th birthday at GIST! We will tap their 5 favorite beers they re-brewed for the occasion:\n- The Three Treads - REAL CASK!\n- The Patersbier - TAP\n- The EEEPA - REAL CASK!\n- The Dry Hopped Blonde - TAP\n- The Baltic Porter - TAP
URL:https://beer.be/agenda/they-are-five/
CATEGORIES:Tap Takeover
ATTACH;FMTTYPE=image/jpeg:https://beer.be/wp-content/uploads/2019/03/54514402_622429204864653_2969754428149596160_n.jpg
END:VEVENT
BEGIN:VEVENT
DTSTART;VALUE=DATE:20190412
DTEND;VALUE=DATE:20190413
DTSTAMP:20260423T041456
CREATED:20190408T104557Z
LAST-MODIFIED:20190408T104557Z
UID:13726-1555027200-1555113599@beer.be
SUMMARY:Collab / TTO De Moersleutel
DESCRIPTION:Kan je niet wachten tot Dok brewing festival!om de bieren van Brouwerij de Moersleutel in Gent te drinken? Goed nieuws! Vrijdag 12/4 komt De moersleutel langs om samen met ons een TNNEIPA (Triple Nitrogen New England India Pale Ale) te brouwen. Meer nieuws over het bier volgt. Zoals we gewend zijn van Brouwerij de Moersleutel zullen ze enkele innovatieve\, compromisloze smaakbommen mee hebben. Taplijst komt volgende week online.
URL:https://beer.be/agenda/collab-tto-de-moersleutel/
LOCATION:DOK Brewing Company\, 4B Dok Noord\, Gent\, 9000\, Belgique
CATEGORIES:Tap Takeover
ATTACH;FMTTYPE=image/jpeg:https://beer.be/wp-content/uploads/2019/04/56225939_409992433125881_7315594628223205376_o.jpg
END:VEVENT
BEGIN:VEVENT
DTSTART;VALUE=DATE:20190416
DTEND;VALUE=DATE:20190418
DTSTAMP:20260423T041456
CREATED:20190325T135548Z
LAST-MODIFIED:20190325T135548Z
UID:13628-1555372800-1555545599@beer.be
SUMMARY:A Fierce tap takeover
DESCRIPTION:For our first amazing tap takeover of the year we are proud to present: FIERCE BREWING CO\nThese guys HAIL from Aberdeen (just like us) and will honour us with 20 different beers over two days: the 16th and 17th of April! If you want to know more about this awesome brewery follow this link: https://www.fiercebeer.com/brewery/about-us\n19 of these beauties will be on draft and one will only be available in can. You guys are also going to help us decide some of the beers that will run on the first day by voting on our Facbook page\, so watchout for the polls !
URL:https://beer.be/agenda/a-fierce-tap-takeover/
LOCATION:Brewdog\, Putterij 20\, Brussels\, 1000\, Belgique
CATEGORIES:Tap Takeover
ATTACH;FMTTYPE=image/jpeg:https://beer.be/wp-content/uploads/2019/03/54423200_1504310703032351_8604033840056369152_n.jpg
END:VEVENT
BEGIN:VEVENT
DTSTART;VALUE=DATE:20190427
DTEND;VALUE=DATE:20190428
DTSTAMP:20260423T041456
CREATED:20190408T104450Z
LAST-MODIFIED:20190408T104450Z
UID:13723-1556323200-1556409599@beer.be
SUMMARY:Tap Takeover HillDevils
DESCRIPTION:De brouwers van HillDevils hebben nog nooit een Tap Takeover gedaan met hun bieren. Daar komt zaterdag 27 april 2019 verandering in. Verwacht die avond verse IPA's\, lekker vette Stouts en nog heel wat Barrel Aged bieren van hen\, verdeeld over 8 Taps. Cheers!
URL:https://beer.be/agenda/tap-takeover-hilldevils/
LOCATION:Beerlovers Bar\, Rotterdamstraat 105\, Anvers\, 2060\, Belgique
CATEGORIES:Tap Takeover
ATTACH;FMTTYPE=image/jpeg:https://beer.be/wp-content/uploads/2019/04/56410961_969699700087694_4295664678429786112_n.jpg
END:VEVENT
END:VCALENDAR