BEGIN:VCALENDAR
VERSION:2.0
PRODID:-//Beer.be - ECPv6.15.20//NONSGML v1.0//EN
CALSCALE:GREGORIAN
METHOD:PUBLISH
X-ORIGINAL-URL:https://beer.be
X-WR-CALDESC:Évènements pour Beer.be
REFRESH-INTERVAL;VALUE=DURATION:PT1H
X-Robots-Tag:noindex
X-PUBLISHED-TTL:PT1H
BEGIN:VTIMEZONE
TZID:Europe/Brussels
BEGIN:DAYLIGHT
TZOFFSETFROM:+0100
TZOFFSETTO:+0200
TZNAME:CEST
DTSTART:20180325T010000
END:DAYLIGHT
BEGIN:STANDARD
TZOFFSETFROM:+0200
TZOFFSETTO:+0100
TZNAME:CET
DTSTART:20181028T010000
END:STANDARD
BEGIN:DAYLIGHT
TZOFFSETFROM:+0100
TZOFFSETTO:+0200
TZNAME:CEST
DTSTART:20190331T010000
END:DAYLIGHT
BEGIN:STANDARD
TZOFFSETFROM:+0200
TZOFFSETTO:+0100
TZNAME:CET
DTSTART:20191027T010000
END:STANDARD
BEGIN:DAYLIGHT
TZOFFSETFROM:+0100
TZOFFSETTO:+0200
TZNAME:CEST
DTSTART:20200329T010000
END:DAYLIGHT
BEGIN:STANDARD
TZOFFSETFROM:+0200
TZOFFSETTO:+0100
TZNAME:CET
DTSTART:20201025T010000
END:STANDARD
END:VTIMEZONE
BEGIN:VEVENT
DTSTART;VALUE=DATE:20190502
DTEND;VALUE=DATE:20190503
DTSTAMP:20260423T022909
CREATED:20190502T133802Z
LAST-MODIFIED:20190502T133802Z
UID:13792-1556755200-1556841599@beer.be
SUMMARY:Tap Takeover - SIREN
DESCRIPTION:Na 2 Craft Nights met de bieren van Siren in de bar\, is het eindelijk zover: een eigenlijke Tap Takover met Siren. 2 brouwers van Siren komen die avond de geheimen prijsgeven over Siren\, en we doen dit met oa 8 bieren op de tap.... Cheers\, en tot dan! Donderdag 2 mei 2019\, vanaf 20.00u.
URL:https://beer.be/agenda/tap-takeover-siren/
LOCATION:Beerlovers Bar\, Rotterdamstraat 105\, Anvers\, 2060\, Belgique
CATEGORIES:Tap Takeover
ATTACH;FMTTYPE=image/jpeg:https://beer.be/wp-content/uploads/2019/05/57303298_977052876019043_2340993953572061184_n.jpg
END:VEVENT
BEGIN:VEVENT
DTSTART;VALUE=DATE:20190503
DTEND;VALUE=DATE:20190504
DTSTAMP:20260423T022909
CREATED:20190331T105429Z
LAST-MODIFIED:20190331T105429Z
UID:13678-1556841600-1556927999@beer.be
SUMMARY:Methode Goat tap takeover at Gebrande Winning
DESCRIPTION:Friday May 3rd "Gebrande Winning" in Sint-Truiden will be transformed into a true tasting room for the exclusive Methode Goat beer collection. During this tap takeover you will have the opportunity to try out some beers that have never been released before\, as well as their well-known beers. Apart from this\, there will be a small amount of bottles available for purchase to go.
URL:https://beer.be/agenda/methode-goat-tap-takeover-at-gebrande-winning/
LOCATION:Gebrande Winning\, 7 Zepperenweg\, Saint-Trond\, 3800\, Belgique
CATEGORIES:Tap Takeover
ATTACH;FMTTYPE=image/jpeg:https://beer.be/wp-content/uploads/2019/03/56301828_10161665346240137_3536742578542084096_n.jpg
END:VEVENT
BEGIN:VEVENT
DTSTART;VALUE=DATE:20190503
DTEND;VALUE=DATE:20190504
DTSTAMP:20260423T022909
CREATED:20190502T140449Z
LAST-MODIFIED:20190502T140449Z
UID:13819-1556841600-1556927999@beer.be
SUMMARY:Siren Craft Brew Tap Take Over
DESCRIPTION:Born in the same year as Brussels Beer Project\, Siren is amongst the best breweries in England. In their mind\, a very simple idea: to introduce exciting\, full-ﬂavoured and forward-thinking beers to as many people as possible. Does it ring a bell? They’re taking control of our taps and bringing 10 exceptional beers\, including a DIPA in collab with Northern Monk and an awesome Barrel-Aged Sour Stout!! Will you succumb to the sirens’ song?
URL:https://beer.be/agenda/siren-craft-brew-tap-take-over/
LOCATION:Brussels Beer Project Dansaert\, 188 rue Antoine Dansaert\, Bruxelles\, 1000\, Belgique
CATEGORIES:Tap Takeover
ATTACH;FMTTYPE=image/jpeg:https://beer.be/wp-content/uploads/2019/05/58374403_635669170208032_2730338610174754816_o.jpg
END:VEVENT
BEGIN:VEVENT
DTSTART;VALUE=DATE:20190510
DTEND;VALUE=DATE:20190511
DTSTAMP:20260423T022909
CREATED:20190502T141057Z
LAST-MODIFIED:20190502T141057Z
UID:13829-1557446400-1557532799@beer.be
SUMMARY:TTO + Collab Brew By numbers
DESCRIPTION:Vrijdag 10/5 wordt de Bermondsey beer mile vertegenwoordigd in onze taproom door Brew By Numbers. Overdag brouwen we samen met hen en OR Coffee een Mocha porter. \nDe taplijst voor vrijdagavond zal bestaan uit:\nNEW: Peach and Raspberry IPA\n85: Triple IPA: Mosaic / El dorado / Calypso: 10%\n55: Double IPA: Citra / Ekuanot / Simcoe: 8\,2%\n11: Session IPA: Mosaic: 4\,2%\n05: IPA: Simcoe / Summit: 6\,2%\n01: Saison: Loral: 5%
URL:https://beer.be/agenda/tto-collab-brew-by-numbers/
LOCATION:DOK Brewing Company\, 4B Dok Noord\, Gent\, 9000\, Belgique
CATEGORIES:Tap Takeover
ATTACH;FMTTYPE=image/jpeg:https://beer.be/wp-content/uploads/2019/05/58686627_422399248551866_7474938275682058240_o.jpg
END:VEVENT
BEGIN:VEVENT
DTSTART;VALUE=DATE:20190517
DTEND;VALUE=DATE:20190518
DTSTAMP:20260423T022909
CREATED:20190502T141436Z
LAST-MODIFIED:20190502T141436Z
UID:13832-1558051200-1558137599@beer.be
SUMMARY:Brasserie Iron Tap Takeover
DESCRIPTION:Divine are the brews that we bring you for our second tap takeover of the year. They have been forged in the south of France\, and are constructed with mighty blood and steel in Brasserie Iron .\nThe path was arduous\, the adventures epic\, and thanks to the mighty Hephaestus (great protector of craftsmen) nine of them made it to Brussels:\n1. IPA Amarillo/Simcoe 7%\n2. Sanguine - Hoppy Hibiscus Wheat 4.8%\n3. Sour Mango Onions\n4. Gose Betterave Passion (beetroot&passionfruit Gose) 6.1%\n5. Sour Citron/Aneth (lemon&dill sour) 6%\n6. IPA Citra Cascade Aneth 7%\n7. BBW - Black Berliner Weisse 4%\n8. Barley Wine Potimarron et Miel de Châtaignier (pumpkin and\nchestnut honey) 12%\n9. Imperial Oatmeal Stout Café/Vanille/Cacao/Piments (coffee\, vanilla\, cocoa\, and chilli peppers) 11%\nGather round if you want to listen to more tales of epic brewing for the brewers themselves will be joining us during the event! Thirsty yet?
URL:https://beer.be/agenda/brasserie-iron-tap-takeover/
LOCATION:Brewdog\, Putterij 20\, Brussels\, 1000\, Belgique
CATEGORIES:Tap Takeover
ATTACH;FMTTYPE=image/jpeg:https://beer.be/wp-content/uploads/2019/05/58707917_1533232713473483_6923223316756955136_n.jpg
END:VEVENT
BEGIN:VEVENT
DTSTART;VALUE=DATE:20190524
DTEND;VALUE=DATE:20190525
DTSTAMP:20260423T022909
CREATED:20190516T131138Z
LAST-MODIFIED:20190516T131138Z
UID:13896-1558656000-1558742399@beer.be
SUMMARY:Cyclic Beer Farm Tap takeover & Collab release
DESCRIPTION:We can't be more excited to host our best dudes from Barcelona based brewery Cyclic Beer Farm ! They are one of the most exciting brewery project in Europe based on mixfermentation. We had the chance to brew with them a couple of months ago and the guys (Josh & Alberto) are bringing our collab plus an amazing selection of their delightful beers. \nWe'll have a sexy taplist that goes as follows...\n* Rose-Marie : Our collab brewed at Cyclic. Berliner weisse brewed with wild rosemary and fermented with fresh grapefruit from their farm.\n* Tocar Madera : Our collab brewed at l'Ermitage. Barrel fermented rustic saison\, dryhopped with Saaz.\n* Xino Xano : Dryhopped berliner weisse\n* Jamaica : Sour ale fermented with oranges from their farm and infused with hibiscus.\n* Festa Major : Dryhopped saison.\n* Cuvée 2019 : Blend of three different beers\, one barrel aged brett Saison\, one sour Saison\, and one clean Saison to produce a balanced and complex tart Saison.\n* The One Barrel: This is their barrel aged version of “The One” a Brett/Rye Saison made with 80% organic Belgian pilsner malt\, 20% Belgian malted Rye and hopped with German Perle hops. Primary fermented with their house yeast blend and conditioned with their funky yeast blend (Brettanomyces & Lactic acid bacteria blend) in steel for 2 months before then going into the French oak barrel for 4 months\, which previously held orange wine.\n* Beets 2019 : A mixed fermented Saison with fresh organic Beetroot from their farm added after primary fermentation.\n* Witty Fool : Belgian style Witbier w/ organic oranges from their farm. This is a special seasonal spring release.\n* Matinada : Dry clean dark sour with special additions of coffee from local Barcelona coffee roaster Nømad\, Valencia oranges and dry hopped with Mandarina Bavaria hops.\n* Grisette : Low alcohol\, dry\, refreshing\, light bodied beer with notes of citrus and tropical fruit balanced with earthy continental hop character and moderate bitterness. \nA limited quantity of bottle will also be available for take away. After party will be held at our good friends winebar Rubis with more great beers from Cyclic and of course natural wines. You better be prepared !
URL:https://beer.be/agenda/cyclic-beer-farm-tap-takeover-collab-release/
LOCATION:Nanobrasserie de l'Ermitage\, 28 rue Lambert Crickx\, Bruxelles\, 1070\, Belgique
CATEGORIES:Tap Takeover
ATTACH;FMTTYPE=image/jpeg:https://beer.be/wp-content/uploads/2019/05/60466649_1963166997120979_1451854325079867392_o.jpg
END:VEVENT
BEGIN:VEVENT
DTSTART;VALUE=DATE:20190530
DTEND;VALUE=DATE:20190531
DTSTAMP:20260423T022909
CREATED:20190502T141809Z
LAST-MODIFIED:20190502T141809Z
UID:13838-1559174400-1559260799@beer.be
SUMMARY:To Øl Tap Take Over
DESCRIPTION:Another TTO at the brewery. And we're also really excited about this one. To Øl is a Danish brewery that makes potent beers\, packed with flavour and character. Beers you do not easily forget! Raspberry Vanilla IPA\, 0 IBU - only dry-hopped Citra - IPA ... And 8 more! They're not coming to joke around!
URL:https://beer.be/agenda/to-ol-tap-take-over/
LOCATION:Brussels Beer Project Dansaert\, 188 rue Antoine Dansaert\, Bruxelles\, 1000\, Belgique
CATEGORIES:Tap Takeover
ATTACH;FMTTYPE=image/jpeg:https://beer.be/wp-content/uploads/2019/05/59704659_639579766483639_2853532351126831104_o.jpg
END:VEVENT
BEGIN:VEVENT
DTSTART;VALUE=DATE:20190531
DTEND;VALUE=DATE:20190601
DTSTAMP:20260423T022909
CREATED:20190516T132154Z
LAST-MODIFIED:20190516T132154Z
UID:13907-1559260800-1559347199@beer.be
SUMMARY:Tap Takeover To Øl
DESCRIPTION:Sinds de opening van de bar\, staan de bieren van To Øl zeer regelmatig op de menu. Na bijna 3 jaar mogen we hen eindelijk ontmoeten en 8 bieren van de tap schenken. Verwacht 8 nieuwe bieren uit het To Øl gamma\, gaan van frisse-fruitige-zurige bieren tot dikke vette stouts. Cheers en tot dan!
URL:https://beer.be/agenda/tap-takeover-to-ol/
LOCATION:Beerlovers Bar\, Rotterdamstraat 105\, Anvers\, 2060\, Belgique
CATEGORIES:Tap Takeover
ATTACH;FMTTYPE=image/jpeg:https://beer.be/wp-content/uploads/2019/05/60240122_996182490772748_8263197901304365056_n.jpg
END:VEVENT
END:VCALENDAR