BEGIN:VCALENDAR
VERSION:2.0
PRODID:-//Beer.be - ECPv6.15.20//NONSGML v1.0//EN
CALSCALE:GREGORIAN
METHOD:PUBLISH
X-WR-CALNAME:Beer.be
X-ORIGINAL-URL:https://beer.be
X-WR-CALDESC:Évènements pour Beer.be
REFRESH-INTERVAL;VALUE=DURATION:PT1H
X-Robots-Tag:noindex
X-PUBLISHED-TTL:PT1H
BEGIN:VTIMEZONE
TZID:Europe/Brussels
BEGIN:DAYLIGHT
TZOFFSETFROM:+0100
TZOFFSETTO:+0200
TZNAME:CEST
DTSTART:20180325T010000
END:DAYLIGHT
BEGIN:STANDARD
TZOFFSETFROM:+0200
TZOFFSETTO:+0100
TZNAME:CET
DTSTART:20181028T010000
END:STANDARD
BEGIN:DAYLIGHT
TZOFFSETFROM:+0100
TZOFFSETTO:+0200
TZNAME:CEST
DTSTART:20190331T010000
END:DAYLIGHT
BEGIN:STANDARD
TZOFFSETFROM:+0200
TZOFFSETTO:+0100
TZNAME:CET
DTSTART:20191027T010000
END:STANDARD
BEGIN:DAYLIGHT
TZOFFSETFROM:+0100
TZOFFSETTO:+0200
TZNAME:CEST
DTSTART:20200329T010000
END:DAYLIGHT
BEGIN:STANDARD
TZOFFSETFROM:+0200
TZOFFSETTO:+0100
TZNAME:CET
DTSTART:20201025T010000
END:STANDARD
END:VTIMEZONE
BEGIN:VEVENT
DTSTART;VALUE=DATE:20190603
DTEND;VALUE=DATE:20190605
DTSTAMP:20260423T004418
CREATED:20190601T133110Z
LAST-MODIFIED:20190601T133110Z
UID:13968-1559520000-1559692799@beer.be
SUMMARY:European Craft Beer Tasting - 11 Countries - 12 Beers
DESCRIPTION:On Monday the 3rd and Tuesday the 4th of June\, the The Brewers of Europe Forum takes place in the Flanders Meeting & Convention Center Antwerp (close to Central Station). In addition of this event\, we will setup a special tap list with 12 beers divided over 11 European Countries. Exceptionally we are also open on that Tuesday from 18.00h. Come join us and taste the European Craft Beers. Cheers!
URL:https://beer.be/agenda/european-craft-beer-tasting-11-countries-12-beers/
LOCATION:Beerlovers Bar\, Rotterdamstraat 105\, Anvers\, 2060\, Belgique
CATEGORIES:Tap Takeover
ATTACH;FMTTYPE=image/jpeg:https://beer.be/wp-content/uploads/2019/06/61377283_1008042286253435_9116447816703541248_n.jpg
END:VEVENT
BEGIN:VEVENT
DTSTART;VALUE=DATE:20190608
DTEND;VALUE=DATE:20190609
DTSTAMP:20260423T004418
CREATED:20190601T133630Z
LAST-MODIFIED:20190601T133630Z
UID:13971-1559952000-1560038399@beer.be
SUMMARY:Dog Bless America USA beer showcase
DESCRIPTION:ON DRAFT:\n1. Griffin Claw - Flying Buffalo 12% BBA Imperial Stout\n2. Upland - Rind 5\,5% BA Sour\n3. Upland - Juiced In Time 6\,5% NEIPA\n4. Connecticut Valley - A Fantastic Voyage 6\,5% NEIPA\n5. Connecticut Valley - Let's Fly Away 6\,3% NEIPA\n6. Connecticut Valley - Fueled By Gravity 8% DNEIPA\n7\, 18th Street - Deal With The Devil 8\,5% Double Pale Ale\n8. 18th Street - Nubian Overlord 10% DIPA\n9. Dark Horse - Double Crooked Tree 12% DIPA\n10. Dark Horse - Plead the 5th 11% Imperial Stout\n11. Beer'd Brewing - Frank & Berry 9\,1% DIPA\n12. Beer'd Brewing - World @ Large 6% Pale Ale\n13. Beer'd Brewing - Vegemite Sandwich 9\,5% DIPA \nBOTTLED & CANNED:\n1. Ascension Brewing - Seven Days Sour 5% 473ml Can\n2. Ascension Brewing - Seven Days 5\,3% Cherry Sour 473ml Can\n3. Central Waters - Mango Milkshake 7\,6% IPA 355ml Can\n4. New Holland - Dragons Milk 11% BBA Imperial Stout 355ml Bottle\n5. Black Acre - Bearded Tax 9\,5% Imperial Stout 355ml Can\n6. Octopi - Double IPA 8\,5% 355ml Can\n7. Griffin Claw - Rocky Road 9\,5% Stout 473ml Can\n8. Ellison - Dissenting Opinions 11% BA Barley Wine 473ml Can\n9. Baffin - Mango Unchained 6\,5% Mango IPA 355ml Can\n10. Kuhnhenn - DRIPA 9\,5% Double Rice IPA 355ml Can\n11. Bearded Iris - Homestyle 6% IPA 473ml Can\n12. Bearded Iris - Lucid 9\,5% DIPA 473ml Can\n13. Bearded Iris - Wavelegnth 8\,3% IPA 473ml Can
URL:https://beer.be/agenda/dog-bless-america-usa-beer-showcase/
LOCATION:Brewdog\, Putterij 20\, Brussels\, 1000\, Belgique
CATEGORIES:Tap Takeover
ATTACH;FMTTYPE=image/jpeg:https://beer.be/wp-content/uploads/2019/06/61462720_1556721917791229_429389136374267904_o.jpg
END:VEVENT
BEGIN:VEVENT
DTSTART;VALUE=DATE:20190614
DTEND;VALUE=DATE:20190615
DTSTAMP:20260423T004418
CREATED:20190609T081800Z
LAST-MODIFIED:20190609T081800Z
UID:14002-1560470400-1560556799@beer.be
SUMMARY:Quetsche & Mûre 2019 on Draft
DESCRIPTION:Come to taste the new batches 2019 of the Quetsche Tilquin - Draft Version 5.3% and the Mûre Tilquin - Draft Version 4.8%\, both made with 260 gr fruit per liter! 14 bars in Belgium will pour these two beers at the same time !
URL:https://beer.be/agenda/quetsche-mure-2019-on-draft/
CATEGORIES:Tap Takeover
ATTACH;FMTTYPE=image/jpeg:https://beer.be/wp-content/uploads/2019/06/62184263_2319939268064041_7083975322646872064_o.jpg
END:VEVENT
BEGIN:VEVENT
DTSTART;VALUE=DATE:20190615
DTEND;VALUE=DATE:20190616
DTSTAMP:20260423T004418
CREATED:20190527T124553Z
LAST-MODIFIED:20190527T124553Z
UID:13944-1560556800-1560643199@beer.be
SUMMARY:Du Soleil plein nos verres !
DESCRIPTION:C'est le soleil plein les yeux que j'aurai la joie de vous servir des nectars de la Nanobrasserie de l'Ermitage ! On va enfin pouvoir irradier vos palais ! Il sera question de Soleil et de Théorème. Venez vous noyer dans dans ces brassins hyper houblonnés ! Pas question de jouer l'ermite ce jour là\, ta place est avec nous les joyeux fanfarons du houblon !
URL:https://beer.be/agenda/du-soleil-plein-nos-verres/
LOCATION:Jour de fête\, 16 rue du Christ\, Mouscron\, 7700\, Belgique
CATEGORIES:Tap Takeover
ATTACH;FMTTYPE=image/jpeg:https://beer.be/wp-content/uploads/2019/05/60791311_888436208215070_7510246102310846464_n.jpg
END:VEVENT
BEGIN:VEVENT
DTSTART;VALUE=DATE:20190625
DTEND;VALUE=DATE:20190626
DTSTAMP:20260423T004418
CREATED:20190625T094741Z
LAST-MODIFIED:20190625T094741Z
UID:14039-1561420800-1561507199@beer.be
SUMMARY:Big Belly Brewing Tap Takeover
DESCRIPTION:We are very proud to have them in: these guys from Breda are amazing at making our tastebuds happy with their beers! It will be their first time in Brussels so let's give a warm welcome to Big Belly Brewing ! \nON DRAFT:\nMo Phi - 4.5% Pale Wheat Ale\nSmooth - Louis 7% American Amber Ale\nAdam - Belgian Tripel 8.5%\nBockenreyder - 7% Weizenbock\nAhanu - #002 - Ariana+Citra+El Dorado - 8% NEIPA\nCabrón - 7.5% IPA\nPapa Midnight - 9% Red Ale\nLiquid Desserts 03 - 11.5% Coconut Chocolate Chip Cookie Quadruple\nLiquid Desserts 04 - 8.5% Juicy White Peach Cheesecake IPA\nAnd in 50cl cans\, the collaboration between the "two bellies" Big Belly Brewing and YellowBelly Beer : BELLYDANCE a 6.9% grape and lime IPA
URL:https://beer.be/agenda/big-belly-brewing-tap-takeover/
LOCATION:Brewdog\, Putterij 20\, Brussels\, 1000\, Belgique
CATEGORIES:Tap Takeover
ATTACH;FMTTYPE=image/jpeg:https://beer.be/wp-content/uploads/2019/06/64657052_1571006516362769_179880828153626624_n.jpg
END:VEVENT
END:VCALENDAR