BEGIN:VCALENDAR
VERSION:2.0
PRODID:-//Beer.be - ECPv6.15.20//NONSGML v1.0//EN
CALSCALE:GREGORIAN
METHOD:PUBLISH
X-ORIGINAL-URL:https://beer.be
X-WR-CALDESC:Évènements pour Beer.be
REFRESH-INTERVAL;VALUE=DURATION:PT1H
X-Robots-Tag:noindex
X-PUBLISHED-TTL:PT1H
BEGIN:VTIMEZONE
TZID:Europe/Brussels
BEGIN:DAYLIGHT
TZOFFSETFROM:+0100
TZOFFSETTO:+0200
TZNAME:CEST
DTSTART:20180325T010000
END:DAYLIGHT
BEGIN:STANDARD
TZOFFSETFROM:+0200
TZOFFSETTO:+0100
TZNAME:CET
DTSTART:20181028T010000
END:STANDARD
BEGIN:DAYLIGHT
TZOFFSETFROM:+0100
TZOFFSETTO:+0200
TZNAME:CEST
DTSTART:20190331T010000
END:DAYLIGHT
BEGIN:STANDARD
TZOFFSETFROM:+0200
TZOFFSETTO:+0100
TZNAME:CET
DTSTART:20191027T010000
END:STANDARD
BEGIN:DAYLIGHT
TZOFFSETFROM:+0100
TZOFFSETTO:+0200
TZNAME:CEST
DTSTART:20200329T010000
END:DAYLIGHT
BEGIN:STANDARD
TZOFFSETFROM:+0200
TZOFFSETTO:+0100
TZNAME:CET
DTSTART:20201025T010000
END:STANDARD
END:VTIMEZONE
BEGIN:VEVENT
DTSTART;VALUE=DATE:20191011
DTEND;VALUE=DATE:20191014
DTSTAMP:20260422T181632
CREATED:20191002T073642Z
LAST-MODIFIED:20191002T073642Z
UID:14379-1570752000-1571011199@beer.be
SUMMARY:TTO Stigbergets & Ten Hands
DESCRIPTION:TTO with 2 big names of the Swedish craft beer scene \nStigbergets Bryggeri from Göteborg\, our long time partners: \nDouble Headed DDH West Coast IPA - DDH West Coast IPA\nMandereen - Session IPA collab med Martin "Mander" Ander\nMorgonsuris - Raspberry-Cherry-Lingonberry-Juniper-Beetroot-Berliner Weisse\nNew and Improved GBG - New England IPA. The official sequel of GBG Beer Week 2016.\nPanta Rei - American IPA\nPilsner - Pilsener\nStigbergets / Garage Oceans Apart - IPA\nWest Coast IPA - India Pale Ale\nYanga Wake AM - Chocolate Cinnamon Vanilla Imperial Stout \nTen Hands Brewing from Karlstad\, a brand new brewery\, but already in love with their beers! \nPlanet Guava - Hazy IPA with Guava Puree\, dry hopped with Citra and Mosaic\nDragonfly - Hazy IPA\nDDH Surfin' Safari - West Coast IPA
URL:https://beer.be/agenda/tto-stigbergets-ten-hands/
LOCATION:Beergium Bar\, 1227 Chaussée de Waterloo\, Bruxelles\, 1180\, Belgique
CATEGORIES:Tap Takeover
ATTACH;FMTTYPE=image/jpeg:https://beer.be/wp-content/uploads/2019/10/71898242_2466049010298875_3347781420725567488_o.jpg
END:VEVENT
BEGIN:VEVENT
DTSTART;VALUE=DATE:20191011
DTEND;VALUE=DATE:20191015
DTSTAMP:20260422T181632
CREATED:20191002T074053Z
LAST-MODIFIED:20191002T074053Z
UID:14382-1570752000-1571097599@beer.be
SUMMARY:To ØL Tap Takeover 11 - 10
DESCRIPTION:They are defiant. They've been producing liquid hapiness since 2010. They transformed the essence of gypsy brewing. They are one of the most important modern international breweries.and all of their brews are lusted after by most beer lovers. We are proud to announce that: \nOn the 11th of october To Øl comes back to Brussels with a lot of new and few of their old guard classics that we can't stop sipping. Taplist to be revealed soon. For now\, let mystery surround this coordinated attack of malt\, water\, yeast and hops.
URL:https://beer.be/agenda/to-ol-tap-takeover-11-10/
LOCATION:Brewdog\, Putterij 20\, Brussels\, 1000\, Belgique
CATEGORIES:Tap Takeover
ATTACH;FMTTYPE=image/jpeg:https://beer.be/wp-content/uploads/2019/10/71279532_1655353891261364_3004896091083636736_o.jpg
END:VEVENT
BEGIN:VEVENT
DTSTART;VALUE=DATE:20191017
DTEND;VALUE=DATE:20191018
DTSTAMP:20260422T181632
CREATED:20191015T151402Z
LAST-MODIFIED:20191015T151402Z
UID:14430-1571270400-1571356799@beer.be
SUMMARY:Moving Fermentation #1
DESCRIPTION:Fresh news from our taps 😜 Directly from the woods of southern England. We are so happy to introduce you a new reality for the Moeder's family: Vibrant Forest Brewery 🌲🌳 \nWe'll block 8 lines at - Moeder Lambic Fontainas - from Thursday\, October 17th (11am) until ... the death of the kegs\, of course. 😎 \nOn tap this Thursday :\n• Summerlands 3.5% Session IPA\n• Pupa 4.5% Juicy Pale Ale\n• Chinook 5% Single Hop Pale\n• Kaleidoscope 6.5% India Pale Ale\n• Stone Sap 6.8% New England IPA\n• Barbarella 6.2% Rhubarb IPA\n• Black Forest 4.9% Porter\n• Duelling Scarabs 8% DIPA
URL:https://beer.be/agenda/moving-fermentation-1/
LOCATION:Moeder Lambic Fontainas\, 8 place Fontainas\, Bruxelles\, Bruxelles\, 1000\, Belgique
CATEGORIES:Tap Takeover
ATTACH;FMTTYPE=image/jpeg:https://beer.be/wp-content/uploads/2019/10/71890343_10156815166272686_3586394852910170112_o.jpg
END:VEVENT
BEGIN:VEVENT
DTSTART;VALUE=DATE:20191024
DTEND;VALUE=DATE:20191025
DTSTAMP:20260422T181632
CREATED:20191010T072053Z
LAST-MODIFIED:20191010T072053Z
UID:14401-1571875200-1571961599@beer.be
SUMMARY:BBP // Siphon Brewing Tap Takeover
DESCRIPTION:Come and meet Siphon Brewing ! Where Old World meets New World. A small Belgian brewery on the grounds of a four-generation-old family restaurant in Damme. They brew classic Belgian styles with a twist\, as well as international styles not always common in Belgium.
URL:https://beer.be/agenda/bbp-siphon-brewing-tap-takeover/
LOCATION:Brussels Beer Project Dansaert\, 188 rue Antoine Dansaert\, Bruxelles\, 1000\, Belgique
CATEGORIES:Tap Takeover
ATTACH;FMTTYPE=image/jpeg:https://beer.be/wp-content/uploads/2019/10/71475831_732667677174847_1049726252371410944_o.jpg
END:VEVENT
BEGIN:VEVENT
DTSTART;VALUE=DATE:20191031
DTEND;VALUE=DATE:20191101
DTSTAMP:20260422T181632
CREATED:20191015T151737Z
LAST-MODIFIED:20191015T151737Z
UID:14436-1572480000-1572566399@beer.be
SUMMARY:It's a Fantôme Halloween
DESCRIPTION:A small showcase of Fantômes latest (and not only) creations. 4 beers 4 kegs 1 spooky night in the name of craft beer excellence!
URL:https://beer.be/agenda/its-a-fantome-halloween/
LOCATION:Brewdog\, Putterij 20\, Brussels\, 1000\, Belgique
CATEGORIES:Tap Takeover
ATTACH;FMTTYPE=image/jpeg:https://beer.be/wp-content/uploads/2019/10/72488071_1670232369773516_2802152056796741632_n.jpg
END:VEVENT
BEGIN:VEVENT
DTSTART;VALUE=DATE:20191031
DTEND;VALUE=DATE:20191104
DTSTAMP:20260422T181632
CREATED:20191020T070822Z
LAST-MODIFIED:20191020T070822Z
UID:14464-1572480000-1572825599@beer.be
SUMMARY:Hoof Hearted @Beergium BAR
DESCRIPTION:🍻 10 TAPS of 💨 Hoof Hearted Brewing 💨 from Columbus\, Ohio 👉 OHIO's best ⏩ Check them on Untappd\, the selection we'll offer have ratings between 4.17 & 4.63........!!!!! Not so BAD 🤣 \nQuit Your Fussin On Me - 4.17 !! 🤪 Sour DIPA w/ Boysenberries\, Blackberries\, Raspberries\, Vanilla & Milk Sugar\, 9%\nCowboy Konkey Dong - 4.32 !! 😱 DDH DIPA\, 8%\nRoller Blabe 3DH - 4.32 !! 😵 Triple Dry-Hopped DIPA\, 8%\nSouth of Eleven - 4.18 !! 😳 Hessian DIPA\, 10\,2%\nEverybody Wants Some (Vic Secret) - 4.20 !! 😱 Triple Dry-Hopped DIPA\, 9\,2%\nDragonsaddle - 4.63 !!!!!!!!!!!!!!!!!!!! 🤪🤪🤪🤪 Triple IPA\, 11\,5%Even More Tennis Elbow - 4.34 !!! 😵 Imperial Stout w/ Hazelnut\, Coconut & Vanilla\, 13% (Collab with Evil Twin Brewing)\nBourbon Barrel Aged Motion Lao-tion - 4.26 !! 😵 Imperial Stout w/ Laotion Coffee\, 11\,5% (Collab with Horus Aged Ales)\nBourbon Barrel Aged Fitness Freak - 4.46 !!!!! 🤪 Imperial Stout w/ Vanilla\, Maple & Hoof Hearted Coffee\, 14%\nBourbon Barrel Aged Girth Brooks - 4.48 !!!!!!!!!!!!!!!!!!!!!!!!!! 🤪 Imperial Stout w/ Coffee\, Coconut & Vanilla\, 15%
URL:https://beer.be/agenda/hoof-hearted-beergium-bar/
LOCATION:Beergium Bar\, 1227 Chaussée de Waterloo\, Bruxelles\, 1180\, Belgique
CATEGORIES:Tap Takeover
ATTACH;FMTTYPE=image/jpeg:https://beer.be/wp-content/uploads/2019/10/73067258_2473438712893238_5122369801859104768_n.jpg
END:VEVENT
END:VCALENDAR